BEGIN:VCALENDAR
VERSION:2.0
PRODID:icalendar-ruby
CALSCALE:GREGORIAN
BEGIN:VTIMEZONE
TZID:America/New_York
BEGIN:DAYLIGHT
DTSTART:20260308T030000
TZOFFSETFROM:-0500
TZOFFSETTO:-0400
RRULE:FREQ=YEARLY;BYDAY=2SU;BYMONTH=3
TZNAME:EDT
END:DAYLIGHT
BEGIN:STANDARD
DTSTART:20261101T010000
TZOFFSETFROM:-0400
TZOFFSETTO:-0500
RRULE:FREQ=YEARLY;BYDAY=1SU;BYMONTH=11
TZNAME:EST
END:STANDARD
END:VTIMEZONE
BEGIN:VEVENT
DTSTAMP:20260423T111042Z
UID:2d6ef6e7-8642-464a-ba65-9f81c0a63b6a
DTSTART:20260423T173000
DTEND:20260423T200000
DESCRIPTION:
LOCATION:
SUMMARY:Soccer vs\, Avon Park (Home)
END:VEVENT
BEGIN:VEVENT
DTSTAMP:20260423T111042Z
UID:a8f094a1-8da0-4dac-a447-ed8c7919bead
DTSTART:20260428T173000
DTEND:20260428T200000
DESCRIPTION:
LOCATION:
SUMMARY:Soccer vs. Hill-Gustat (Home)
END:VEVENT
BEGIN:VEVENT
DTSTAMP:20260423T111042Z
UID:a4e08230-4909-4fe7-84f1-2096d419bbed
DTSTART;VALUE=DATE:20260429
DTEND;VALUE=DATE:20260430
DESCRIPTION:
LOCATION:
SUMMARY:Progress Reports - 4th quarter
END:VEVENT
BEGIN:VEVENT
DTSTAMP:20260423T111042Z
UID:6ebe529c-8b3e-4d6a-8780-f7b5d3205531
DTSTART:20260429T153000
DTEND:20260429T163000
DESCRIPTION:
LOCATION:
SUMMARY:PAC Club Meeting
END:VEVENT
BEGIN:VEVENT
DTSTAMP:20260423T111042Z
UID:31113c77-b5e3-4f25-b303-780e16e690d8
DTSTART:20260430T173000
DTEND:20260430T200000
DESCRIPTION:
LOCATION:
SUMMARY:Soccer vs. Yearling (Home)
END:VEVENT
BEGIN:VEVENT
DTSTAMP:20260423T111042Z
UID:447649bb-c425-4129-a904-3a5e8e21ce09
DTSTART:20260504T183000
DTEND:20260504T193000
DESCRIPTION:
LOCATION:Gym
SUMMARY:Football Meeting
END:VEVENT
BEGIN:VEVENT
DTSTAMP:20260423T111042Z
UID:b0a3eea5-eddc-4ae1-a16f-24a9a7e674af
DTSTART:20260505T060000
DTEND:20260505T080000
DESCRIPTION:
LOCATION:
SUMMARY:PM3 Testing Math Grades LPM
END:VEVENT
BEGIN:VEVENT
DTSTAMP:20260423T111042Z
UID:39cdecb7-7423-4c38-b12b-4eaa0b5bdadc
DTSTART:20260505T173000
DTEND:20260505T200000
DESCRIPTION:
LOCATION:
SUMMARY:Soccer vs. DeSoto (Home)
END:VEVENT
BEGIN:VEVENT
DTSTAMP:20260423T111042Z
UID:87587f18-3966-4549-9590-0725cf5e1bf1
DTSTART:20260506T153000
DTEND:20260506T163000
DESCRIPTION:
LOCATION:
SUMMARY:PAC Club Meeting
END:VEVENT
BEGIN:VEVENT
DTSTAMP:20260423T111042Z
UID:fcb1d145-7be6-49b3-b997-885eced94d52
DTSTART;VALUE=DATE:20260507
DTEND;VALUE=DATE:20260508
DESCRIPTION:
LOCATION:
SUMMARY:FAST Science Grade 8
END:VEVENT
BEGIN:VEVENT
DTSTAMP:20260423T111042Z
UID:39de1fca-83fc-4462-8e5f-62dc862bc2c0
DTSTART:20260507T080000
DTEND:20260507T083000
DESCRIPTION:
LOCATION:LPM Media Center
SUMMARY:FCA Meeting
END:VEVENT
BEGIN:VEVENT
DTSTAMP:20260423T111042Z
UID:fd5c2545-ee2e-4807-9377-312fac05c344
DTSTART:20260507T173000
DTEND:20260507T200000
DESCRIPTION:
LOCATION:
SUMMARY:Soccer @ Hill-Gustat (Away) 
END:VEVENT
BEGIN:VEVENT
DTSTAMP:20260423T111042Z
UID:a11bcfc7-ee7e-44a4-8d2d-518a30707409
DTSTART;VALUE=DATE:20260511
DTEND;VALUE=DATE:20260512
DESCRIPTION:
LOCATION:
SUMMARY:LPM Algebra EOC
END:VEVENT
BEGIN:VEVENT
DTSTAMP:20260423T111042Z
UID:6019aef6-31b1-48ef-9205-d7b4436eb5f1
DTSTART:20260512T060000
DTEND:20260512T080000
DESCRIPTION:
LOCATION:
SUMMARY:PM3 Testing ELA Grades LPM
END:VEVENT
BEGIN:VEVENT
DTSTAMP:20260423T111042Z
UID:9a3070f8-a93f-41ad-98c2-59deb048383c
DTSTART:20260513T153000
DTEND:20260513T163000
DESCRIPTION:
LOCATION:
SUMMARY:PAC Club Meeting
END:VEVENT
BEGIN:VEVENT
DTSTAMP:20260423T111042Z
UID:8e37a2b1-51ec-4b59-8a14-5ed57f78e17f
DTSTART;VALUE=DATE:20260514
DTEND;VALUE=DATE:20260515
DESCRIPTION:
LOCATION:
SUMMARY:Civics EOC - Grade 8
END:VEVENT
BEGIN:VEVENT
DTSTAMP:20260423T111042Z
UID:d6720150-7239-4f07-9ff6-64e815e98082
DTSTART;VALUE=DATE:20260522
DTEND;VALUE=DATE:20260523
DESCRIPTION:
LOCATION:
SUMMARY:Students Last Day - Early Release - End of 4th quarter & 2nd semest
 er
END:VEVENT
BEGIN:VEVENT
DTSTAMP:20260423T111042Z
UID:10917954-b835-45f6-8888-6d3122e6e1cf
DTSTART;VALUE=DATE:20260525
DTEND;VALUE=DATE:20260526
DESCRIPTION:
LOCATION:
SUMMARY:No School - Holiday
END:VEVENT
END:VCALENDAR
