BEGIN:VCALENDAR
VERSION:2.0
PRODID:icalendar-ruby
CALSCALE:GREGORIAN
BEGIN:VTIMEZONE
TZID:America/Denver
BEGIN:DAYLIGHT
DTSTART:20260308T030000
TZOFFSETFROM:-0700
TZOFFSETTO:-0600
RRULE:FREQ=YEARLY;BYDAY=2SU;BYMONTH=3
TZNAME:MDT
END:DAYLIGHT
BEGIN:STANDARD
DTSTART:20261101T010000
TZOFFSETFROM:-0600
TZOFFSETTO:-0700
RRULE:FREQ=YEARLY;BYDAY=1SU;BYMONTH=11
TZNAME:MST
END:STANDARD
END:VTIMEZONE
BEGIN:VEVENT
DTSTAMP:20260421T195038Z
UID:af0366c9-4889-4354-93ef-48c42b4076b3
DTSTART:20260423T190000
DTEND:20260423T200000
DESCRIPTION:<html><head><meta http-equiv="Content-Type" content="text/html\
 ; charset=utf-8"><meta name="Generator" content="Microsoft Exchange Server
 "><!-- converted from rtf --><style><!-- .EmailQuote { margin-left: 1pt\; 
 padding-left: 4pt\; border-left: #800000 2px solid\; } --></style></head><
 body><font face="Times New Roman" size="3"><span style="font-size:12pt\;">
 <a name="BM_BEGIN"></a><div><font size="2"><span style="font-size:11pt\;">
 @ Powell High School - Commons End time: 8:00pm K-12 Art Show - Cool Art &
 amp\; Hot Jazz</span></font></div></span></font></body></html>
LOCATION:Powell High School - Commons
SUMMARY:PCSD1 - School Activities
END:VEVENT
END:VCALENDAR
