BEGIN:VCALENDAR
VERSION:2.0
PRODID:icalendar-ruby
CALSCALE:GREGORIAN
BEGIN:VTIMEZONE
TZID:America/Denver
BEGIN:DAYLIGHT
DTSTART:20260308T030000
TZOFFSETFROM:-0700
TZOFFSETTO:-0600
RRULE:FREQ=YEARLY;BYDAY=2SU;BYMONTH=3
TZNAME:MDT
END:DAYLIGHT
BEGIN:STANDARD
DTSTART:20261101T010000
TZOFFSETFROM:-0600
TZOFFSETTO:-0700
RRULE:FREQ=YEARLY;BYDAY=1SU;BYMONTH=11
TZNAME:MST
END:STANDARD
END:VTIMEZONE
BEGIN:VEVENT
DTSTAMP:20260423T122927Z
UID:6fd3271d-e917-45fe-a9fb-a30f196d5892
DTSTART:20260423T160000
DTEND:20260423T203000
DESCRIPTION:<html><head><meta http-equiv="Content-Type" content="text/html\
 ; charset=utf-8"><meta name="Generator" content="Microsoft Exchange Server
 "><!-- converted from rtf --><style><!-- .EmailQuote { margin-left: 1pt\; 
 padding-left: 4pt\; border-left: #800000 2px solid\; } --></style></head><
 body><font face="Times New Roman" size="3"><span style="font-size:12pt\;">
 <a name="BM_BEGIN"></a><div><font size="2"><span style="font-size:11pt\;">
 @ Powell Middle School - Multi-Purpose Room End time: 8:30pm</span></font>
 </div></span></font></body></html>
LOCATION:Powell Middle School - Multi-Purpose Room
SUMMARY:Rec Dept Gymnastics
END:VEVENT
BEGIN:VEVENT
DTSTAMP:20260423T122927Z
UID:b0d14f09-8daa-4b6c-8ed9-fb9eeb9a8fde
DTSTART:20260423T190000
DTEND:20260423T200000
DESCRIPTION:<html><head><meta http-equiv="Content-Type" content="text/html\
 ; charset=utf-8"><meta name="Generator" content="Microsoft Exchange Server
 "><!-- converted from rtf --><style><!-- .EmailQuote { margin-left: 1pt\; 
 padding-left: 4pt\; border-left: #800000 2px solid\; } --></style></head><
 body><font face="Times New Roman" size="3"><span style="font-size:12pt\;">
 <a name="BM_BEGIN"></a><div><font size="2"><span style="font-size:11pt\;">
 @ Powell High School - Commons End time: 8:00pm K-12 Art Show - Cool Art &
 amp\; Hot Jazz</span></font></div></span></font></body></html>
LOCATION:Powell High School - Commons
SUMMARY:PCSD1 - School Activities
END:VEVENT
BEGIN:VEVENT
DTSTAMP:20260423T122927Z
UID:f754d82b-e557-40c7-bb82-ff64ae1288b7
DTSTART:20260424T160000
DTEND:20260424T160000
DESCRIPTION:<html><head><meta http-equiv="Content-Type" content="text/html\
 ; charset=utf-8"><meta name="Generator" content="Microsoft Exchange Server
 "><!-- converted from rtf --><style><!-- .EmailQuote { margin-left: 1pt\; 
 padding-left: 4pt\; border-left: #800000 2px solid\; } --></style></head><
 body><font face="Times New Roman" size="3"><span style="font-size:12pt\;">
 <a name="BM_BEGIN"></a><div><font size="2"><span style="font-size:11pt\;">
 Buffalo vs Powell Middle School@ Worland Middle School </span></font></div
 ></span></font></body></html>
LOCATION:Worland Middle School
SUMMARY:Soccer:Boys MS vs Powell Middle School
END:VEVENT
BEGIN:VEVENT
DTSTAMP:20260423T122927Z
UID:bb86c783-91bb-4856-9fde-2564c665b52e
DTSTART:20260424T160000
DTEND:20260424T160000
DESCRIPTION:<html><head><meta http-equiv="Content-Type" content="text/html\
 ; charset=utf-8"><meta name="Generator" content="Microsoft Exchange Server
 "><!-- converted from rtf --><style><!-- .EmailQuote { margin-left: 1pt\; 
 padding-left: 4pt\; border-left: #800000 2px solid\; } --></style></head><
 body><font face="Times New Roman" size="3"><span style="font-size:12pt\;">
 <a name="BM_BEGIN"></a><div><font size="2"><span style="font-size:11pt\;">
 Buffalo vs Powell Middle School@ Worland Middle School </span></font></div
 ></span></font></body></html>
LOCATION:Worland Middle School
SUMMARY:Soccer:Girls MS vs Powell Middle School
END:VEVENT
BEGIN:VEVENT
DTSTAMP:20260423T122927Z
UID:637ce003-9207-477e-aa77-b6074822244b
DTSTART:20260425T100000
DTEND:20260425T100000
DESCRIPTION:<html><head><meta http-equiv="Content-Type" content="text/html\
 ; charset=utf-8"><meta name="Generator" content="Microsoft Exchange Server
 "><!-- converted from rtf --><style><!-- .EmailQuote { margin-left: 1pt\; 
 padding-left: 4pt\; border-left: #800000 2px solid\; } --></style></head><
 body><font face="Times New Roman" size="3"><span style="font-size:12pt\;">
 <a name="BM_BEGIN"></a><div><font size="2"><span style="font-size:11pt\;">
 Powell Middle School vs Cody\,Lander Middle\,Meeteetse\,Riverton\,Sheridan
 \,Worland@ Powell High School </span></font></div></span></font></body></h
 tml>
LOCATION:Powell High School
SUMMARY:Track MS vs Cody\,Lander Middle\,Meeteetse\,Riverton\,Sheridan\,Wor
 land
END:VEVENT
BEGIN:VEVENT
DTSTAMP:20260423T122927Z
UID:2a461836-2d5b-477d-b8a7-d3f811153f71
DTSTART;VALUE=DATE:20260427
DTEND;VALUE=DATE:20260428
DESCRIPTION:<html><head><meta http-equiv="Content-Type" content="text/html\
 ; charset=utf-8"><meta name="Generator" content="Microsoft Exchange Server
 "><!-- converted from rtf --><style><!-- .EmailQuote { margin-left: 1pt\; 
 padding-left: 4pt\; border-left: #800000 2px solid\; } --></style></head><
 body><font face="Times New Roman" size="3"><span style="font-size:12pt\;">
 <a name="BM_BEGIN"></a><div><font size="2"><span style="font-size:11pt\;">
  Snow Day - no school unless needed for make-up day for earlier weather da
 y.</span></font></div></span></font></body></html>
LOCATION:
SUMMARY:PCSD1 - No School
END:VEVENT
BEGIN:VEVENT
DTSTAMP:20260423T122927Z
UID:e4fbd3ac-7362-4666-bb2f-84e3c9720019
DTSTART:20260427T160000
DTEND:20260427T170000
DESCRIPTION:<html><head><meta http-equiv="Content-Type" content="text/html\
 ; charset=utf-8"><meta name="Generator" content="Microsoft Exchange Server
 "><!-- converted from rtf --><style><!-- .EmailQuote { margin-left: 1pt\; 
 padding-left: 4pt\; border-left: #800000 2px solid\; } --></style></head><
 body><font face="Times New Roman" size="3"><span style="font-size:12pt\;">
 <a name="BM_BEGIN"></a><div><font size="2"><span style="font-size:11pt\;">
 @ Powell Middle School - Multipurpose Room End time: 5:00pm PMS Wrestling 
 Open Mats</span></font></div></span></font></body></html>
LOCATION:Powell Middle School - Multipurpose Room
SUMMARY:Sports Practice
END:VEVENT
BEGIN:VEVENT
DTSTAMP:20260423T122927Z
UID:abc491db-fc1d-4c1a-8a84-d3c7229f3dfc
DTSTART:20260428T143000
DTEND:20260428T143000
DESCRIPTION:<html><head><meta http-equiv="Content-Type" content="text/html\
 ; charset=utf-8"><meta name="Generator" content="Microsoft Exchange Server
 "><!-- converted from rtf --><style><!-- .EmailQuote { margin-left: 1pt\; 
 padding-left: 4pt\; border-left: #800000 2px solid\; } --></style></head><
 body><font face="Times New Roman" size="3"><span style="font-size:12pt\;">
 <a name="BM_BEGIN"></a><div><font size="2"><span style="font-size:11pt\;">
 Riverton Middle vs Powell Middle School@ Riverton High School </span></fon
 t></div></span></font></body></html>
LOCATION:Riverton High School
SUMMARY:Soccer:Girls MS vs Powell Middle School
END:VEVENT
BEGIN:VEVENT
DTSTAMP:20260423T122927Z
UID:6d4aebf9-1c8f-422a-a921-0513ddc5bdda
DTSTART:20260428T160000
DTEND:20260428T203000
DESCRIPTION:<html><head><meta http-equiv="Content-Type" content="text/html\
 ; charset=utf-8"><meta name="Generator" content="Microsoft Exchange Server
 "><!-- converted from rtf --><style><!-- .EmailQuote { margin-left: 1pt\; 
 padding-left: 4pt\; border-left: #800000 2px solid\; } --></style></head><
 body><font face="Times New Roman" size="3"><span style="font-size:12pt\;">
 <a name="BM_BEGIN"></a><div><font size="2"><span style="font-size:11pt\;">
 @ Powell Middle School - Multi-Purpose Room End time: 8:30pm</span></font>
 </div></span></font></body></html>
LOCATION:Powell Middle School - Multi-Purpose Room
SUMMARY:Rec Dept Gymnastics
END:VEVENT
BEGIN:VEVENT
DTSTAMP:20260423T122927Z
UID:3ac1609f-8633-43c3-9d92-133ad642c712
DTSTART:20260428T160000
DTEND:20260428T160000
DESCRIPTION:<html><head><meta http-equiv="Content-Type" content="text/html\
 ; charset=utf-8"><meta name="Generator" content="Microsoft Exchange Server
 "><!-- converted from rtf --><style><!-- .EmailQuote { margin-left: 1pt\; 
 padding-left: 4pt\; border-left: #800000 2px solid\; } --></style></head><
 body><font face="Times New Roman" size="3"><span style="font-size:12pt\;">
 <a name="BM_BEGIN"></a><div><font size="2"><span style="font-size:11pt\;">
 Riverton Middle vs Powell Middle School@ Riverton High School </span></fon
 t></div></span></font></body></html>
LOCATION:Riverton High School
SUMMARY:Soccer:Boys MS vs Powell Middle School
END:VEVENT
BEGIN:VEVENT
DTSTAMP:20260423T122927Z
UID:2888aa31-ef67-4b19-9065-5d1e9f3bf0e2
DTSTART:20260428T180000
DTEND:20260428T200000
DESCRIPTION:<html><head><meta http-equiv="Content-Type" content="text/html\
 ; charset=utf-8"><meta name="Generator" content="Microsoft Exchange Server
 "><!-- converted from rtf --><style><!-- .EmailQuote { margin-left: 1pt\; 
 padding-left: 4pt\; border-left: #800000 2px solid\; } --></style></head><
 body><font face="Times New Roman" size="3"><span style="font-size:12pt\;">
 <a name="BM_BEGIN"></a><div><font size="2"><span style="font-size:11pt\;">
 @ Administration Building End time: 8:00pm</span></font></div></span></fon
 t></body></html>
LOCATION:Administration Building
SUMMARY:PCSD1 Board of Trustees Meeting
END:VEVENT
BEGIN:VEVENT
DTSTAMP:20260423T122927Z
UID:d2a9796e-1f77-4fee-a9df-329997fcf6f5
DTSTART:20260430T160000
DTEND:20260430T203000
DESCRIPTION:<html><head><meta http-equiv="Content-Type" content="text/html\
 ; charset=utf-8"><meta name="Generator" content="Microsoft Exchange Server
 "><!-- converted from rtf --><style><!-- .EmailQuote { margin-left: 1pt\; 
 padding-left: 4pt\; border-left: #800000 2px solid\; } --></style></head><
 body><font face="Times New Roman" size="3"><span style="font-size:12pt\;">
 <a name="BM_BEGIN"></a><div><font size="2"><span style="font-size:11pt\;">
 @ Powell Middle School - Gym End time: 8:30pm</span></font></div></span></
 font></body></html>
LOCATION:Powell Middle School - Gym
SUMMARY:Rec Dept Gymnastics
END:VEVENT
BEGIN:VEVENT
DTSTAMP:20260423T122927Z
UID:2dda2a36-40f0-4026-b889-2f32de67c167
DTSTART:20260501T150000
DTEND:20260501T150000
DESCRIPTION:<html><head><meta http-equiv="Content-Type" content="text/html\
 ; charset=utf-8"><meta name="Generator" content="Microsoft Exchange Server
 "><!-- converted from rtf --><style><!-- .EmailQuote { margin-left: 1pt\; 
 padding-left: 4pt\; border-left: #800000 2px solid\; } --></style></head><
 body><font face="Times New Roman" size="3"><span style="font-size:12pt\;">
 <a name="BM_BEGIN"></a><div><font size="2"><span style="font-size:11pt\;">
 Lander Middle vs Powell Middle School@ Lander Middle School </span></font>
 </div></span></font></body></html>
LOCATION:Lander Middle School
SUMMARY:Soccer:Girls MS vs Powell Middle School
END:VEVENT
BEGIN:VEVENT
DTSTAMP:20260423T122927Z
UID:2c78d72c-6580-4767-a88c-b152967113e0
DTSTART:20260501T163000
DTEND:20260501T163000
DESCRIPTION:<html><head><meta http-equiv="Content-Type" content="text/html\
 ; charset=utf-8"><meta name="Generator" content="Microsoft Exchange Server
 "><!-- converted from rtf --><style><!-- .EmailQuote { margin-left: 1pt\; 
 padding-left: 4pt\; border-left: #800000 2px solid\; } --></style></head><
 body><font face="Times New Roman" size="3"><span style="font-size:12pt\;">
 <a name="BM_BEGIN"></a><div><font size="2"><span style="font-size:11pt\;">
 Lander Middle vs Powell Middle School@ Lander Valley High School </span></
 font></div></span></font></body></html>
LOCATION:Lander Valley High School
SUMMARY:Soccer:Boys MS vs Powell Middle School
END:VEVENT
BEGIN:VEVENT
DTSTAMP:20260423T122927Z
UID:1e9173fb-2860-4e19-9c77-cdb48d5eb9fc
DTSTART:20260509T093000
DTEND:20260509T093000
DESCRIPTION:<html><head><meta http-equiv="Content-Type" content="text/html\
 ; charset=utf-8"><meta name="Generator" content="Microsoft Exchange Server
 "><!-- converted from rtf --><style><!-- .EmailQuote { margin-left: 1pt\; 
 padding-left: 4pt\; border-left: #800000 2px solid\; } --></style></head><
 body><font face="Times New Roman" size="3"><span style="font-size:12pt\;">
 <a name="BM_BEGIN"></a><div><font size="2"><span style="font-size:11pt\;">
 Worland vs Cody Middle\,Lander Middle\,Lovell MS\,Powell Middle School\,Ri
 verton Middle\,Worland Middle@ Worland High School </span></font></div></s
 pan></font></body></html>
LOCATION:Worland High School
SUMMARY:Track MS vs Cody Middle\,Lander Middle\,Lovell MS\,Powell Middle Sc
 hool\,Riverton Middle\,Worland Middle
END:VEVENT
BEGIN:VEVENT
DTSTAMP:20260423T122927Z
UID:2b7c9bf9-c795-44fe-9234-eaa599a00bf6
DTSTART:20260511T190000
DTEND:20260511T190000
DESCRIPTION:<html><head><meta http-equiv="Content-Type" content="text/html\
 ; charset=utf-8"><meta name="Generator" content="Microsoft Exchange Server
 "><!-- converted from rtf --><style><!-- .EmailQuote { margin-left: 1pt\; 
 padding-left: 4pt\; border-left: #800000 2px solid\; } --></style></head><
 body><font face="Times New Roman" size="3"><span style="font-size:12pt\;">
 <a name="BM_BEGIN"></a><div><font size="2"><span style="font-size:11pt\;">
 @ Powell High School - Auditorium Middle School Band &amp\; Choir Concert<
 /span></font></div></span></font></body></html>
LOCATION:Powell High School - Auditorium
SUMMARY:Music
END:VEVENT
BEGIN:VEVENT
DTSTAMP:20260423T122927Z
UID:c1836523-6780-4258-8a3e-cad3cdb5c633
DTSTART:20260512T180000
DTEND:20260512T200000
DESCRIPTION:<html><head><meta http-equiv="Content-Type" content="text/html\
 ; charset=utf-8"><meta name="Generator" content="Microsoft Exchange Server
 "><!-- converted from rtf --><style><!-- .EmailQuote { margin-left: 1pt\; 
 padding-left: 4pt\; border-left: #800000 2px solid\; } --></style></head><
 body><font face="Times New Roman" size="3"><span style="font-size:12pt\;">
 <a name="BM_BEGIN"></a><div><font size="2"><span style="font-size:11pt\;">
 @ Administration Building End time: 8:00pm</span></font></div></span></fon
 t></body></html>
LOCATION:Administration Building
SUMMARY:PCSD1 Board of Trustees Meeting
END:VEVENT
BEGIN:VEVENT
DTSTAMP:20260423T122927Z
UID:03d16c75-2ca1-4085-b141-114d07b19a2b
DTSTART;VALUE=DATE:20260525
DTEND;VALUE=DATE:20260526
DESCRIPTION:<html><head><meta http-equiv="Content-Type" content="text/html\
 ; charset=utf-8"><meta name="Generator" content="Microsoft Exchange Server
 "><!-- converted from rtf --><style><!-- .EmailQuote { margin-left: 1pt\; 
 padding-left: 4pt\; border-left: #800000 2px solid\; } --></style></head><
 body><font face="Times New Roman" size="3"><span style="font-size:12pt\;">
 <a name="BM_BEGIN"></a><div><font size="2"><span style="font-size:11pt\;">
  Memorial Day</span></font></div></span></font></body></html>
LOCATION:
SUMMARY:PCSD1 - No School
END:VEVENT
BEGIN:VEVENT
DTSTAMP:20260423T122927Z
UID:82ab2639-2639-4a4d-aa57-bd997e03e2ba
DTSTART:20260526T180000
DTEND:20260526T200000
DESCRIPTION:<html><head><meta http-equiv="Content-Type" content="text/html\
 ; charset=utf-8"><meta name="Generator" content="Microsoft Exchange Server
 "><!-- converted from rtf --><style><!-- .EmailQuote { margin-left: 1pt\; 
 padding-left: 4pt\; border-left: #800000 2px solid\; } --></style></head><
 body><font face="Times New Roman" size="3"><span style="font-size:12pt\;">
 <a name="BM_BEGIN"></a><div><font size="2"><span style="font-size:11pt\;">
 @ Administration Building End time: 8:00pm</span></font></div></span></fon
 t></body></html>
LOCATION:Administration Building
SUMMARY:PCSD1 Board of Trustees Meeting
END:VEVENT
BEGIN:VEVENT
DTSTAMP:20260423T122927Z
UID:83a513f6-d209-4f11-bbcf-5b25a9757460
DTSTART;VALUE=DATE:20260528
DTEND;VALUE=DATE:20260529
DESCRIPTION:<html><head><meta http-equiv="Content-Type" content="text/html\
 ; charset=utf-8"><meta name="Generator" content="Microsoft Exchange Server
 "><!-- converted from rtf --><style><!-- .EmailQuote { margin-left: 1pt\; 
 padding-left: 4pt\; border-left: #800000 2px solid\; } --></style></head><
 body><font face="Times New Roman" size="3"><span style="font-size:12pt\;">
 <a name="BM_BEGIN"></a><div><font size="2"><span style="font-size:11pt\;">
  Last Day of School for Students</span></font></div></span></font></body><
 /html>
LOCATION:
SUMMARY:PCSD1 - School Activities
END:VEVENT
BEGIN:VEVENT
DTSTAMP:20260423T122927Z
UID:955258fa-73e2-46de-a4c5-cb68a2a0b234
DTSTART;VALUE=DATE:20260529
DTEND;VALUE=DATE:20260530
DESCRIPTION:<html><head><meta http-equiv="Content-Type" content="text/html\
 ; charset=utf-8"><meta name="Generator" content="Microsoft Exchange Server
 "><!-- converted from rtf --><style><!-- .EmailQuote { margin-left: 1pt\; 
 padding-left: 4pt\; border-left: #800000 2px solid\; } --></style></head><
 body><font face="Times New Roman" size="3"><span style="font-size:12pt\;">
 <a name="BM_BEGIN"></a><div><font size="2"><span style="font-size:11pt\;">
  Professional Development Day/Teachers Last Day</span></font></div></span>
 </font></body></html>
LOCATION:
SUMMARY:PCSD1 - School Activities
END:VEVENT
END:VCALENDAR
