BEGIN:VCALENDAR
VERSION:2.0
PRODID:icalendar-ruby
CALSCALE:GREGORIAN
BEGIN:VTIMEZONE
TZID:America/New_York
BEGIN:DAYLIGHT
DTSTART:20260308T030000
TZOFFSETFROM:-0500
TZOFFSETTO:-0400
RRULE:FREQ=YEARLY;BYDAY=2SU;BYMONTH=3
TZNAME:EDT
END:DAYLIGHT
BEGIN:STANDARD
DTSTART:20261101T010000
TZOFFSETFROM:-0400
TZOFFSETTO:-0500
RRULE:FREQ=YEARLY;BYDAY=1SU;BYMONTH=11
TZNAME:EST
END:STANDARD
END:VTIMEZONE
BEGIN:VEVENT
DTSTAMP:20260425T213550Z
UID:d0ba2d59-e053-4134-9243-c5f1cd73504a
DTSTART;VALUE=DATE:20260515
DTEND;VALUE=DATE:20260516
DESCRIPTION:
LOCATION:
SUMMARY:ACHS Graduation
END:VEVENT
BEGIN:VEVENT
DTSTAMP:20260425T213550Z
UID:1d362248-4895-4a49-8555-17f3cc6de922
DTSTART:20260515T190000
DTEND:20260515T200000
DESCRIPTION:
LOCATION:ACHG Gymnasium
SUMMARY:ACHS Graduation
END:VEVENT
BEGIN:VEVENT
DTSTAMP:20260425T213550Z
UID:576453cc-836f-4421-bb58-20c5879e96d6
DTSTART;VALUE=DATE:20260522
DTEND;VALUE=DATE:20260523
DESCRIPTION:
LOCATION:
SUMMARY:Early Dismissal - Last Day of School!!!
END:VEVENT
BEGIN:VEVENT
DTSTAMP:20260425T213550Z
UID:f75bf2e2-68df-41bb-9421-ce8420349ad9
DTSTART;VALUE=DATE:20260522
DTEND;VALUE=DATE:20260523
DESCRIPTION:
LOCATION:
SUMMARY:End of 4th Quarter & 2nd Semester 
END:VEVENT
BEGIN:VEVENT
DTSTAMP:20260425T213550Z
UID:94ace922-8f2c-4d8b-8b7b-4cb7091d5ef6
DTSTART:20260522T074500
DTEND:20260522T123000
DESCRIPTION:
LOCATION:ACPS
SUMMARY:Last day of school-Half day
END:VEVENT
BEGIN:VEVENT
DTSTAMP:20260425T213550Z
UID:f2e2c984-87c7-473a-82e6-8bf457d2f843
DTSTART;VALUE=DATE:20260525
DTEND;VALUE=DATE:20260526
DESCRIPTION:
LOCATION:
SUMMARY:Offices Closed - Memorial Day
END:VEVENT
BEGIN:VEVENT
DTSTAMP:20260425T213550Z
UID:30e23a5b-6c94-495a-955b-1f4915f094de
DTSTART:20260525T080000
DTEND:20260525T163000
DESCRIPTION:
LOCATION:ACPS
SUMMARY:Offices closed - Memorial Day
END:VEVENT
BEGIN:VEVENT
DTSTAMP:20260425T213550Z
UID:15c04650-fbd2-4bed-8051-2abd08ae0362
DTSTART;VALUE=DATE:20260526
DTEND;VALUE=DATE:20260527
DESCRIPTION:
LOCATION:
SUMMARY:Teacher Workday for 4th Quarter - optional (if needed)
END:VEVENT
BEGIN:VEVENT
DTSTAMP:20260425T213550Z
UID:1e38fd29-ff09-4fed-8530-3a9180b52140
DTSTART;VALUE=DATE:20260602
DTEND;VALUE=DATE:20260603
DESCRIPTION:
LOCATION:
SUMMARY:Summer School Begins
END:VEVENT
BEGIN:VEVENT
DTSTAMP:20260425T213550Z
UID:6cbd3d03-7045-4e68-908d-1976e1aac5a7
DTSTART;VALUE=DATE:20260618
DTEND;VALUE=DATE:20260619
DESCRIPTION:
LOCATION:
SUMMARY:No Summer School (Offices Closed) - Juneteenth Observed
END:VEVENT
END:VCALENDAR
