BEGIN:VCALENDAR
VERSION:2.0
PRODID:icalendar-ruby
CALSCALE:GREGORIAN
BEGIN:VTIMEZONE
TZID:America/Chicago
BEGIN:DAYLIGHT
DTSTART:20260308T030000
TZOFFSETFROM:-0600
TZOFFSETTO:-0500
RRULE:FREQ=YEARLY;BYDAY=2SU;BYMONTH=3
TZNAME:CDT
END:DAYLIGHT
BEGIN:STANDARD
DTSTART:20261101T010000
TZOFFSETFROM:-0500
TZOFFSETTO:-0600
RRULE:FREQ=YEARLY;BYDAY=1SU;BYMONTH=11
TZNAME:CST
END:STANDARD
END:VTIMEZONE
BEGIN:VEVENT
DTSTAMP:20260425T213901Z
UID:d3aa4564-abc9-43b8-a8e9-b0e1b93c1962
DTSTART:20260506T081500
DTEND:20260506T090000
DESCRIPTION:
LOCATION:
SUMMARY:MNB Bank Day
END:VEVENT
BEGIN:VEVENT
DTSTAMP:20260425T213901Z
UID:d0396fe8-0524-4ae3-a7f4-c8a92c63aad4
DTSTART:20260511T183000
DTEND:20260511T203000
DESCRIPTION:
LOCATION:
SUMMARY:School Board Meeting
END:VEVENT
BEGIN:VEVENT
DTSTAMP:20260425T213901Z
UID:2631cd31-c434-4f87-8b27-2108f310b57f
DTSTART:20260520T081500
DTEND:20260520T090000
DESCRIPTION:
LOCATION:
SUMMARY:MNB Bank Day
END:VEVENT
BEGIN:VEVENT
DTSTAMP:20260425T213901Z
UID:ca7c0f27-fd90-4fbd-ab75-046bb92d2c53
DTSTART:20260608T183000
DTEND:20260608T203000
DESCRIPTION:
LOCATION:
SUMMARY:School Board Meeting
END:VEVENT
END:VCALENDAR
