BEGIN:VCALENDAR
VERSION:2.0
PRODID:icalendar-ruby
CALSCALE:GREGORIAN
BEGIN:VTIMEZONE
TZID:America/Chicago
BEGIN:DAYLIGHT
DTSTART:20260308T030000
TZOFFSETFROM:-0600
TZOFFSETTO:-0500
RRULE:FREQ=YEARLY;BYDAY=2SU;BYMONTH=3
TZNAME:CDT
END:DAYLIGHT
BEGIN:STANDARD
DTSTART:20261101T010000
TZOFFSETFROM:-0500
TZOFFSETTO:-0600
RRULE:FREQ=YEARLY;BYDAY=1SU;BYMONTH=11
TZNAME:CST
END:STANDARD
END:VTIMEZONE
BEGIN:VEVENT
DTSTAMP:20260423T170811Z
UID:4cae68dc-9eb0-43de-89b5-7ba32d8a4c73
DTSTART:20260423T133000
DTEND:20260423T173000
DESCRIPTION:
LOCATION:Augusta\, KS 67010\, USA
SUMMARY:RHMS JV Golf @ Augusta
END:VEVENT
BEGIN:VEVENT
DTSTAMP:20260423T170811Z
UID:4f44b56f-6b54-4d96-a151-7223ac037517
DTSTART:20260423T160000
DTEND:20260423T183000
DESCRIPTION:
LOCATION:Hutchinson\, KS\, USA
SUMMARY:RHMS Soccer @ Prairie Hills 
END:VEVENT
BEGIN:VEVENT
DTSTAMP:20260423T170811Z
UID:871e93aa-4c39-4479-9f81-57a972067ce1
DTSTART:20260427T153000
DTEND:20260427T210000
DESCRIPTION:
LOCATION:Haysville\, KS\, USA
SUMMARY:RHMS Track @ Haysville West
END:VEVENT
BEGIN:VEVENT
DTSTAMP:20260423T170811Z
UID:45859bf9-cc36-4d24-8c53-3dd1fb34a91c
DTSTART:20260427T160000
DTEND:20260427T183000
DESCRIPTION:
LOCATION:212 E Rocket Dr\, Rose Hill\, KS 67133\, USA
SUMMARY:RHMS Soccer vs. Hutchinson
END:VEVENT
BEGIN:VEVENT
DTSTAMP:20260423T170811Z
UID:3e12c9fe-a3ea-4536-83ea-e8d9bbdfd93a
DTSTART:20260428T123000
DTEND:20260428T163000
DESCRIPTION:
LOCATION:Arkansas City\, KS 67005\, USA
SUMMARY:RHMS JV Golf @ Ark City
END:VEVENT
BEGIN:VEVENT
DTSTAMP:20260423T170811Z
UID:bb56eb03-e0f3-4bd1-9d2b-6969fc8798c8
DTSTART:20260429T110000
DTEND:20260429T153000
DESCRIPTION:
LOCATION:13420 E Pawnee St\, Wichita\, KS 67230\, USA
SUMMARY:RHMS Varsity Golf @ Sierra Hills
END:VEVENT
BEGIN:VEVENT
DTSTAMP:20260423T170811Z
UID:ec9c0eea-2eee-4a5e-bfc7-18a3ee7ce3ac
DTSTART:20260430T120000
DTEND:20260430T173000
DESCRIPTION:
LOCATION:Winfield\, KS\, USA
SUMMARY:RHMS Girls Golf @ Winfield
END:VEVENT
BEGIN:VEVENT
DTSTAMP:20260423T170811Z
UID:fa0ea48a-d41e-46cb-b3da-edd734e1a5c5
DTSTART:20260430T144500
DTEND:20260430T210000
DESCRIPTION:
LOCATION:Mulvane\, KS\, USA
SUMMARY:RHMS Track @ Mulvane
END:VEVENT
BEGIN:VEVENT
DTSTAMP:20260423T170811Z
UID:244ff2cf-afb6-422b-b00d-e83bd456478f
DTSTART:20260430T160000
DTEND:20260430T183000
DESCRIPTION:
LOCATION:212 E Rocket Dr\, Rose Hill\, KS 67133\, USA
SUMMARY:RHMS Soccer vs. Haysville 
END:VEVENT
BEGIN:VEVENT
DTSTAMP:20260423T170811Z
UID:681ee976-6cf4-4240-bfdd-02b63f9b3c90
DTSTART:20260504T090000
DTEND:20260504T150000
DESCRIPTION:
LOCATION:13420 E Pawnee St\, Wichita\, KS 67230\, USA
SUMMARY:RHMS Golf League Tournament @ Rose Hill
END:VEVENT
BEGIN:VEVENT
DTSTAMP:20260423T170811Z
UID:4033d934-182a-483d-8259-9f373e931d6e
DTSTART:20260505T083000
DTEND:20260505T120000
DESCRIPTION:
LOCATION:212 E Rocket Dr\, Rose Hill\, KS 67133\, USA
SUMMARY:Reality U
END:VEVENT
BEGIN:VEVENT
DTSTAMP:20260423T170811Z
UID:6c77e16e-d2d3-4675-b028-0136f341ebc2
DTSTART:20260507T153000
DTEND:20260507T210000
DESCRIPTION:
LOCATION:Maize\, KS\, USA
SUMMARY:RHMS Track @ Maize
END:VEVENT
BEGIN:VEVENT
DTSTAMP:20260423T170811Z
UID:0f3a832e-4c39-4bfa-8490-0f72c90ec327
DTSTART:20260507T160000
DTEND:20260507T183000
DESCRIPTION:
LOCATION:212 E Rocket Dr\, Rose Hill\, KS 67133\, USA
SUMMARY:RHMS Soccer vs. Mulvane
END:VEVENT
BEGIN:VEVENT
DTSTAMP:20260423T170811Z
UID:30ffa986-bb2c-42e4-8787-4d2743cc19c4
DTSTART:20260511T190000
DTEND:20260511T203000
DESCRIPTION:
LOCATION:712 S Rose Hill Rd\, Rose Hill\, KS 67133\, USA
SUMMARY:RHMS Vocal Concert
END:VEVENT
BEGIN:VEVENT
DTSTAMP:20260423T170811Z
UID:acfb4505-d1a0-412a-8aa1-0ed0b1b9c4f4
DTSTART:20260512T150000
DTEND:20260512T210000
DESCRIPTION:
LOCATION:Mulvane\, KS
SUMMARY:RHMS League Track @ Mulvane
END:VEVENT
BEGIN:VEVENT
DTSTAMP:20260423T170811Z
UID:2adce8ea-4a24-4c59-9f06-f7f67f2e5d47
DTSTART:20260514T190000
DTEND:20260514T203000
DESCRIPTION:
LOCATION:712 S Rose Hill Rd\, Rose Hill\, KS 67133\, USA
SUMMARY:ExtravaBANDza
END:VEVENT
BEGIN:VEVENT
DTSTAMP:20260423T170811Z
UID:b360defa-c93f-41ef-99eb-f096a04d2a21
DTSTART:20260515T093000
DTEND:20260515T110000
DESCRIPTION:
LOCATION:212 E Rocket Dr\, Rose Hill\, KS 67133\, USA
SUMMARY:8th Grade Promotion
END:VEVENT
END:VCALENDAR
