BEGIN:VCALENDAR
VERSION:2.0
PRODID:icalendar-ruby
CALSCALE:GREGORIAN
BEGIN:VTIMEZONE
TZID:America/Chicago
BEGIN:DAYLIGHT
DTSTART:20260308T030000
TZOFFSETFROM:-0600
TZOFFSETTO:-0500
RRULE:FREQ=YEARLY;BYDAY=2SU;BYMONTH=3
TZNAME:CDT
END:DAYLIGHT
BEGIN:STANDARD
DTSTART:20261101T010000
TZOFFSETFROM:-0500
TZOFFSETTO:-0600
RRULE:FREQ=YEARLY;BYDAY=1SU;BYMONTH=11
TZNAME:CST
END:STANDARD
END:VTIMEZONE
BEGIN:VEVENT
DTSTAMP:20260423T111046Z
UID:ceb15d19-22ce-4375-84ef-88a4f03a37c2
DTSTART;VALUE=DATE:20260401
DTEND;VALUE=DATE:20260501
DESCRIPTION:
LOCATION:
SUMMARY:Month of the Military Child
END:VEVENT
BEGIN:VEVENT
DTSTAMP:20260423T111046Z
UID:71c63bd8-af9d-4fe3-a28f-5af483015c2c
DTSTART;VALUE=DATE:20260419
DTEND;VALUE=DATE:20260426
DESCRIPTION:
LOCATION:
SUMMARY:National Library Week
END:VEVENT
BEGIN:VEVENT
DTSTAMP:20260423T111046Z
UID:b3b22428-31a3-42e9-85cd-68def1aebbe1
DTSTART:20260423T133000
DTEND:20260423T173000
DESCRIPTION:
LOCATION:Augusta\, KS 67010\, USA
SUMMARY:RHMS JV Golf @ Augusta
END:VEVENT
BEGIN:VEVENT
DTSTAMP:20260423T111046Z
UID:e98e805c-dd28-4304-8eb5-e7ac43c36997
DTSTART:20260423T160000
DTEND:20260423T200000
DESCRIPTION:<p>Doubleheader</p>
LOCATION:
SUMMARY:RHHS Varsity Baseball vs Wichita Collegiate
END:VEVENT
BEGIN:VEVENT
DTSTAMP:20260423T111046Z
UID:6969ae4b-7d4b-46ae-a643-09d04f475749
DTSTART:20260423T160000
DTEND:20260423T183000
DESCRIPTION:
LOCATION:Hutchinson\, KS\, USA
SUMMARY:RHMS Soccer @ Prairie Hills 
END:VEVENT
BEGIN:VEVENT
DTSTAMP:20260423T111046Z
UID:bc1ebedc-95b9-4377-85db-9e047bb39247
DTSTART:20260423T170000
DTEND:20260423T200000
DESCRIPTION:<p>JV - 5:00 PM</p><p>Varsity - 6:30 PM</p>
LOCATION:
SUMMARY:RHHS Girls Soccer vs Augusta
END:VEVENT
BEGIN:VEVENT
DTSTAMP:20260423T111046Z
UID:0e7006d0-e3b9-406c-bf5a-4200eae3653f
DTSTART:20260423T190000
DTEND:20260423T200000
DESCRIPTION:
LOCATION:
SUMMARY:5th Grade Music Concert
END:VEVENT
BEGIN:VEVENT
DTSTAMP:20260423T111046Z
UID:0ff4aefa-59e7-4554-8826-25984ab26442
DTSTART:20260424T160000
DTEND:20260424T200000
DESCRIPTION:
LOCATION:
SUMMARY:RHHS JV Softball vs Douglass
END:VEVENT
BEGIN:VEVENT
DTSTAMP:20260423T111046Z
UID:edc80757-81ff-426f-9037-3ddaaf35fa5b
DTSTART;VALUE=DATE:20260425
DTEND;VALUE=DATE:20260426
DESCRIPTION:
LOCATION:
SUMMARY:RHHS State Solo & Ensemble
END:VEVENT
BEGIN:VEVENT
DTSTAMP:20260423T111046Z
UID:5dc6d9cd-7dd8-4b4d-928d-da4885ad62ab
DTSTART:20260425T200000
DTEND:20260425T230000
DESCRIPTION:<p>Ninth Floor Club and Venue</p>
LOCATION:100 N Broadway St #900\, Wichita\, KS 67202\, USA
SUMMARY:RHHS Prom
END:VEVENT
BEGIN:VEVENT
DTSTAMP:20260423T111046Z
UID:584cb5b6-e5c5-44e4-9a1e-38d02a9164a1
DTSTART:20260427T080000
DTEND:20260501T140000
DESCRIPTION:
LOCATION:
SUMMARY:Preschool Screenings
END:VEVENT
BEGIN:VEVENT
DTSTAMP:20260423T111046Z
UID:a61f13a6-9e05-48aa-a69b-2588930641c0
DTSTART:20260427T153000
DTEND:20260427T210000
DESCRIPTION:
LOCATION:Haysville\, KS\, USA
SUMMARY:RHMS Track @ Haysville West
END:VEVENT
BEGIN:VEVENT
DTSTAMP:20260423T111046Z
UID:fe8a552a-1f13-44ca-bb7d-e8a364362f60
DTSTART:20260427T160000
DTEND:20260427T200000
DESCRIPTION:<p>Doubleheader</p>
LOCATION:
SUMMARY:RHHS Varsity Baseball vs Augusta
END:VEVENT
BEGIN:VEVENT
DTSTAMP:20260423T111046Z
UID:9c316116-f68c-4034-88ed-4c2176d5ec29
DTSTART:20260427T160000
DTEND:20260427T200000
DESCRIPTION:
LOCATION:
SUMMARY:RHHS Varsity Softball vs Augusta
END:VEVENT
BEGIN:VEVENT
DTSTAMP:20260423T111046Z
UID:4ff36234-295e-4238-834d-f35d620e6cc0
DTSTART:20260427T160000
DTEND:20260427T183000
DESCRIPTION:
LOCATION:212 E Rocket Dr\, Rose Hill\, KS 67133\, USA
SUMMARY:RHMS Soccer vs. Hutchinson
END:VEVENT
BEGIN:VEVENT
DTSTAMP:20260423T111046Z
UID:2e5b8a90-f401-431d-89e3-50d9253a6268
DTSTART:20260428T123000
DTEND:20260428T163000
DESCRIPTION:
LOCATION:Arkansas City\, KS 67005\, USA
SUMMARY:RHMS JV Golf @ Ark City
END:VEVENT
BEGIN:VEVENT
DTSTAMP:20260423T111046Z
UID:49382c79-6268-4da2-9a01-b183e00c367c
DTSTART:20260428T160000
DTEND:20260428T200000
DESCRIPTION:
LOCATION:
SUMMARY:RHHS JV Baseball vs Augusta
END:VEVENT
BEGIN:VEVENT
DTSTAMP:20260423T111046Z
UID:e4b4cf1a-a563-4e20-a987-0479dec24615
DTSTART:20260428T160000
DTEND:20260428T200000
DESCRIPTION:
LOCATION:
SUMMARY:RHHS JV Softball vs Augusta
END:VEVENT
BEGIN:VEVENT
DTSTAMP:20260423T111046Z
UID:7163b2d5-31ed-461a-b4a5-49b96eb1c53b
DTSTART:20260428T170000
DTEND:20260428T200000
DESCRIPTION:<p>JV - 5:00 PM</p><p>Varsity - 6:30 PM</p>
LOCATION:
SUMMARY:RHHS Girls Soccer vs Mulvane
END:VEVENT
BEGIN:VEVENT
DTSTAMP:20260423T111046Z
UID:9891db1b-13e7-48b9-ac23-cb1323ecfc0c
DTSTART:20260428T173000
DTEND:20260428T193000
DESCRIPTION:<p>Last Names A-M will be from 5:30-6:30pm</p><p>Last Names N-Z
  will be from  6:30-7:30pm</p>
LOCATION:
SUMMARY:Kindergarten Roundup
END:VEVENT
BEGIN:VEVENT
DTSTAMP:20260423T111046Z
UID:6dd0eead-819c-4297-b86b-643957466b8d
DTSTART:20260429T110000
DTEND:20260429T153000
DESCRIPTION:
LOCATION:13420 E Pawnee St\, Wichita\, KS 67230\, USA
SUMMARY:RHMS Varsity Golf @ Sierra Hills
END:VEVENT
BEGIN:VEVENT
DTSTAMP:20260423T111046Z
UID:10c8fe9a-a9b6-4e57-8a0a-ef12f672a8ba
DTSTART:20260430T120000
DTEND:20260430T173000
DESCRIPTION:
LOCATION:Winfield\, KS\, USA
SUMMARY:RHMS Girls Golf @ Winfield
END:VEVENT
BEGIN:VEVENT
DTSTAMP:20260423T111046Z
UID:d1198cc2-7093-4df6-a90c-e38faed3a830
DTSTART:20260430T144500
DTEND:20260430T210000
DESCRIPTION:
LOCATION:Mulvane\, KS\, USA
SUMMARY:RHMS Track @ Mulvane
END:VEVENT
BEGIN:VEVENT
DTSTAMP:20260423T111046Z
UID:a3c285e6-381d-47f9-8354-c9fd0d4dc940
DTSTART:20260430T160000
DTEND:20260430T183000
DESCRIPTION:
LOCATION:212 E Rocket Dr\, Rose Hill\, KS 67133\, USA
SUMMARY:RHMS Soccer vs. Haysville 
END:VEVENT
BEGIN:VEVENT
DTSTAMP:20260423T111046Z
UID:3284bcda-85eb-468b-87fd-1564ff729bbe
DTSTART:20260430T180000
DTEND:20260430T193000
DESCRIPTION:<p>Varsity Only - 6:00 PM</p>
LOCATION:
SUMMARY:RHHS Girls Soccer @ Wichita Collegiate
END:VEVENT
BEGIN:VEVENT
DTSTAMP:20260423T111046Z
UID:4c01a872-7d1a-41fe-ae1d-769f95c5a603
DTSTART;VALUE=DATE:20260501
DTEND;VALUE=DATE:20260502
DESCRIPTION:
LOCATION:
SUMMARY:Asian/Pacific American Heritage Month
END:VEVENT
BEGIN:VEVENT
DTSTAMP:20260423T111046Z
UID:c96e1c1e-a6b1-47b3-b1c9-44908e09dfd6
DTSTART;VALUE=DATE:20260501
DTEND;VALUE=DATE:20260502
DESCRIPTION:
LOCATION:
SUMMARY:National PE & Sports Month
END:VEVENT
BEGIN:VEVENT
DTSTAMP:20260423T111046Z
UID:b7126c27-f889-482d-97b6-5e8f50033c2e
DTSTART;VALUE=DATE:20260501
DTEND;VALUE=DATE:20260508
DESCRIPTION:
LOCATION:
SUMMARY:National Physical Education Week
END:VEVENT
BEGIN:VEVENT
DTSTAMP:20260423T111046Z
UID:e940e852-0f91-413a-a4ed-d609883042a9
DTSTART;VALUE=DATE:20260501
DTEND;VALUE=DATE:20260502
DESCRIPTION:
LOCATION:
SUMMARY:School Lunch Hero Day
END:VEVENT
BEGIN:VEVENT
DTSTAMP:20260423T111046Z
UID:a9344569-bc31-464c-ab06-de78f222dc12
DTSTART;VALUE=DATE:20260501
DTEND;VALUE=DATE:20260502
DESCRIPTION:
LOCATION:
SUMMARY:School Principal's Day
END:VEVENT
BEGIN:VEVENT
DTSTAMP:20260423T111046Z
UID:49fd46fe-acd9-46d1-a506-715a12752e5c
DTSTART:20260501T170000
DTEND:20260501T200000
DESCRIPTION:<p>JV - 5:00 PM</p><p>Varsity - 6:30 PM</p>
LOCATION:
SUMMARY:RHHS Girls Soccer vs Chanute
END:VEVENT
BEGIN:VEVENT
DTSTAMP:20260423T111046Z
UID:8d13426b-a6d5-45b7-a7e9-e7d57ea533cb
DTSTART;VALUE=DATE:20260502
DTEND;VALUE=DATE:20260503
DESCRIPTION:
LOCATION:
SUMMARY:RHHS Band Banquet
END:VEVENT
BEGIN:VEVENT
DTSTAMP:20260423T111046Z
UID:2954b85a-72fd-4dac-872e-eda66d29c1a8
DTSTART;VALUE=DATE:20260504
DTEND;VALUE=DATE:20260509
DESCRIPTION:
LOCATION:
SUMMARY:Teacher Appreciation Week
END:VEVENT
BEGIN:VEVENT
DTSTAMP:20260423T111046Z
UID:4c35e381-078a-4f74-bb9f-9a6bc9ce25b0
DTSTART;VALUE=DATE:20260504
DTEND;VALUE=DATE:20260505
DESCRIPTION:
LOCATION:
SUMMARY:RHHS Rock-it
END:VEVENT
BEGIN:VEVENT
DTSTAMP:20260423T111046Z
UID:cf509ca8-6983-4df4-9493-a34a3dee42fc
DTSTART:20260504T090000
DTEND:20260504T150000
DESCRIPTION:
LOCATION:13420 E Pawnee St\, Wichita\, KS 67230\, USA
SUMMARY:RHMS Golf League Tournament @ Rose Hill
END:VEVENT
BEGIN:VEVENT
DTSTAMP:20260423T111046Z
UID:9eaa7783-52ba-494f-b855-d22347daeb8e
DTSTART:20260504T160000
DTEND:20260504T200000
DESCRIPTION:<p>Doubleheader</p>
LOCATION:
SUMMARY:RHHS Varsity Baseball vs Winfield
END:VEVENT
BEGIN:VEVENT
DTSTAMP:20260423T111046Z
UID:c38de58f-ecd5-4543-a309-8db3085bdbe1
DTSTART:20260504T160000
DTEND:20260504T200000
DESCRIPTION:
LOCATION:
SUMMARY:RHHS Varsity Softball vs Winfield
END:VEVENT
BEGIN:VEVENT
DTSTAMP:20260423T111046Z
UID:555720a4-81ba-489c-b0eb-5147b1cd6822
DTSTART:20260505T083000
DTEND:20260505T120000
DESCRIPTION:
LOCATION:212 E Rocket Dr\, Rose Hill\, KS 67133\, USA
SUMMARY:Reality U
END:VEVENT
BEGIN:VEVENT
DTSTAMP:20260423T111046Z
UID:6db12cf7-ecfb-4876-ac32-b00d5efd84af
DTSTART:20260505T170000
DTEND:20260505T200000
DESCRIPTION:<p>JV - 5:00 PM</p><p>Varsity - 6:30 PM</p>
LOCATION:
SUMMARY:RHHS Girls Soccer @ Circle
END:VEVENT
BEGIN:VEVENT
DTSTAMP:20260423T111046Z
UID:dd588913-d588-41a5-bd4d-9e2e5bdf5fb1
DTSTART;VALUE=DATE:20260506
DTEND;VALUE=DATE:20260507
DESCRIPTION:
LOCATION:
SUMMARY:National Bike to School Day
END:VEVENT
BEGIN:VEVENT
DTSTAMP:20260423T111046Z
UID:0bce212d-891c-45b1-8ef2-3c0536d92944
DTSTART;VALUE=DATE:20260506
DTEND;VALUE=DATE:20260507
DESCRIPTION:
LOCATION:
SUMMARY:National School Nurse Day
END:VEVENT
BEGIN:VEVENT
DTSTAMP:20260423T111046Z
UID:5292eaa5-4bc8-4d57-8386-8fc8b7e562b3
DTSTART:20260507T153000
DTEND:20260507T210000
DESCRIPTION:
LOCATION:Maize\, KS\, USA
SUMMARY:RHMS Track @ Maize
END:VEVENT
BEGIN:VEVENT
DTSTAMP:20260423T111046Z
UID:eb78fee6-b6b6-4996-a6a9-c7a28c234ea3
DTSTART:20260507T160000
DTEND:20260507T200000
DESCRIPTION:<p>Doubleheader</p>
LOCATION:
SUMMARY:RHHS Varsity Baseball @ Wellington
END:VEVENT
BEGIN:VEVENT
DTSTAMP:20260423T111046Z
UID:0ed71446-41f9-42a3-95a8-6ca31f4c3a8d
DTSTART:20260507T160000
DTEND:20260507T200000
DESCRIPTION:
LOCATION:
SUMMARY:RHHS Varsity Softball @ Wellington
END:VEVENT
BEGIN:VEVENT
DTSTAMP:20260423T111046Z
UID:91730640-08cf-4977-8d92-68b813c9322b
DTSTART:20260507T160000
DTEND:20260507T183000
DESCRIPTION:
LOCATION:212 E Rocket Dr\, Rose Hill\, KS 67133\, USA
SUMMARY:RHMS Soccer vs. Mulvane
END:VEVENT
BEGIN:VEVENT
DTSTAMP:20260423T111046Z
UID:d269267b-ca8e-46a2-beac-9ba18dc7cf49
DTSTART;VALUE=DATE:20260508
DTEND;VALUE=DATE:20260509
DESCRIPTION:
LOCATION:
SUMMARY:School Communicators Day
END:VEVENT
BEGIN:VEVENT
DTSTAMP:20260423T111046Z
UID:cb5e8278-efce-4f15-a21e-a515254873b2
DTSTART:20260508T080000
DTEND:20260508T090000
DESCRIPTION:<p>Time TBD</p>
LOCATION:
SUMMARY:Kindergarten Graduation and Music Program
END:VEVENT
BEGIN:VEVENT
DTSTAMP:20260423T111046Z
UID:869990c2-c240-4e2e-8cb7-5be506af27f9
DTSTART;VALUE=DATE:20260509
DTEND;VALUE=DATE:20260510
DESCRIPTION:
LOCATION:
SUMMARY:RHHS Vocal Trip
END:VEVENT
BEGIN:VEVENT
DTSTAMP:20260423T111046Z
UID:93e1fe1e-7fee-49ed-8ec1-849b3ca1defd
DTSTART:20260511T190000
DTEND:20260511T203000
DESCRIPTION:
LOCATION:712 S Rose Hill Rd\, Rose Hill\, KS 67133\, USA
SUMMARY:RHMS Vocal Concert
END:VEVENT
BEGIN:VEVENT
DTSTAMP:20260423T111046Z
UID:87bfc7dc-fba3-4555-b397-4aa7648c6294
DTSTART:20260512T150000
DTEND:20260512T210000
DESCRIPTION:
LOCATION:Mulvane\, KS
SUMMARY:RHMS League Track @ Mulvane
END:VEVENT
BEGIN:VEVENT
DTSTAMP:20260423T111046Z
UID:69f1f178-d366-499a-8ec2-07be0d807fc8
DTSTART:20260512T160000
DTEND:20260512T200000
DESCRIPTION:<p>Doubleheader</p>
LOCATION:
SUMMARY:RHHS Varsity Baseball @ Campus
END:VEVENT
BEGIN:VEVENT
DTSTAMP:20260423T111046Z
UID:5a393e6a-fe58-4fe8-863a-05589bb7a7ef
DTSTART:20260512T160000
DTEND:20260512T200000
DESCRIPTION:
LOCATION:
SUMMARY:RHHS Varsity Softball vs Campus
END:VEVENT
BEGIN:VEVENT
DTSTAMP:20260423T111046Z
UID:0abc1544-0b8a-4289-91ae-85896bca15af
DTSTART:20260512T170000
DTEND:20260512T200000
DESCRIPTION:<p>JV - 5:00 PM</p><p>Varsity - 6:30 PM</p>
LOCATION:
SUMMARY:RHHS Girls Soccer @ Goddard Eisenhower
END:VEVENT
BEGIN:VEVENT
DTSTAMP:20260423T111046Z
UID:008a43e8-9523-41ec-95e1-afa254813f06
DTSTART;VALUE=DATE:20260513
DTEND;VALUE=DATE:20260514
DESCRIPTION:
LOCATION:
SUMMARY:Seniors Last Day
END:VEVENT
BEGIN:VEVENT
DTSTAMP:20260423T111046Z
UID:17d2632b-7194-45e6-8a6b-f5d2ff687099
DTSTART:20260513T160000
DTEND:20260513T200000
DESCRIPTION:
LOCATION:
SUMMARY:RHHS JV Baseball @ Campus
END:VEVENT
BEGIN:VEVENT
DTSTAMP:20260423T111046Z
UID:51d1a6c0-3152-4936-a4e6-68d0cd32fcfb
DTSTART;VALUE=DATE:20260514
DTEND;VALUE=DATE:20260515
DESCRIPTION:
LOCATION:
SUMMARY:ExtravaBANDza
END:VEVENT
BEGIN:VEVENT
DTSTAMP:20260423T111046Z
UID:a382e5cc-1bed-4a13-8361-676640fd03d4
DTSTART:20260514T170000
DTEND:20260514T190000
DESCRIPTION:
LOCATION:
SUMMARY:ExtravaBANDza
END:VEVENT
BEGIN:VEVENT
DTSTAMP:20260423T111046Z
UID:a770cf8e-004c-443b-b6e4-686c46373f2d
DTSTART:20260514T170000
DTEND:20260514T200000
DESCRIPTION:<p>JV - 5:00 PM</p><p>Varsity - 6:30 PM</p>
LOCATION:
SUMMARY:RHHS Girls Soccer vs Classical 
END:VEVENT
BEGIN:VEVENT
DTSTAMP:20260423T111046Z
UID:b79124fa-bbbb-432b-bdc1-a4a152d867b3
DTSTART:20260514T190000
DTEND:20260514T203000
DESCRIPTION:
LOCATION:712 S Rose Hill Rd\, Rose Hill\, KS 67133\, USA
SUMMARY:ExtravaBANDza
END:VEVENT
BEGIN:VEVENT
DTSTAMP:20260423T111046Z
UID:dbb18c68-2179-4031-8753-f1a3305985b6
DTSTART:20260515T093000
DTEND:20260515T110000
DESCRIPTION:
LOCATION:212 E Rocket Dr\, Rose Hill\, KS 67133\, USA
SUMMARY:8th Grade Promotion
END:VEVENT
BEGIN:VEVENT
DTSTAMP:20260423T111046Z
UID:c9aaa2cc-c5b4-4cd8-9aae-650188f95e3a
DTSTART:20260517T143000
DTEND:20260517T163000
DESCRIPTION:
LOCATION:
SUMMARY:RHHS Graduation
END:VEVENT
BEGIN:VEVENT
DTSTAMP:20260423T111046Z
UID:57360a32-f2f6-4476-b613-7a22d0702c19
DTSTART:20260517T143000
DTEND:20260517T153000
DESCRIPTION:
LOCATION:712 S Rose Hill Rd\, Rose Hill\, KS 67133\, USA
SUMMARY:RHHS Graduation
END:VEVENT
BEGIN:VEVENT
DTSTAMP:20260423T111046Z
UID:b14c3b97-2f72-47b4-965a-92c40d58939e
DTSTART;VALUE=DATE:20260518
DTEND;VALUE=DATE:20260519
DESCRIPTION:
LOCATION:
SUMMARY:National Speech Pathologist Day
END:VEVENT
BEGIN:VEVENT
DTSTAMP:20260423T111046Z
UID:4747da8c-523e-474a-b0dc-e9b3a9eb41e8
DTSTART;VALUE=DATE:20260519
DTEND;VALUE=DATE:20260520
DESCRIPTION:
LOCATION:
SUMMARY:Last Day of School! (moved up from 20th)
END:VEVENT
BEGIN:VEVENT
DTSTAMP:20260423T111046Z
UID:c3afa1d1-48ba-4d2e-8d3a-7db4deec4383
DTSTART;VALUE=DATE:20260520
DTEND;VALUE=DATE:20260521
DESCRIPTION:
LOCATION:
SUMMARY:Teacher Work Day\; Grades Due
END:VEVENT
BEGIN:VEVENT
DTSTAMP:20260423T111046Z
UID:ee927e58-f48b-41d2-8802-86d9f793c98e
DTSTART:20260520T080000
DTEND:20260520T090000
DESCRIPTION:
LOCATION:
SUMMARY:Last Day of School
END:VEVENT
END:VCALENDAR
