BEGIN:VCALENDAR
VERSION:2.0
PRODID:icalendar-ruby
CALSCALE:GREGORIAN
BEGIN:VTIMEZONE
TZID:America/Los_Angeles
BEGIN:DAYLIGHT
DTSTART:20260308T030000
TZOFFSETFROM:-0800
TZOFFSETTO:-0700
RRULE:FREQ=YEARLY;BYDAY=2SU;BYMONTH=3
TZNAME:PDT
END:DAYLIGHT
BEGIN:STANDARD
DTSTART:20261101T010000
TZOFFSETFROM:-0700
TZOFFSETTO:-0800
RRULE:FREQ=YEARLY;BYDAY=1SU;BYMONTH=11
TZNAME:PST
END:STANDARD
END:VTIMEZONE
BEGIN:VEVENT
DTSTAMP:20260422T170353Z
UID:9d1f3a91-1d02-44dd-bc2c-fcff99d2273d
DTSTART:20260422T074500
DTEND:20260422T084500
DESCRIPTION:
LOCATION:
SUMMARY:Ptc Open Meeting
END:VEVENT
BEGIN:VEVENT
DTSTAMP:20260422T170353Z
UID:c917ba4a-1267-4517-bd94-4198329e99b5
DTSTART:20260424T100000
DTEND:20260424T130000
DESCRIPTION:
LOCATION:
SUMMARY:PTC Maple Store
END:VEVENT
BEGIN:VEVENT
DTSTAMP:20260422T170353Z
UID:a5cd1084-12fd-4f72-9cc5-906a2f927449
DTSTART:20260520T074500
DTEND:20260520T084500
DESCRIPTION:
LOCATION:
SUMMARY:Ptc Open Meeting
END:VEVENT
END:VCALENDAR
