BEGIN:VCALENDAR
VERSION:2.0
PRODID:icalendar-ruby
CALSCALE:GREGORIAN
BEGIN:VTIMEZONE
TZID:America/Chicago
BEGIN:DAYLIGHT
DTSTART:20260308T030000
TZOFFSETFROM:-0600
TZOFFSETTO:-0500
RRULE:FREQ=YEARLY;BYDAY=2SU;BYMONTH=3
TZNAME:CDT
END:DAYLIGHT
BEGIN:STANDARD
DTSTART:20261101T010000
TZOFFSETFROM:-0500
TZOFFSETTO:-0600
RRULE:FREQ=YEARLY;BYDAY=1SU;BYMONTH=11
TZNAME:CST
END:STANDARD
END:VTIMEZONE
BEGIN:VEVENT
DTSTAMP:20260420T075934Z
UID:c46b74a8-3662-468a-8c09-2ddb7637eb5c
DTSTART:20260417T163000
DTEND:20260421T190000
DESCRIPTION:
LOCATION:Thayer
SUMMARY:Thayer Spring Season Softball Home Game vs. Houston (V\, JV)
END:VEVENT
BEGIN:VEVENT
DTSTAMP:20260420T075934Z
UID:66158b22-5988-4563-8b8d-10bc2ceb6ab7
DTSTART:20260420T163000
DTEND:20260420T193000
DESCRIPTION:
LOCATION:Salem
SUMMARY:Thayer Spring Season Baseball Away Game at Salem (V\, JV)
END:VEVENT
BEGIN:VEVENT
DTSTAMP:20260420T075934Z
UID:c19eed39-0582-4bdb-9d42-046b84cfd234
DTSTART:20260420T163000
DTEND:20260420T190000
DESCRIPTION:
LOCATION:Ava
SUMMARY:Thayer Spring Season Softball Away Game at Ava (V\, JV)
END:VEVENT
BEGIN:VEVENT
DTSTAMP:20260420T075934Z
UID:9b8306d0-312d-42df-b9c0-9e6fa4c3329d
DTSTART:20260421T000000
DTEND:20260421T173000
DESCRIPTION:
LOCATION:Thayer
SUMMARY:Thayer Spring Season Softball Home Game vs. Van Buren (V\, JV)
END:VEVENT
BEGIN:VEVENT
DTSTAMP:20260420T075934Z
UID:9ee6e54d-d00b-4a98-a043-bbcf5525a66c
DTSTART:20260421T000000
DTEND:20260421T000000
DESCRIPTION:
LOCATION:Bolivar
SUMMARY:Thayer Varsity Boys Track and Field Tournament: SBU BEARCAT Classic
END:VEVENT
BEGIN:VEVENT
DTSTAMP:20260420T075934Z
UID:3da3a3d4-346a-4fd1-a3f1-677316bbe1eb
DTSTART:20260421T000000
DTEND:20260421T000000
DESCRIPTION:
LOCATION:Bolivar
SUMMARY:Thayer Varsity Girls Track and Field Tournament: SBU Bearcat Classi
 c
END:VEVENT
BEGIN:VEVENT
DTSTAMP:20260420T075934Z
UID:3d637075-f4d9-4ec1-b1ba-e0ab775f3df9
DTSTART:20260421T160000
DTEND:20260421T170000
DESCRIPTION:
LOCATION:Ava
SUMMARY:Thayer Boys Track and Field Away Meet at Ava (JH)
END:VEVENT
BEGIN:VEVENT
DTSTAMP:20260420T075934Z
UID:f2baac6d-9a13-40a7-b993-7330ba11625c
DTSTART:20260421T160000
DTEND:20260421T170000
DESCRIPTION:
LOCATION:Ava
SUMMARY:Thayer Girls Track and Field Away Meet at Ava (JH)
END:VEVENT
BEGIN:VEVENT
DTSTAMP:20260420T075934Z
UID:477f1b4a-f48b-4bbd-85f6-2b4730051e5b
DTSTART:20260421T163000
DTEND:20260421T173000
DESCRIPTION:
LOCATION:
SUMMARY:Thayer Baseball Home Game vs. Cabool Junior (JH)
END:VEVENT
BEGIN:VEVENT
DTSTAMP:20260420T075934Z
UID:5c910ce7-9786-47a6-9f08-8e7d48b10d24
DTSTART:20260421T163000
DTEND:20260421T190000
DESCRIPTION:
LOCATION:Doniphan
SUMMARY:Thayer Spring Season Baseball Away Game at Doniphan (V\, JV)
END:VEVENT
BEGIN:VEVENT
DTSTAMP:20260420T075934Z
UID:94ea7434-dee8-4079-9497-78fe1994bc9a
DTSTART:20260423T163000
DTEND:20260423T173000
DESCRIPTION:
LOCATION:
SUMMARY:Thayer Girls Softball Home Game vs. Cabool Junior (JH)
END:VEVENT
BEGIN:VEVENT
DTSTAMP:20260420T075934Z
UID:f617c4a6-6535-4f12-a012-b4cb826905b8
DTSTART:20260423T163000
DTEND:20260423T190000
DESCRIPTION:
LOCATION:Ava
SUMMARY:Thayer Spring Season Baseball Away Game at Ava (V\, JV)
END:VEVENT
BEGIN:VEVENT
DTSTAMP:20260420T075934Z
UID:14ff0ba9-13ff-451b-bef6-3cb9d7a87825
DTSTART:20260423T163000
DTEND:20260423T190000
DESCRIPTION:
LOCATION:Thayer
SUMMARY:Thayer Spring Season Softball Home Game vs. Liberty (Mountain View)
  (V\, JV)
END:VEVENT
BEGIN:VEVENT
DTSTAMP:20260420T075934Z
UID:a4f1874d-14df-4105-9567-31f507c3914f
DTSTART:20260424T163000
DTEND:20260424T173000
DESCRIPTION:
LOCATION:Thayer
SUMMARY:Thayer Baseball Home Game vs. Van Buren JH (JH)
END:VEVENT
BEGIN:VEVENT
DTSTAMP:20260420T075934Z
UID:ae30a7d9-f318-4c8b-a8f9-594a33e4e67c
DTSTART:20260425T000000
DTEND:20260425T010000
DESCRIPTION:
LOCATION:Mountain Grove
SUMMARY:Thayer Boys Track and Field Away Meet at Mountain Grove (V)
END:VEVENT
BEGIN:VEVENT
DTSTAMP:20260420T075934Z
UID:2e915c05-da4e-4ed6-9456-8f88b82ff10b
DTSTART:20260425T000000
DTEND:20260425T010000
DESCRIPTION:
LOCATION:Mountain Grove
SUMMARY:Thayer Girls Track and Field Away Meet at Mountain Grove (V)
END:VEVENT
BEGIN:VEVENT
DTSTAMP:20260420T075934Z
UID:2e1a5d2f-f5b9-405c-acfb-7d8934d45ec3
DTSTART:20260427T000000
DTEND:20260427T010000
DESCRIPTION:
LOCATION:Buffalo
SUMMARY:Thayer Boys Track and Field Away Meet at Buffalo (JV)
END:VEVENT
BEGIN:VEVENT
DTSTAMP:20260420T075934Z
UID:22447966-d7aa-49e2-bd71-535f77fd5317
DTSTART:20260427T000000
DTEND:20260427T010000
DESCRIPTION:
LOCATION:Buffalo
SUMMARY:Thayer Girls Track and Field Away Meet at Buffalo (JV)
END:VEVENT
BEGIN:VEVENT
DTSTAMP:20260420T075934Z
UID:9d943ee0-8c31-476b-9df7-b88f77ff7279
DTSTART:20260427T163000
DTEND:20260427T173000
DESCRIPTION:
LOCATION:
SUMMARY:Thayer Girls Softball Home Game vs. Winona Jr. (JH)
END:VEVENT
BEGIN:VEVENT
DTSTAMP:20260420T075934Z
UID:11b8aa1e-52fe-4fd7-856a-6b36e8daf152
DTSTART:20260427T163000
DTEND:20260427T190000
DESCRIPTION:
LOCATION:Thayer
SUMMARY:Thayer Spring Season Baseball Home Game vs. Liberty (Mountain View)
  (V\, JV)
END:VEVENT
BEGIN:VEVENT
DTSTAMP:20260420T075934Z
UID:0e9ef78c-473c-428b-8662-19aa45d98ddb
DTSTART:20260427T180000
DTEND:20260427T190000
DESCRIPTION:
LOCATION:Thayer
SUMMARY:Thayer Spring Season Softball Home Game vs. Koshkonong (V)
END:VEVENT
BEGIN:VEVENT
DTSTAMP:20260420T075934Z
UID:d480e686-3991-4764-874c-a59e0e137513
DTSTART:20260428T000000
DTEND:20260428T173000
DESCRIPTION:
LOCATION:Bakersfield
SUMMARY:Thayer Spring Season Baseball Away Game at Bakersfield (V\, JV)
END:VEVENT
BEGIN:VEVENT
DTSTAMP:20260420T075934Z
UID:1ab3c80b-0f90-4fa1-90f8-7d323167b00a
DTSTART:20260428T163000
DTEND:20260428T173000
DESCRIPTION:
LOCATION:Dora
SUMMARY:Thayer Girls Softball Away Game at Dora Junior High (JH)
END:VEVENT
BEGIN:VEVENT
DTSTAMP:20260420T075934Z
UID:816224d8-84e7-4508-9a47-d6e032463eb0
DTSTART:20260430T000000
DTEND:20260430T173000
DESCRIPTION:
LOCATION:
SUMMARY:Thayer Spring Season Baseball Home Game vs. Gainesville (V\, JV)
END:VEVENT
BEGIN:VEVENT
DTSTAMP:20260420T075934Z
UID:2a1f122a-bc4c-431e-b374-9a033cc33591
DTSTART:20260501T163000
DTEND:20260501T173000
DESCRIPTION:
LOCATION:Neelyville
SUMMARY:Thayer Spring Season Baseball Away Game at Neelyville (V)
END:VEVENT
BEGIN:VEVENT
DTSTAMP:20260420T075934Z
UID:ff4104e6-a171-4255-87cf-5eb347a0f77a
DTSTART:20260502T000000
DTEND:20260502T010000
DESCRIPTION:
LOCATION:Waynesville
SUMMARY:Thayer Boys Track and Field Away Meet at Waynesville (JH)
END:VEVENT
BEGIN:VEVENT
DTSTAMP:20260420T075934Z
UID:ee27971d-7702-45b9-bc1e-22b74d603a0d
DTSTART:20260502T000000
DTEND:20260502T010000
DESCRIPTION:
LOCATION:Waynesville
SUMMARY:Thayer Girls Track and Field Away Meet at Waynesville (JH)
END:VEVENT
BEGIN:VEVENT
DTSTAMP:20260420T075934Z
UID:dccc3d94-1052-4bb8-b5ca-f757cf21d1bc
DTSTART:20260504T000000
DTEND:20260504T000000
DESCRIPTION:
LOCATION:
SUMMARY:Thayer Varsity Boys Track and Field Tournament: SCA Conference Cham
 pionship
END:VEVENT
BEGIN:VEVENT
DTSTAMP:20260420T075934Z
UID:f3c4250d-c2c3-44aa-9faa-95903fbedc6e
DTSTART:20260504T000000
DTEND:20260504T000000
DESCRIPTION:
LOCATION:
SUMMARY:Thayer Varsity Girls Track and Field Tournament: SCA Conference Cha
 mpionship
END:VEVENT
BEGIN:VEVENT
DTSTAMP:20260420T075934Z
UID:0eb3e5ba-4651-4b35-9aff-8571b74ce64c
DTSTART:20260504T163000
DTEND:20260504T173000
DESCRIPTION:
LOCATION:Houston
SUMMARY:Thayer Girls Softball Away Game at Houston (JH)
END:VEVENT
BEGIN:VEVENT
DTSTAMP:20260420T075934Z
UID:555a8bef-fe1c-479c-b87b-310aa755915a
DTSTART:20260504T163000
DTEND:20260504T173000
DESCRIPTION:
LOCATION:
SUMMARY:Thayer Spring Season Softball Home Game vs. Seymour (V)
END:VEVENT
BEGIN:VEVENT
DTSTAMP:20260420T075934Z
UID:b5cb874b-4c9b-4e46-a785-67ac338975d5
DTSTART:20260505T000000
DTEND:20260505T000000
DESCRIPTION:
LOCATION:
SUMMARY:Thayer Junior High Boys Track and Field Tournament: SCA JH Champion
 ship
END:VEVENT
BEGIN:VEVENT
DTSTAMP:20260420T075934Z
UID:ec29a234-b7bf-4cfd-9eae-9a6ca4c26abd
DTSTART:20260505T000000
DTEND:20260505T000000
DESCRIPTION:
LOCATION:
SUMMARY:Thayer Junior High Girls Track and Field Tournament: SCA JH Champio
 nship
END:VEVENT
BEGIN:VEVENT
DTSTAMP:20260420T075934Z
UID:1b580dfc-3da4-4905-a9ff-bed353eaa867
DTSTART:20260505T163000
DTEND:20260505T173000
DESCRIPTION:
LOCATION:Willow Springs
SUMMARY:Thayer Baseball Away Game at Willow Springs (JH)
END:VEVENT
BEGIN:VEVENT
DTSTAMP:20260420T075934Z
UID:586c2fda-180f-4fe4-ae18-835f57570735
DTSTART:20260507T163000
DTEND:20260507T173000
DESCRIPTION:
LOCATION:Alton
SUMMARY:Thayer Baseball Away Game at Alton Jr. (JH)
END:VEVENT
BEGIN:VEVENT
DTSTAMP:20260420T075934Z
UID:7152c71b-c47c-4672-8c2c-4749b84d0183
DTSTART:20260507T163000
DTEND:20260507T173000
DESCRIPTION:
LOCATION:Thayer
SUMMARY:Thayer Girls Softball Home Game vs. Doniphan (JH)
END:VEVENT
BEGIN:VEVENT
DTSTAMP:20260420T075934Z
UID:2d5b71bb-1896-4883-9bda-25edf236f95f
DTSTART:20260507T180000
DTEND:20260507T190000
DESCRIPTION:
LOCATION:Alton
SUMMARY:Thayer Spring Season Baseball Away Game at Alton (V)
END:VEVENT
BEGIN:VEVENT
DTSTAMP:20260420T075934Z
UID:89ab26c0-4e4d-4659-8dff-f18ddde72f4e
DTSTART:20260508T000000
DTEND:20260508T173000
DESCRIPTION:
LOCATION:Thayer
SUMMARY:Thayer Spring Season Baseball Home Game vs. Summersville (V\, JV)
END:VEVENT
BEGIN:VEVENT
DTSTAMP:20260420T075934Z
UID:953c9e27-27cb-4915-9d93-538d39376fc8
DTSTART:20260508T183000
DTEND:20260508T193000
DESCRIPTION:
LOCATION:Thayer
SUMMARY:Thayer Baseball Home Game vs. Summersville Jr. (JH)
END:VEVENT
END:VCALENDAR
