BEGIN:VCALENDAR
VERSION:2.0
PRODID:icalendar-ruby
CALSCALE:GREGORIAN
BEGIN:VTIMEZONE
TZID:America/Los_Angeles
BEGIN:DAYLIGHT
DTSTART:20260308T030000
TZOFFSETFROM:-0800
TZOFFSETTO:-0700
RRULE:FREQ=YEARLY;BYDAY=2SU;BYMONTH=3
TZNAME:PDT
END:DAYLIGHT
BEGIN:STANDARD
DTSTART:20261101T010000
TZOFFSETFROM:-0700
TZOFFSETTO:-0800
RRULE:FREQ=YEARLY;BYDAY=1SU;BYMONTH=11
TZNAME:PST
END:STANDARD
END:VTIMEZONE
BEGIN:VEVENT
DTSTAMP:20260421T042421Z
UID:21067000-bb20-42dd-bf22-a850f040eb56
DTSTART:20260420T173000
DTEND:20260420T180000
DESCRIPTION:<p><br>──────────<br><br>John Hannah is inv
 iting you to a scheduled Zoom meeting.<br>Join Zoom Meeting<br><a href="ht
 tps://www.google.com/url?q=https://us02web.zoom.us/j/87816594066&amp\;sa=D
 &amp\;source=calendar&amp\;ust=1775583627340157&amp\;usg=AOvVaw3TAEBNsrX8y
 xq2q4ca9cns" target="_blank">https://us02web.zoom.us/j/87816594066</a><br>
 <br>Meeting ID: 878 1659 4066<br><br>---<br><br>One tap mobile<br>+1253205
 0468\,\,87816594066# US<br>+12532158782\,\,87816594066# US (Tacoma)<br><br
 >---<br><br>Dial by your location<br>• +1 253 205 0468 US<br>• +1 253 
 215 8782 US (Tacoma)<br>• +1 669 900 9128 US (San Jose)<br>• +1 719 35
 9 4580 US<br>• +1 346 248 7799 US (Houston)<br>• +1 669 444 9171 US<br
 >• +1 646 558 8656 US (New York)<br>• +1 646 931 3860 US<br>• +1 689
  278 1000 US<br>• +1 301 715 8592 US (Washington DC)<br>• +1 305 224 1
 968 US<br>• +1 309 205 3325 US<br>• +1 312 626 6799 US (Chicago)<br>
 • +1 360 209 5623 US<br>• +1 386 347 5053 US<br>• +1 507 473 4847 US
 <br>• +1 564 217 2000 US<br><br>Meeting ID: 878 1659 4066<br><br>Find yo
 ur local number: <a href="https://www.google.com/url?q=https://us02web.zoo
 m.us/u/kbMCypUSbn&amp\;sa=D&amp\;source=calendar&amp\;ust=1775583627340157
 &amp\;usg=AOvVaw1Z9vy4HAPTdCMrJDK-nT2w" target="_blank">https://us02web.zo
 om.us/u/kbMCypUSbn</a><br><br><br><br>──────────</p>
LOCATION:https://us02web.zoom.us/j/87816594066?jst=3
SUMMARY:Budget Extension public hearing
END:VEVENT
BEGIN:VEVENT
DTSTAMP:20260421T042421Z
UID:2043c4de-a144-49e1-ac72-5b4e96e95260
DTSTART:20260420T180000
DTEND:20260420T193000
DESCRIPTION:<p><br>──────────<br><br>John Hannah is inv
 iting you to a scheduled Zoom meeting.<br>Join Zoom Meeting<br>https://us0
 2web.zoom.us/j/87816594066<br><br>Meeting ID: 878 1659 4066<br><br>---<br>
 <br>One tap mobile<br>+12532050468\,\,87816594066# US<br>+12532158782\,\,8
 7816594066# US (Tacoma)<br><br>---<br><br>Dial by your location<br>• +1 
 253 205 0468 US<br>• +1 253 215 8782 US (Tacoma)<br>• +1 669 900 9128 
 US (San Jose)<br>• +1 719 359 4580 US<br>• +1 346 248 7799 US (Houston
 )<br>• +1 669 444 9171 US<br>• +1 646 558 8656 US (New York)<br>• +1
  646 931 3860 US<br>• +1 689 278 1000 US<br>• +1 301 715 8592 US (Wash
 ington DC)<br>• +1 305 224 1968 US<br>• +1 309 205 3325 US<br>• +1 3
 12 626 6799 US (Chicago)<br>• +1 360 209 5623 US<br>• +1 386 347 5053 
 US<br>• +1 507 473 4847 US<br>• +1 564 217 2000 US<br><br>Meeting ID: 
 878 1659 4066<br><br>Find your local number: https://us02web.zoom.us/u/kbM
 CypUSbn<br><br><br><br>──────────</p>
LOCATION:https://us02web.zoom.us/j/87816594066?jst=3
SUMMARY:Regular Board Meeting
END:VEVENT
BEGIN:VEVENT
DTSTAMP:20260421T042421Z
UID:4a5929c5-0612-49a4-b7d8-5adb7e54668f
DTSTART:20260518T180000
DTEND:20260518T193000
DESCRIPTION:<p><br>──────────<br><br>John Hannah is inv
 iting you to a scheduled Zoom meeting.<br>Join Zoom Meeting<br>https://us0
 2web.zoom.us/j/87816594066<br><br>Meeting ID: 878 1659 4066<br><br>---<br>
 <br>One tap mobile<br>+12532050468\,\,87816594066# US<br>+12532158782\,\,8
 7816594066# US (Tacoma)<br><br>---<br><br>Dial by your location<br>• +1 
 253 205 0468 US<br>• +1 253 215 8782 US (Tacoma)<br>• +1 669 900 9128 
 US (San Jose)<br>• +1 719 359 4580 US<br>• +1 346 248 7799 US (Houston
 )<br>• +1 669 444 9171 US<br>• +1 646 558 8656 US (New York)<br>• +1
  646 931 3860 US<br>• +1 689 278 1000 US<br>• +1 301 715 8592 US (Wash
 ington DC)<br>• +1 305 224 1968 US<br>• +1 309 205 3325 US<br>• +1 3
 12 626 6799 US (Chicago)<br>• +1 360 209 5623 US<br>• +1 386 347 5053 
 US<br>• +1 507 473 4847 US<br>• +1 564 217 2000 US<br><br>Meeting ID: 
 878 1659 4066<br><br>Find your local number: https://us02web.zoom.us/u/kbM
 CypUSbn<br><br><br><br>──────────</p>
LOCATION:https://us02web.zoom.us/j/87816594066?jst=3
SUMMARY:Regular Board Meeting
END:VEVENT
BEGIN:VEVENT
DTSTAMP:20260421T042421Z
UID:d2dfd8df-7ae7-4385-9d49-dd30875180d9
DTSTART:20260622T180000
DTEND:20260622T193000
DESCRIPTION:<p><br>──────────<br><br>John Hannah is inv
 iting you to a scheduled Zoom meeting.<br>Join Zoom Meeting<br>https://us0
 2web.zoom.us/j/87816594066<br><br>Meeting ID: 878 1659 4066<br><br>---<br>
 <br>One tap mobile<br>+12532050468\,\,87816594066# US<br>+12532158782\,\,8
 7816594066# US (Tacoma)<br><br>---<br><br>Dial by your location<br>• +1 
 253 205 0468 US<br>• +1 253 215 8782 US (Tacoma)<br>• +1 669 900 9128 
 US (San Jose)<br>• +1 719 359 4580 US<br>• +1 346 248 7799 US (Houston
 )<br>• +1 669 444 9171 US<br>• +1 646 558 8656 US (New York)<br>• +1
  646 931 3860 US<br>• +1 689 278 1000 US<br>• +1 301 715 8592 US (Wash
 ington DC)<br>• +1 305 224 1968 US<br>• +1 309 205 3325 US<br>• +1 3
 12 626 6799 US (Chicago)<br>• +1 360 209 5623 US<br>• +1 386 347 5053 
 US<br>• +1 507 473 4847 US<br>• +1 564 217 2000 US<br><br>Meeting ID: 
 878 1659 4066<br><br>Find your local number: https://us02web.zoom.us/u/kbM
 CypUSbn<br><br><br><br>──────────</p>
LOCATION:https://us02web.zoom.us/j/87816594066?jst=3
SUMMARY:Regular Board Meeting
END:VEVENT
END:VCALENDAR
