BEGIN:VCALENDAR
VERSION:2.0
PRODID:icalendar-ruby
CALSCALE:GREGORIAN
BEGIN:VTIMEZONE
TZID:America/New_York
BEGIN:DAYLIGHT
DTSTART:20260308T030000
TZOFFSETFROM:-0500
TZOFFSETTO:-0400
RRULE:FREQ=YEARLY;BYDAY=2SU;BYMONTH=3
TZNAME:EDT
END:DAYLIGHT
BEGIN:STANDARD
DTSTART:20261101T010000
TZOFFSETFROM:-0400
TZOFFSETTO:-0500
RRULE:FREQ=YEARLY;BYDAY=1SU;BYMONTH=11
TZNAME:EST
END:STANDARD
END:VTIMEZONE
BEGIN:VEVENT
DTSTAMP:20260425T121018Z
UID:24c7fb4d-998b-40eb-a89c-cc7a7755285b
DTSTART:20260427T150000
DTEND:20260427T164500
DESCRIPTION:https://richmond.gofmx.com/scheduling/requests/2624202/occurren
 ces/6539097
LOCATION:68399 S Forest Avenue\, Richmond\, Michigan 48062
SUMMARY:2624202 - Childcare
END:VEVENT
BEGIN:VEVENT
DTSTAMP:20260425T121018Z
UID:060842b4-f282-48f6-a96d-e64e649a1de2
DTSTART:20260428T150000
DTEND:20260428T164500
DESCRIPTION:https://richmond.gofmx.com/scheduling/requests/2624202/occurren
 ces/6539098
LOCATION:68399 S Forest Avenue\, Richmond\, Michigan 48062
SUMMARY:2624202 - Childcare
END:VEVENT
BEGIN:VEVENT
DTSTAMP:20260425T121018Z
UID:cafaf64e-017b-4106-a860-bc090a6094c7
DTSTART:20260429T150000
DTEND:20260429T164500
DESCRIPTION:https://richmond.gofmx.com/scheduling/requests/2624202/occurren
 ces/6539099
LOCATION:68399 S Forest Avenue\, Richmond\, Michigan 48062
SUMMARY:2624202 - Childcare
END:VEVENT
BEGIN:VEVENT
DTSTAMP:20260425T121018Z
UID:3c3aac17-22f8-434b-9fd0-c646f5d5d61c
DTSTART:20260430T130000
DTEND:20260430T140000
DESCRIPTION:https://richmond.gofmx.com/scheduling/requests/2620743/occurren
 ces/6521821
LOCATION:68399 S Forest Avenue\, Richmond\, Michigan 48062
SUMMARY:2620743 - Lee Student Support Meeting
END:VEVENT
BEGIN:VEVENT
DTSTAMP:20260425T121018Z
UID:b2a2606f-6e2c-4a71-bf80-abb4d8350e50
DTSTART:20260430T150000
DTEND:20260430T164500
DESCRIPTION:https://richmond.gofmx.com/scheduling/requests/2624202/occurren
 ces/6539100
LOCATION:68399 S Forest Avenue\, Richmond\, Michigan 48062
SUMMARY:2624202 - Childcare
END:VEVENT
BEGIN:VEVENT
DTSTAMP:20260425T121018Z
UID:6c602986-0d56-422c-bbd5-bebbc47b34dc
DTSTART:20260501T150000
DTEND:20260501T164500
DESCRIPTION:https://richmond.gofmx.com/scheduling/requests/2624202/occurren
 ces/6539101
LOCATION:68399 S Forest Avenue\, Richmond\, Michigan 48062
SUMMARY:2624202 - Childcare
END:VEVENT
BEGIN:VEVENT
DTSTAMP:20260425T121018Z
UID:e4954dc7-ef7a-4440-a6f4-dd53b50e9602
DTSTART:20260504T150000
DTEND:20260504T164500
DESCRIPTION:https://richmond.gofmx.com/scheduling/requests/2624202/occurren
 ces/6539104
LOCATION:68399 S Forest Avenue\, Richmond\, Michigan 48062
SUMMARY:2624202 - Childcare
END:VEVENT
BEGIN:VEVENT
DTSTAMP:20260425T121018Z
UID:9e41121a-75ea-4e14-92f9-c17321f94f35
DTSTART:20260504T150000
DTEND:20260504T160000
DESCRIPTION:https://richmond.gofmx.com/scheduling/requests/2629786/occurren
 ces/6567948
LOCATION:68399 S Forest Avenue\, Richmond\, Michigan 48062
SUMMARY:2629786 - Lee School District Improvement
END:VEVENT
BEGIN:VEVENT
DTSTAMP:20260425T121018Z
UID:720873df-f280-4fc1-b591-1d47184d96e2
DTSTART:20260505T150000
DTEND:20260505T164500
DESCRIPTION:https://richmond.gofmx.com/scheduling/requests/2624202/occurren
 ces/6539105
LOCATION:68399 S Forest Avenue\, Richmond\, Michigan 48062
SUMMARY:2624202 - Childcare
END:VEVENT
BEGIN:VEVENT
DTSTAMP:20260425T121018Z
UID:9c0f329e-a55f-4d5e-a365-a5aabc974ecf
DTSTART:20260506T075000
DTEND:20260506T100000
DESCRIPTION:https://richmond.gofmx.com/scheduling/requests/2650901/occurren
 ces/6662885
LOCATION:68399 S Forest Avenue\, Richmond\, Michigan 48062
SUMMARY:2650901 - IEP Durst-Nim
END:VEVENT
BEGIN:VEVENT
DTSTAMP:20260425T121018Z
UID:c2f695d0-b587-4bd6-a6e3-67e1f51c7e9d
DTSTART:20260506T150000
DTEND:20260506T160000
DESCRIPTION:https://richmond.gofmx.com/scheduling/requests/2621183/occurren
 ces/6524562
LOCATION:68399 S Forest Avenue\, Richmond\, Michigan 48062
SUMMARY:2621183 - Lee PTO Meeting
END:VEVENT
BEGIN:VEVENT
DTSTAMP:20260425T121018Z
UID:f15c8480-a65e-408b-b2eb-ca35065090aa
DTSTART:20260506T150000
DTEND:20260506T164500
DESCRIPTION:https://richmond.gofmx.com/scheduling/requests/2624202/occurren
 ces/6539106
LOCATION:68399 S Forest Avenue\, Richmond\, Michigan 48062
SUMMARY:2624202 - Childcare
END:VEVENT
BEGIN:VEVENT
DTSTAMP:20260425T121018Z
UID:42d5a075-74c0-4288-89b5-e654763b94da
DTSTART:20260507T150000
DTEND:20260507T164500
DESCRIPTION:https://richmond.gofmx.com/scheduling/requests/2624202/occurren
 ces/6539107
LOCATION:68399 S Forest Avenue\, Richmond\, Michigan 48062
SUMMARY:2624202 - Childcare
END:VEVENT
BEGIN:VEVENT
DTSTAMP:20260425T121018Z
UID:20b88ecf-511a-4410-97b8-8b1190097dcc
DTSTART:20260507T150000
DTEND:20260507T161500
DESCRIPTION:https://richmond.gofmx.com/scheduling/requests/2631495/occurren
 ces/6579089
LOCATION:68399 S Forest Avenue\, Richmond\, Michigan 48062
SUMMARY:2631495 - Green Club
END:VEVENT
BEGIN:VEVENT
DTSTAMP:20260425T121018Z
UID:348451d6-fed0-455c-b183-13fc80fcd1fb
DTSTART:20260508T150000
DTEND:20260508T164500
DESCRIPTION:https://richmond.gofmx.com/scheduling/requests/2624202/occurren
 ces/6539108
LOCATION:68399 S Forest Avenue\, Richmond\, Michigan 48062
SUMMARY:2624202 - Childcare
END:VEVENT
BEGIN:VEVENT
DTSTAMP:20260425T121018Z
UID:c343b6ba-06ab-47f0-a13b-c80fe566c227
DTSTART:20260511T150000
DTEND:20260511T164500
DESCRIPTION:https://richmond.gofmx.com/scheduling/requests/2624202/occurren
 ces/6539111
LOCATION:68399 S Forest Avenue\, Richmond\, Michigan 48062
SUMMARY:2624202 - Childcare
END:VEVENT
BEGIN:VEVENT
DTSTAMP:20260425T121018Z
UID:a2ad91ed-c9c9-4044-b49e-99726b9cfc06
DTSTART:20260512T144500
DTEND:20260512T154500
DESCRIPTION:https://richmond.gofmx.com/scheduling/requests/2671440/occurren
 ces/6734514
LOCATION:68399 S Forest Avenue\, Richmond\, Michigan 48062
SUMMARY:2671440 - Lee Student Council Meeting
END:VEVENT
BEGIN:VEVENT
DTSTAMP:20260425T121018Z
UID:8daf4345-9bce-4557-9de5-71b3f4f0aac5
DTSTART:20260512T150000
DTEND:20260512T164500
DESCRIPTION:https://richmond.gofmx.com/scheduling/requests/2624202/occurren
 ces/6539112
LOCATION:68399 S Forest Avenue\, Richmond\, Michigan 48062
SUMMARY:2624202 - Childcare
END:VEVENT
BEGIN:VEVENT
DTSTAMP:20260425T121018Z
UID:5f41f012-f442-4802-8d39-1e1841385587
DTSTART:20260513T150000
DTEND:20260513T164500
DESCRIPTION:https://richmond.gofmx.com/scheduling/requests/2624202/occurren
 ces/6539113
LOCATION:68399 S Forest Avenue\, Richmond\, Michigan 48062
SUMMARY:2624202 - Childcare
END:VEVENT
BEGIN:VEVENT
DTSTAMP:20260425T121018Z
UID:2f38db04-843b-43b9-8305-06250078cf4f
DTSTART:20260514T130000
DTEND:20260514T140000
DESCRIPTION:https://richmond.gofmx.com/scheduling/requests/2620743/occurren
 ces/6521822
LOCATION:68399 S Forest Avenue\, Richmond\, Michigan 48062
SUMMARY:2620743 - Lee Student Support Meeting
END:VEVENT
BEGIN:VEVENT
DTSTAMP:20260425T121018Z
UID:59f009b3-c654-430e-a345-ff200e3c5736
DTSTART:20260514T150000
DTEND:20260514T164500
DESCRIPTION:https://richmond.gofmx.com/scheduling/requests/2624202/occurren
 ces/6539114
LOCATION:68399 S Forest Avenue\, Richmond\, Michigan 48062
SUMMARY:2624202 - Childcare
END:VEVENT
BEGIN:VEVENT
DTSTAMP:20260425T121018Z
UID:d8c83438-819f-41d5-967a-bb2b7b6ad47e
DTSTART:20260515T080000
DTEND:20260515T143000
DESCRIPTION:https://richmond.gofmx.com/scheduling/requests/2678477/occurren
 ces/6757551
LOCATION:Front Parking Lot (Will L. Lee Elementary School)
SUMMARY:2678477 - Lee Color Run
END:VEVENT
BEGIN:VEVENT
DTSTAMP:20260425T121018Z
UID:a9b0b5ee-3cbc-468c-90ec-35704e47a2f1
DTSTART:20260515T150000
DTEND:20260515T164500
DESCRIPTION:https://richmond.gofmx.com/scheduling/requests/2624202/occurren
 ces/6539115
LOCATION:68399 S Forest Avenue\, Richmond\, Michigan 48062
SUMMARY:2624202 - Childcare
END:VEVENT
BEGIN:VEVENT
DTSTAMP:20260425T121018Z
UID:550e3da3-da57-430d-a2c6-2782ea43316e
DTSTART:20260518T150000
DTEND:20260518T164500
DESCRIPTION:https://richmond.gofmx.com/scheduling/requests/2624202/occurren
 ces/6539118
LOCATION:68399 S Forest Avenue\, Richmond\, Michigan 48062
SUMMARY:2624202 - Childcare
END:VEVENT
BEGIN:VEVENT
DTSTAMP:20260425T121018Z
UID:248899d3-89d6-4b2d-ab08-8f577daa854b
DTSTART:20260519T150000
DTEND:20260519T164500
DESCRIPTION:https://richmond.gofmx.com/scheduling/requests/2624202/occurren
 ces/6539119
LOCATION:68399 S Forest Avenue\, Richmond\, Michigan 48062
SUMMARY:2624202 - Childcare
END:VEVENT
BEGIN:VEVENT
DTSTAMP:20260425T121018Z
UID:16727c86-a5f6-49b1-a42d-74725a6f26e4
DTSTART:20260520T150000
DTEND:20260520T164500
DESCRIPTION:https://richmond.gofmx.com/scheduling/requests/2624202/occurren
 ces/6539120
LOCATION:68399 S Forest Avenue\, Richmond\, Michigan 48062
SUMMARY:2624202 - Childcare
END:VEVENT
BEGIN:VEVENT
DTSTAMP:20260425T121018Z
UID:4d0cdb81-1e69-4474-8080-5bb706ba2d47
DTSTART:20260521T150000
DTEND:20260521T164500
DESCRIPTION:https://richmond.gofmx.com/scheduling/requests/2624202/occurren
 ces/6539121
LOCATION:68399 S Forest Avenue\, Richmond\, Michigan 48062
SUMMARY:2624202 - Childcare
END:VEVENT
BEGIN:VEVENT
DTSTAMP:20260425T121018Z
UID:7e00133d-3f1d-4700-b56b-5cc3ab9006dc
DTSTART:20260522T150000
DTEND:20260522T164500
DESCRIPTION:https://richmond.gofmx.com/scheduling/requests/2624202/occurren
 ces/6539122
LOCATION:68399 S Forest Avenue\, Richmond\, Michigan 48062
SUMMARY:2624202 - Childcare
END:VEVENT
BEGIN:VEVENT
DTSTAMP:20260425T121018Z
UID:9ea4c720-6754-422e-aa32-d870739b4cdf
DTSTART:20260525T150000
DTEND:20260525T164500
DESCRIPTION:https://richmond.gofmx.com/scheduling/requests/2624202/occurren
 ces/6539125
LOCATION:68399 S Forest Avenue\, Richmond\, Michigan 48062
SUMMARY:2624202 - Childcare
END:VEVENT
BEGIN:VEVENT
DTSTAMP:20260425T121018Z
UID:47b642e3-c912-4f5f-ae19-fee36a77678f
DTSTART:20260526T150000
DTEND:20260526T164500
DESCRIPTION:https://richmond.gofmx.com/scheduling/requests/2624202/occurren
 ces/6539126
LOCATION:68399 S Forest Avenue\, Richmond\, Michigan 48062
SUMMARY:2624202 - Childcare
END:VEVENT
BEGIN:VEVENT
DTSTAMP:20260425T121018Z
UID:c6166e62-635e-451b-b914-d60447b82f9c
DTSTART:20260527T150000
DTEND:20260527T164500
DESCRIPTION:https://richmond.gofmx.com/scheduling/requests/2624202/occurren
 ces/6539127
LOCATION:68399 S Forest Avenue\, Richmond\, Michigan 48062
SUMMARY:2624202 - Childcare
END:VEVENT
BEGIN:VEVENT
DTSTAMP:20260425T121018Z
UID:a8fac172-4971-4a22-af25-d4d2a14aa624
DTSTART:20260528T150000
DTEND:20260528T164500
DESCRIPTION:https://richmond.gofmx.com/scheduling/requests/2624202/occurren
 ces/6539128
LOCATION:68399 S Forest Avenue\, Richmond\, Michigan 48062
SUMMARY:2624202 - Childcare
END:VEVENT
BEGIN:VEVENT
DTSTAMP:20260425T121018Z
UID:8aa73290-8c8a-4ef4-81b1-96c346e0b401
DTSTART:20260529T150000
DTEND:20260529T164500
DESCRIPTION:https://richmond.gofmx.com/scheduling/requests/2624202/occurren
 ces/6539129
LOCATION:68399 S Forest Avenue\, Richmond\, Michigan 48062
SUMMARY:2624202 - Childcare
END:VEVENT
BEGIN:VEVENT
DTSTAMP:20260425T121018Z
UID:8ffeecf1-fe39-4269-815f-857d02eb9002
DTSTART:20260601T150000
DTEND:20260601T164500
DESCRIPTION:https://richmond.gofmx.com/scheduling/requests/2624202/occurren
 ces/6539132
LOCATION:68399 S Forest Avenue\, Richmond\, Michigan 48062
SUMMARY:2624202 - Childcare
END:VEVENT
BEGIN:VEVENT
DTSTAMP:20260425T121018Z
UID:6ba543c4-0642-4999-9942-a20c7811983c
DTSTART:20260601T150000
DTEND:20260601T160000
DESCRIPTION:https://richmond.gofmx.com/scheduling/requests/2629786/occurren
 ces/6567949
LOCATION:68399 S Forest Avenue\, Richmond\, Michigan 48062
SUMMARY:2629786 - Lee School District Improvement
END:VEVENT
BEGIN:VEVENT
DTSTAMP:20260425T121018Z
UID:fb9d7031-3da3-4783-b38a-4fd13fb32036
DTSTART:20260602T150000
DTEND:20260602T164500
DESCRIPTION:https://richmond.gofmx.com/scheduling/requests/2624202/occurren
 ces/6539133
LOCATION:68399 S Forest Avenue\, Richmond\, Michigan 48062
SUMMARY:2624202 - Childcare
END:VEVENT
BEGIN:VEVENT
DTSTAMP:20260425T121018Z
UID:1fc1ab08-7473-42fc-bb95-7414aae902cb
DTSTART:20260603T150000
DTEND:20260603T164500
DESCRIPTION:https://richmond.gofmx.com/scheduling/requests/2624202/occurren
 ces/6539134
LOCATION:68399 S Forest Avenue\, Richmond\, Michigan 48062
SUMMARY:2624202 - Childcare
END:VEVENT
BEGIN:VEVENT
DTSTAMP:20260425T121018Z
UID:4efe7563-3c2d-43a0-9e55-6e6984f93fc9
DTSTART:20260604T150000
DTEND:20260604T164500
DESCRIPTION:https://richmond.gofmx.com/scheduling/requests/2624202/occurren
 ces/6539135
LOCATION:68399 S Forest Avenue\, Richmond\, Michigan 48062
SUMMARY:2624202 - Childcare
END:VEVENT
BEGIN:VEVENT
DTSTAMP:20260425T121018Z
UID:39aa513e-7f9c-484f-bdf0-7f657516617a
DTSTART:20260605T150000
DTEND:20260605T164500
DESCRIPTION:https://richmond.gofmx.com/scheduling/requests/2624202/occurren
 ces/6539136
LOCATION:68399 S Forest Avenue\, Richmond\, Michigan 48062
SUMMARY:2624202 - Childcare
END:VEVENT
BEGIN:VEVENT
DTSTAMP:20260425T121018Z
UID:c380aa73-f504-449d-8f8f-941485b82ae1
DTSTART:20260608T150000
DTEND:20260608T164500
DESCRIPTION:https://richmond.gofmx.com/scheduling/requests/2624202/occurren
 ces/6539139
LOCATION:68399 S Forest Avenue\, Richmond\, Michigan 48062
SUMMARY:2624202 - Childcare
END:VEVENT
END:VCALENDAR
