BEGIN:VCALENDAR
VERSION:2.0
PRODID:icalendar-ruby
CALSCALE:GREGORIAN
BEGIN:VTIMEZONE
TZID:America/Chicago
BEGIN:DAYLIGHT
DTSTART:20260308T030000
TZOFFSETFROM:-0600
TZOFFSETTO:-0500
RRULE:FREQ=YEARLY;BYDAY=2SU;BYMONTH=3
TZNAME:CDT
END:DAYLIGHT
BEGIN:STANDARD
DTSTART:20261101T010000
TZOFFSETFROM:-0500
TZOFFSETTO:-0600
RRULE:FREQ=YEARLY;BYDAY=1SU;BYMONTH=11
TZNAME:CST
END:STANDARD
END:VTIMEZONE
BEGIN:VEVENT
DTSTAMP:20260426T041249Z
UID:2cbc30d6-12fe-4c6f-9484-e74fa8a5d2c0
DTSTART:20260427T160000
DTEND:20260427T180000
DESCRIPTION:
LOCATION:
SUMMARY: Boys Volleyball vs DP (8A\, 7H)
END:VEVENT
BEGIN:VEVENT
DTSTAMP:20260426T041249Z
UID:e3aac08b-0fac-4b7a-9b96-89c4cb23902a
DTSTART:20260427T160000
DTEND:20260427T180000
DESCRIPTION:
LOCATION:
SUMMARY:Girls Soccer at DP
END:VEVENT
BEGIN:VEVENT
DTSTAMP:20260426T041249Z
UID:aa73b0c0-d9cc-4882-b038-b11ce29c3b2c
DTSTART:20260428T180000
DTEND:20260428T193000
DESCRIPTION:
LOCATION:
SUMMARY:Step Up Night
END:VEVENT
BEGIN:VEVENT
DTSTAMP:20260426T041249Z
UID:57e5d6f6-132c-4f8e-a216-7621d923b093
DTSTART:20260429T160000
DTEND:20260429T180000
DESCRIPTION:
LOCATION:
SUMMARY: Boys Volleyball vs JFK (8H\, 7A)
END:VEVENT
BEGIN:VEVENT
DTSTAMP:20260426T041249Z
UID:683d4c5b-5cc6-41d0-bc8c-ef587ebc5d3e
DTSTART:20260429T160000
DTEND:20260429T180000
DESCRIPTION:
LOCATION:
SUMMARY:Girls Soccer vs JFK
END:VEVENT
BEGIN:VEVENT
DTSTAMP:20260426T041249Z
UID:2b4f1f82-7686-43f7-893e-4cdfb66caceb
DTSTART:20260501T160000
DTEND:20260501T180000
DESCRIPTION:
LOCATION:
SUMMARY: Boys Volleyball vs HG (8A\, 7H)
END:VEVENT
BEGIN:VEVENT
DTSTAMP:20260426T041249Z
UID:09af7fe3-9e1e-4976-91b3-1075e6bb540f
DTSTART:20260501T160000
DTEND:20260501T180000
DESCRIPTION:
LOCATION:
SUMMARY:Girls Soccer at HG
END:VEVENT
BEGIN:VEVENT
DTSTAMP:20260426T041249Z
UID:5c60e7ab-c7b2-4a29-b31f-f1156f15e857
DTSTART:20260501T163000
DTEND:20260501T203000
DESCRIPTION:
LOCATION:
SUMMARY:Track Cougar Grand Prix at PSHS
END:VEVENT
BEGIN:VEVENT
DTSTAMP:20260426T041249Z
UID:1b98ff4a-c8e4-4a87-9a15-d5c33ae408f2
DTSTART:20260504T160000
DTEND:20260504T180000
DESCRIPTION:
LOCATION:
SUMMARY:Girls Soccer at YMS
END:VEVENT
BEGIN:VEVENT
DTSTAMP:20260426T041249Z
UID:04e54466-90d4-4d6d-a8c4-817eb371f09e
DTSTART;VALUE=DATE:20260505
DTEND;VALUE=DATE:20260506
DESCRIPTION:
LOCATION:
SUMMARY:Band Concert
END:VEVENT
BEGIN:VEVENT
DTSTAMP:20260426T041249Z
UID:db64b6e0-6624-40de-9c8d-2e046ef8f44d
DTSTART:20260505T070000
DTEND:20260505T080000
DESCRIPTION:
LOCATION:
SUMMARY:NJHS Meeting - Cafeteria 
END:VEVENT
BEGIN:VEVENT
DTSTAMP:20260426T041249Z
UID:1e9a3e2a-cb16-4c31-8e83-5494b4669d62
DTSTART:20260505T163000
DTEND:20260505T190000
DESCRIPTION:
LOCATION:
SUMMARY:Track vs DP/SMI at PEHS
END:VEVENT
BEGIN:VEVENT
DTSTAMP:20260426T041249Z
UID:b4caaca1-3652-41fd-9493-01ef12e69d2a
DTSTART:20260506T160000
DTEND:20260506T180000
DESCRIPTION:
LOCATION:
SUMMARY: Boys Volleyball vs AS (8H\, 7A)
END:VEVENT
BEGIN:VEVENT
DTSTAMP:20260426T041249Z
UID:9416b053-2729-4123-bd73-e6decb9dcdbb
DTSTART:20260506T160000
DTEND:20260506T180000
DESCRIPTION:
LOCATION:
SUMMARY:Girls Soccer vs AS
END:VEVENT
BEGIN:VEVENT
DTSTAMP:20260426T041249Z
UID:93ada025-5e0b-4882-ac7c-a66d8480e947
DTSTART:20260506T183000
DTEND:20260506T210000
DESCRIPTION:The District 202 Board of Education will meet in regular sessio
 n at the District Administrative Center.\n\nThe meeting will convene at 6:
 30 p.m. The Board goes immediately into closed session as allowed by law a
 nd returns to open session at 7:30 p.m.\n\nAgenda and YouTube viewing link
  will be posted 48 hours before the meeting as required by law.
LOCATION:Aux Sable Middle School\, 2001 Wildspring Pkwy\, Joliet\, IL 60431
 \, USA
SUMMARY:Board of Education Regular Meeting
END:VEVENT
BEGIN:VEVENT
DTSTAMP:20260426T041249Z
UID:50d1bb85-f798-4cb3-9d6b-8f37a1dc2517
DTSTART:20260507T160000
DTEND:20260507T180000
DESCRIPTION:
LOCATION:
SUMMARY: Boys Volleyball vs IT (8A\, 7H)
END:VEVENT
BEGIN:VEVENT
DTSTAMP:20260426T041249Z
UID:7da133e6-6904-4203-91d5-196e798ee38c
DTSTART:20260507T160000
DTEND:20260507T180000
DESCRIPTION:
LOCATION:
SUMMARY:Girls Soccer at IT
END:VEVENT
BEGIN:VEVENT
DTSTAMP:20260426T041249Z
UID:5aefd602-dace-4083-a060-83d0fd51c796
DTSTART:20260508T163000
DTEND:20260508T210000
DESCRIPTION:
LOCATION:
SUMMARY:Track Paw Pac at PCHS
END:VEVENT
BEGIN:VEVENT
DTSTAMP:20260426T041249Z
UID:0b3aaa46-6adf-4404-9d6b-567ff703c331
DTSTART:20260511T160000
DTEND:20260511T190000
DESCRIPTION:
LOCATION:
SUMMARY: Boys Volleyball Paw Pac
END:VEVENT
BEGIN:VEVENT
DTSTAMP:20260426T041249Z
UID:e1bf7c72-0a38-4f4d-9264-c767d4608389
DTSTART:20260511T160000
DTEND:20260511T180000
DESCRIPTION:
LOCATION:
SUMMARY:Girls Soccer Paw Pac
END:VEVENT
BEGIN:VEVENT
DTSTAMP:20260426T041249Z
UID:1b55c7af-e9ed-4957-9824-04e6b4b36f2b
DTSTART:20260512T160000
DTEND:20260512T190000
DESCRIPTION:
LOCATION:
SUMMARY: Boys Volleyball Paw Pac
END:VEVENT
BEGIN:VEVENT
DTSTAMP:20260426T041249Z
UID:7b6d05ce-15ef-4cf5-a9c4-648e5eeed076
DTSTART:20260512T160000
DTEND:20260512T180000
DESCRIPTION:
LOCATION:
SUMMARY:Girls Soccer Paw Pac
END:VEVENT
BEGIN:VEVENT
DTSTAMP:20260426T041249Z
UID:a5923c42-1ce6-4fa1-a2c2-8d51d2d21fcd
DTSTART:20260513T160000
DTEND:20260513T190000
DESCRIPTION:
LOCATION:
SUMMARY: Boys Volleyball Paw Pac
END:VEVENT
BEGIN:VEVENT
DTSTAMP:20260426T041249Z
UID:ea40ec42-6177-4bd6-90d8-ff772a813926
DTSTART:20260513T160000
DTEND:20260513T180000
DESCRIPTION:
LOCATION:
SUMMARY:Girls Soccer Paw Pac
END:VEVENT
BEGIN:VEVENT
DTSTAMP:20260426T041249Z
UID:91394b5e-bf8b-4a5b-bbaf-4956ebc3b98b
DTSTART:20260513T180000
DTEND:20260513T210000
DESCRIPTION:6:00 p.m. – Curriculum & Technology\n7:00 p.m. – Site/Finan
 ce or immediately following Curriculum & Technology\n8:00 p.m. – Personn
 el\, Policy & Administration or immediately following Site/Finance\n\nAgen
 das and instructions for Viewing the Meetings Online WILL BE POSTED 48 HOU
 RS IN ADVANCE AS REQUIRED BY LAW
LOCATION:District Administrative Center\, 15732 Howard Street\, Plainfield
SUMMARY:Board of Education Committee Meeting
END:VEVENT
BEGIN:VEVENT
DTSTAMP:20260426T041249Z
UID:104559e0-66e0-445a-9175-7a9faf4db8f7
DTSTART;VALUE=DATE:20260514
DTEND;VALUE=DATE:20260515
DESCRIPTION:
LOCATION:
SUMMARY:8th Grade Luncheon - Whitetail Ridge Golf Club
END:VEVENT
BEGIN:VEVENT
DTSTAMP:20260426T041249Z
UID:114d6627-a4b8-4ed9-ad94-bdaf1f57116f
DTSTART;VALUE=DATE:20260514
DTEND;VALUE=DATE:20260515
DESCRIPTION:
LOCATION:
SUMMARY:Choir Concert
END:VEVENT
BEGIN:VEVENT
DTSTAMP:20260426T041249Z
UID:46733f24-f3f5-4662-b4f6-a6897ecb0a42
DTSTART:20260516T100000
DTEND:20260516T120000
DESCRIPTION:<p><strong>PHS-CC -&nbsp\;&nbsp\;</strong><span>10:00am @&nbsp\
 ; 24120 W. Fort Beggs Drive\,&nbsp\;Plainfield\, IL 60544</span><br><stron
 g>PNHS -&nbsp\;</strong><span>&nbsp\; &nbsp\; &nbsp\; 10:00am @&nbsp\; 120
 05 S. 248th Avenue\, Plainfield\, IL 60585</span><br><strong>PSHS -&nbsp\;
  &nbsp\; &nbsp\; &nbsp\;</strong><span>10:00am @&nbsp\; 7800 W. Caton Farm
  Road\, Plainfield\, IL 60586</span><br><strong>PEHS -&nbsp\; &nbsp\; &nbs
 p\; &nbsp\;</strong><span>10:00am @&nbsp\; 12001 S. Naperville Road\, Plai
 nfield\, IL 60585</span><br><br><strong><br></strong><br><strong>Rainout I
 nfo</strong><br><span>Rain delay up to 7pm\, if weather is an issue. Make 
 up Sunday\, May 17\, 2026 @ 1pm</span></p>
LOCATION:
SUMMARY:High School Graduations
END:VEVENT
BEGIN:VEVENT
DTSTAMP:20260426T041249Z
UID:207f2f11-f850-492f-a45e-8f50c8fe01cb
DTSTART:20260519T170000
DTEND:20260519T180000
DESCRIPTION:
LOCATION:
SUMMARY:8th Grade Promotion
END:VEVENT
BEGIN:VEVENT
DTSTAMP:20260426T041249Z
UID:ee5a4126-e2b5-4708-903c-224f8f0de59f
DTSTART:20260519T170000
DTEND:20260519T203000
DESCRIPTION:<p><strong>Middle School Promotion Schedule</strong><br></p><p>
 <strong>JFK </strong>at 7 p.m. at PEHS</p><p><strong>Indian Trail</strong>
  at 5 p.m. / <strong>Timber Ridge</strong> at 7 p.m. at PHS-CC</p><p><stro
 ng>Ira Jones</strong> 5 p.m. / <strong>Heritage Grove</strong> at 7 p.m. a
 t PNHS</p><p><strong>Drauden Point</strong> at 5 p.m. / <strong>Aux Sable<
 /strong> at 7 p.m. at PSHS</p>
LOCATION:
SUMMARY:Middle School Promotions (look inside for time details)
END:VEVENT
BEGIN:VEVENT
DTSTAMP:20260426T041249Z
UID:fa66f6ce-d053-429c-b583-205bd2112c3e
DTSTART;VALUE=DATE:20260520
DTEND;VALUE=DATE:20260521
DESCRIPTION:
LOCATION:
SUMMARY:NJHS Induction - Large Gym 
END:VEVENT
BEGIN:VEVENT
DTSTAMP:20260426T041249Z
UID:7d727509-30f0-4967-85e6-a2e0f8235301
DTSTART:20260520T183000
DTEND:20260520T210000
DESCRIPTION:The District 202 Board of Education will meet in regular sessio
 n at the District Administrative Center.\n\nThe meeting will convene at 6:
 30 p.m. The Board goes immediately into closed session as allowed by law a
 nd returns to open session at 7:30 p.m.\n\nAgenda and YouTube viewing link
  will be posted 48 hours before the meeting as required by law.
LOCATION:District Administrative Center\, 15732 Howard Street\, Plainfield
SUMMARY: Board of Education Regular Meeting
END:VEVENT
BEGIN:VEVENT
DTSTAMP:20260426T041249Z
UID:43ce824a-bf73-4efa-858c-dc54075b3896
DTSTART;VALUE=DATE:20260522
DTEND;VALUE=DATE:20260523
DESCRIPTION:* SIP / Early Release:\nHigh School: 7:05am - 11:15am\nMiddle S
 chool: 7:55am - 12:00pm\nElementary: 9:05am - 12:45pm\nLakewood Falls: 8:5
 5am - 12:35pm\nNo Pre-K Attendance
LOCATION:
SUMMARY:School Improvement Day - Early Release *
END:VEVENT
BEGIN:VEVENT
DTSTAMP:20260426T041249Z
UID:bea5b56f-72c6-49f6-be00-29a25a78869d
DTSTART;VALUE=DATE:20260522
DTEND;VALUE=DATE:20260523
DESCRIPTION:
LOCATION:
SUMMARY:School Improvement - Early Release
END:VEVENT
BEGIN:VEVENT
DTSTAMP:20260426T041249Z
UID:7d24ef2a-c533-4860-a77b-4af53270127e
DTSTART;VALUE=DATE:20260522
DTEND;VALUE=DATE:20260523
DESCRIPTION:
LOCATION:
SUMMARY:Tentative Last Day of School 
END:VEVENT
BEGIN:VEVENT
DTSTAMP:20260426T041249Z
UID:1d5d745a-d6b4-48e3-973f-a6d44270e491
DTSTART;VALUE=DATE:20260522
DTEND;VALUE=DATE:20260523
DESCRIPTION:
LOCATION:
SUMMARY:Tentative Last Day of School - if NO emergency days are used
END:VEVENT
BEGIN:VEVENT
DTSTAMP:20260426T041249Z
UID:10c7673c-0f5e-416b-9ff3-7a55e4d4c8cc
DTSTART;VALUE=DATE:20260525
DTEND;VALUE=DATE:20260526
DESCRIPTION:
LOCATION:
SUMMARY:Memorial Day - NO SCHOOL
END:VEVENT
BEGIN:VEVENT
DTSTAMP:20260426T041249Z
UID:89b76fe5-2e8e-47cc-a916-3523023e5cf6
DTSTART;VALUE=DATE:20260601
DTEND;VALUE=DATE:20260602
DESCRIPTION:
LOCATION:
SUMMARY:Tentative Last Day of School - if ALL emergency days are used
END:VEVENT
BEGIN:VEVENT
DTSTAMP:20260426T041249Z
UID:8a3226d0-fcdd-47eb-ba78-67b6518c1762
DTSTART:20260610T183000
DTEND:20260610T210000
DESCRIPTION:
LOCATION:District Administrative Center\, 15732 Howard Street\, Plainfield
SUMMARY:Board of Education Work Study
END:VEVENT
BEGIN:VEVENT
DTSTAMP:20260426T041249Z
UID:78b6987f-b020-4c30-a9b8-0473d7f40cd8
DTSTART:20260617T180000
DTEND:20260617T210000
DESCRIPTION:6:00 p.m. – Curriculum & Technology\n7:00 p.m. – Site/Finan
 ce or immediately following Curriculum & Technology\n8:00 p.m. – Personn
 el\, Policy & Administration or immediately following Site/Finance\n\nAgen
 das and instructions for Viewing the Meetings Online WILL BE POSTED 48 HOU
 RS IN ADVANCE AS REQUIRED BY LAW
LOCATION:District Administrative Center\, 15732 Howard Street\, Plainfield
SUMMARY:Board of Education Committee Meeting
END:VEVENT
BEGIN:VEVENT
DTSTAMP:20260426T041249Z
UID:62e58821-8c0e-43fc-81da-81bbfbb7e9e2
DTSTART:20260624T183000
DTEND:20260624T210000
DESCRIPTION:The District 202 Board of Education will meet in regular sessio
 n at the District Administrative Center.\n\nThe meeting will convene at 6:
 30 p.m. The Board goes immediately into closed session as allowed by law a
 nd returns to open session at 7:30 p.m.\n\nAgenda and YouTube viewing link
  will be posted 48 hours before the meeting as required by law.
LOCATION:District Administrative Center\, 15732 Howard Street\, Plainfield
SUMMARY:Board of Education Regular Meeting
END:VEVENT
END:VCALENDAR
