BEGIN:VCALENDAR
VERSION:2.0
PRODID:icalendar-ruby
CALSCALE:GREGORIAN
BEGIN:VTIMEZONE
TZID:America/Chicago
BEGIN:DAYLIGHT
DTSTART:20260308T030000
TZOFFSETFROM:-0600
TZOFFSETTO:-0500
RRULE:FREQ=YEARLY;BYDAY=2SU;BYMONTH=3
TZNAME:CDT
END:DAYLIGHT
BEGIN:STANDARD
DTSTART:20261101T010000
TZOFFSETFROM:-0500
TZOFFSETTO:-0600
RRULE:FREQ=YEARLY;BYDAY=1SU;BYMONTH=11
TZNAME:CST
END:STANDARD
END:VTIMEZONE
BEGIN:VEVENT
DTSTAMP:20260422T045714Z
UID:b94480fa-0a20-4bb6-9365-efc11a738f1a
DTSTART:20260421T170000
DTEND:20260421T190000
DESCRIPTION:Join us between 5:00 and 7:00 PM<br><a href="https://drive.goog
 le.com/file/d/1OuDDWF7T0xiQH8LObsCQhpJkKk49nsdg/view?usp=sharing">Multicul
 tural Night</a>
LOCATION:
SUMMARY:Multicultural Night
END:VEVENT
BEGIN:VEVENT
DTSTAMP:20260422T045714Z
UID:aec7b7a6-a9a9-4679-a7e1-604f02e22dc0
DTSTART:20260422T183000
DTEND:20260422T210000
DESCRIPTION:The District 202 Board of Education will meet in regular sessio
 n at the District Administrative Center.<br><br>The meeting will convene a
 t 6:30 p.m. The Board goes immediately into closed session as allowed by l
 aw and returns to open session at 7:30 p.m.<br><ul><li><a href="https://ap
 tg.co/vmtnZ2">Agenda</a></li><li><a href="https://youtube.com/live/nvz2N0E
 oFf8?feature=share" target="_blank">YouTube link</a><br></li></ul>
LOCATION:District Administrative Center\, 15732 Howard Street\, Plainfield
SUMMARY:Board of Education Regular Meeting
END:VEVENT
BEGIN:VEVENT
DTSTAMP:20260422T045714Z
UID:e812eec1-da31-45e0-b142-eac60cbd0d1e
DTSTART:20260427T090000
DTEND:20260427T110000
DESCRIPTION:
LOCATION:
SUMMARY:Joliet Fire Department Burn Safety Presentation 3rd - 5th Grade
END:VEVENT
BEGIN:VEVENT
DTSTAMP:20260422T045714Z
UID:fa0aa415-5ab6-41d7-8baf-04bacc8b2079
DTSTART:20260429T090000
DTEND:20260429T150000
DESCRIPTION:
LOCATION:
SUMMARY:Jim Basketball Jones Assembly K - 5
END:VEVENT
BEGIN:VEVENT
DTSTAMP:20260422T045714Z
UID:a1bebade-1bea-49a3-b570-61db88eae5b7
DTSTART:20260430T094500
DTEND:20260430T104500
DESCRIPTION:
LOCATION:
SUMMARY:5th Grade Step Up Day
END:VEVENT
BEGIN:VEVENT
DTSTAMP:20260422T045714Z
UID:dd641012-be75-4a7b-9824-19809a2d7cff
DTSTART:20260504T150000
DTEND:20260504T153000
DESCRIPTION:
LOCATION:
SUMMARY:5th  Grade Basketball Camp Presentation 
END:VEVENT
BEGIN:VEVENT
DTSTAMP:20260422T045714Z
UID:0195565f-83a5-49fe-a8b6-d1a9ea201437
DTSTART:20260504T160000
DTEND:20260504T180000
DESCRIPTION:Families can come to the main office from 4:00 - 6:00 PM to reg
 ister new students or drop off paperwork for returning students.
LOCATION:
SUMMARY:Registration Round Up
END:VEVENT
BEGIN:VEVENT
DTSTAMP:20260422T045714Z
UID:ea71ffe7-2c33-4c0b-a45d-c096f6f6d668
DTSTART:20260504T170000
DTEND:20260504T173000
DESCRIPTION:
LOCATION:
SUMMARY:1st Grade Concert 
END:VEVENT
BEGIN:VEVENT
DTSTAMP:20260422T045714Z
UID:0112399c-29e9-4700-9392-cd4feceec8dd
DTSTART:20260505T173000
DTEND:20260505T181500
DESCRIPTION:
LOCATION:
SUMMARY:5th Grade Parent Step Up Night at Aux Sable
END:VEVENT
BEGIN:VEVENT
DTSTAMP:20260422T045714Z
UID:3202a172-6595-4f0b-a643-981f090d192c
DTSTART:20260506T183000
DTEND:20260506T210000
DESCRIPTION:The District 202 Board of Education will meet in regular sessio
 n at the District Administrative Center.\n\nThe meeting will convene at 6:
 30 p.m. The Board goes immediately into closed session as allowed by law a
 nd returns to open session at 7:30 p.m.\n\nAgenda and YouTube viewing link
  will be posted 48 hours before the meeting as required by law.
LOCATION:Aux Sable Middle School\, 2001 Wildspring Pkwy\, Joliet\, IL 60431
 \, USA
SUMMARY:Board of Education Regular Meeting
END:VEVENT
BEGIN:VEVENT
DTSTAMP:20260422T045714Z
UID:d6f6d13d-8d10-4594-a455-9ce53e1bd9de
DTSTART:20260507T141500
DTEND:20260507T151500
DESCRIPTION:
LOCATION:
SUMMARY:4th Grade Wax Museum
END:VEVENT
BEGIN:VEVENT
DTSTAMP:20260422T045714Z
UID:efae66a9-a2c1-46e4-94e9-c593feb3f61d
DTSTART:20260508T180000
DTEND:20260508T203000
DESCRIPTION:
LOCATION:
SUMMARY:5th Grade Farewell Dance
END:VEVENT
BEGIN:VEVENT
DTSTAMP:20260422T045714Z
UID:4e26ea57-2b31-4c55-b3ad-9afdc8948109
DTSTART:20260512T170000
DTEND:20260512T183000
DESCRIPTION:
LOCATION:
SUMMARY:Glow in the Dark Art Show\, 5th Grade Keystone\, & One School\, One
  book Celebration
END:VEVENT
BEGIN:VEVENT
DTSTAMP:20260422T045714Z
UID:b1833fe1-b2c1-4f24-b303-76ddd338b44b
DTSTART:20260513T103000
DTEND:20260513T143000
DESCRIPTION:
LOCATION:
SUMMARY:Joliet Public Library Presentations K- 5
END:VEVENT
BEGIN:VEVENT
DTSTAMP:20260422T045714Z
UID:d9ba571d-9eb3-4019-a1e1-5827fa12f5c8
DTSTART:20260513T110000
DTEND:20260513T130000
DESCRIPTION:
LOCATION:
SUMMARY:Spirit Sticks Sold during Lunch
END:VEVENT
BEGIN:VEVENT
DTSTAMP:20260422T045714Z
UID:e96f73ad-0578-42ad-bbb7-6cc55cc6b0d9
DTSTART:20260513T180000
DTEND:20260513T210000
DESCRIPTION:6:00 p.m. – Curriculum & Technology\n7:00 p.m. – Site/Finan
 ce or immediately following Curriculum & Technology\n8:00 p.m. – Personn
 el\, Policy & Administration or immediately following Site/Finance\n\nAgen
 das and instructions for Viewing the Meetings Online WILL BE POSTED 48 HOU
 RS IN ADVANCE AS REQUIRED BY LAW
LOCATION:District Administrative Center\, 15732 Howard Street\, Plainfield
SUMMARY:Board of Education Committee Meeting
END:VEVENT
BEGIN:VEVENT
DTSTAMP:20260422T045714Z
UID:27988234-7b30-4776-a770-7baf3f536956
DTSTART:20260514T143000
DTEND:20260514T153000
DESCRIPTION:<a href="https://drive.google.com/file/d/1oYit4IkMHwNsGMXnleBW5
 KHn4QyPW6qX/view?usp=sharing">5th Grade Puberty Letter 25-26</a>
LOCATION:
SUMMARY:5th Grade Candor Presentation 
END:VEVENT
BEGIN:VEVENT
DTSTAMP:20260422T045714Z
UID:99df392e-9f2a-4710-9456-415f5e92fd69
DTSTART:20260515T090000
DTEND:20260515T153000
DESCRIPTION:
LOCATION:
SUMMARY:Field Day 
END:VEVENT
BEGIN:VEVENT
DTSTAMP:20260422T045714Z
UID:e23bd431-9004-4a3d-ac01-5dcf46c5a1be
DTSTART:20260515T173000
DTEND:20260515T203000
DESCRIPTION:
LOCATION:
SUMMARY:Spring Fling
END:VEVENT
BEGIN:VEVENT
DTSTAMP:20260422T045714Z
UID:ff3670f6-a665-405e-bcc2-0a38faf895a5
DTSTART:20260516T100000
DTEND:20260516T120000
DESCRIPTION:<p><strong>PHS-CC -&nbsp\;&nbsp\;</strong><span>10:00am @&nbsp\
 ; 24120 W. Fort Beggs Drive\,&nbsp\;Plainfield\, IL 60544</span><br><stron
 g>PNHS -&nbsp\;</strong><span>&nbsp\; &nbsp\; &nbsp\; 10:00am @&nbsp\; 120
 05 S. 248th Avenue\, Plainfield\, IL 60585</span><br><strong>PSHS -&nbsp\;
  &nbsp\; &nbsp\; &nbsp\;</strong><span>10:00am @&nbsp\; 7800 W. Caton Farm
  Road\, Plainfield\, IL 60586</span><br><strong>PEHS -&nbsp\; &nbsp\; &nbs
 p\; &nbsp\;</strong><span>10:00am @&nbsp\; 12001 S. Naperville Road\, Plai
 nfield\, IL 60585</span><br><br><strong><br></strong><br><strong>Rainout I
 nfo</strong><br><span>Rain delay up to 7pm\, if weather is an issue. Make 
 up Sunday\, May 17\, 2026 @ 1pm</span></p>
LOCATION:
SUMMARY:High School Graduations
END:VEVENT
BEGIN:VEVENT
DTSTAMP:20260422T045714Z
UID:a0f314dc-dbb3-41c5-886b-4fb3ccaa76f8
DTSTART:20260519T090000
DTEND:20260519T130000
DESCRIPTION:
LOCATION:
SUMMARY:5th Grade Farewell
END:VEVENT
BEGIN:VEVENT
DTSTAMP:20260422T045714Z
UID:1562d35c-aa12-485f-a441-25a412a8cb6c
DTSTART:20260519T094500
DTEND:20260519T131500
DESCRIPTION:
LOCATION:
SUMMARY:5th Grade Farewell 
END:VEVENT
BEGIN:VEVENT
DTSTAMP:20260422T045714Z
UID:b58b59da-b69f-4c6b-adef-e59b8b146356
DTSTART:20260519T170000
DTEND:20260519T203000
DESCRIPTION:<p><strong>Middle School Promotion Schedule</strong><br></p><p>
 <strong>JFK </strong>at 7 p.m. at PEHS</p><p><strong>Indian Trail</strong>
  at 5 p.m. / <strong>Timber Ridge</strong> at 7 p.m. at PHS-CC</p><p><stro
 ng>Ira Jones</strong> 5 p.m. / <strong>Heritage Grove</strong> at 7 p.m. a
 t PNHS</p><p><strong>Drauden Point</strong> at 5 p.m. / <strong>Aux Sable<
 /strong> at 7 p.m. at PSHS</p>
LOCATION:
SUMMARY:Middle School Promotions (look inside for time details)
END:VEVENT
BEGIN:VEVENT
DTSTAMP:20260422T045714Z
UID:8ea92f8d-fd62-402d-8494-ae42bd74df22
DTSTART:20260520T090000
DTEND:20260520T130000
DESCRIPTION:
LOCATION:
SUMMARY:5th Grade Farewell
END:VEVENT
BEGIN:VEVENT
DTSTAMP:20260422T045714Z
UID:d6ae4b41-4435-4bc3-80dc-2c073a0343b6
DTSTART:20260520T094500
DTEND:20260520T131500
DESCRIPTION:
LOCATION:
SUMMARY:5th Grade Farewell Trip
END:VEVENT
BEGIN:VEVENT
DTSTAMP:20260422T045714Z
UID:3e852428-15ee-4bcc-aabc-56f53b0ed1fd
DTSTART:20260520T183000
DTEND:20260520T210000
DESCRIPTION:The District 202 Board of Education will meet in regular sessio
 n at the District Administrative Center.\n\nThe meeting will convene at 6:
 30 p.m. The Board goes immediately into closed session as allowed by law a
 nd returns to open session at 7:30 p.m.\n\nAgenda and YouTube viewing link
  will be posted 48 hours before the meeting as required by law.
LOCATION:District Administrative Center\, 15732 Howard Street\, Plainfield
SUMMARY: Board of Education Regular Meeting
END:VEVENT
BEGIN:VEVENT
DTSTAMP:20260422T045714Z
UID:72ad8940-a4aa-49ce-a494-01a6ca1423dc
DTSTART;VALUE=DATE:20260522
DTEND;VALUE=DATE:20260523
DESCRIPTION:* SIP / Early Release:\nHigh School: 7:05am - 11:15am\nMiddle S
 chool: 7:55am - 12:00pm\nElementary: 9:05am - 12:45pm\nLakewood Falls: 8:5
 5am - 12:35pm\nNo Pre-K Attendance
LOCATION:
SUMMARY:School Improvement Day - Early Release *
END:VEVENT
BEGIN:VEVENT
DTSTAMP:20260422T045714Z
UID:ad405cb5-cd38-460e-96e9-ada6a3764690
DTSTART;VALUE=DATE:20260522
DTEND;VALUE=DATE:20260523
DESCRIPTION:
LOCATION:
SUMMARY:Tentative Last Day of School - if NO emergency days are used
END:VEVENT
BEGIN:VEVENT
DTSTAMP:20260422T045714Z
UID:96c010a9-2c93-4aa7-bd57-f54bcd4a3a52
DTSTART:20260522T113000
DTEND:20260522T120000
DESCRIPTION:Join us as we celebrate our 5th graders and former TJ  alumni 
 with a Clap Our parade.  This event is outdoors for families.  If there 
 is inclement weather\, the event will be moved indoors for students only.
LOCATION:
SUMMARY:5th Grade & PSHS Graduates Former Alumni Clap Out Parade 
END:VEVENT
BEGIN:VEVENT
DTSTAMP:20260422T045714Z
UID:667ff9d8-1843-495a-90f1-3d3f853dbf87
DTSTART;VALUE=DATE:20260525
DTEND;VALUE=DATE:20260526
DESCRIPTION:
LOCATION:
SUMMARY:Memorial Day - NO SCHOOL
END:VEVENT
BEGIN:VEVENT
DTSTAMP:20260422T045714Z
UID:f3b6ac74-78c6-4f4b-a9b5-182d37f13a41
DTSTART;VALUE=DATE:20260601
DTEND;VALUE=DATE:20260602
DESCRIPTION:
LOCATION:
SUMMARY:Tentative Last Day of School - if ALL emergency days are used
END:VEVENT
BEGIN:VEVENT
DTSTAMP:20260422T045714Z
UID:8ea4f297-c8f9-4221-9209-925cd88a014b
DTSTART:20260610T183000
DTEND:20260610T210000
DESCRIPTION:
LOCATION:District Administrative Center\, 15732 Howard Street\, Plainfield
SUMMARY:Board of Education Work Study
END:VEVENT
BEGIN:VEVENT
DTSTAMP:20260422T045714Z
UID:61069ef7-82fa-41d3-b4a6-f6b1541ca3e1
DTSTART:20260617T180000
DTEND:20260617T210000
DESCRIPTION:6:00 p.m. – Curriculum & Technology\n7:00 p.m. – Site/Finan
 ce or immediately following Curriculum & Technology\n8:00 p.m. – Personn
 el\, Policy & Administration or immediately following Site/Finance\n\nAgen
 das and instructions for Viewing the Meetings Online WILL BE POSTED 48 HOU
 RS IN ADVANCE AS REQUIRED BY LAW
LOCATION:District Administrative Center\, 15732 Howard Street\, Plainfield
SUMMARY:Board of Education Committee Meeting
END:VEVENT
BEGIN:VEVENT
DTSTAMP:20260422T045714Z
UID:d6b5e521-fb5b-4671-9b0d-47c97f631987
DTSTART:20260624T183000
DTEND:20260624T210000
DESCRIPTION:The District 202 Board of Education will meet in regular sessio
 n at the District Administrative Center.\n\nThe meeting will convene at 6:
 30 p.m. The Board goes immediately into closed session as allowed by law a
 nd returns to open session at 7:30 p.m.\n\nAgenda and YouTube viewing link
  will be posted 48 hours before the meeting as required by law.
LOCATION:District Administrative Center\, 15732 Howard Street\, Plainfield
SUMMARY:Board of Education Regular Meeting
END:VEVENT
END:VCALENDAR
