BEGIN:VCALENDAR
VERSION:2.0
PRODID:icalendar-ruby
CALSCALE:GREGORIAN
BEGIN:VTIMEZONE
TZID:America/Chicago
BEGIN:DAYLIGHT
DTSTART:20260308T030000
TZOFFSETFROM:-0600
TZOFFSETTO:-0500
RRULE:FREQ=YEARLY;BYDAY=2SU;BYMONTH=3
TZNAME:CDT
END:DAYLIGHT
BEGIN:STANDARD
DTSTART:20261101T010000
TZOFFSETFROM:-0500
TZOFFSETTO:-0600
RRULE:FREQ=YEARLY;BYDAY=1SU;BYMONTH=11
TZNAME:CST
END:STANDARD
END:VTIMEZONE
BEGIN:VEVENT
DTSTAMP:20260421T084727Z
UID:22cfcffc-a8b6-4b58-b6e5-1a935e842c36
DTSTART:20260422T183000
DTEND:20260422T210000
DESCRIPTION:The District 202 Board of Education will meet in regular sessio
 n at the District Administrative Center.<br><br>The meeting will convene a
 t 6:30 p.m. The Board goes immediately into closed session as allowed by l
 aw and returns to open session at 7:30 p.m.<br><ul><li><a href="https://ap
 tg.co/vmtnZ2">Agenda</a></li><li><a href="https://youtube.com/live/nvz2N0E
 oFf8?feature=share" target="_blank">YouTube link</a><br></li></ul>
LOCATION:District Administrative Center\, 15732 Howard Street\, Plainfield
SUMMARY:Board of Education Regular Meeting
END:VEVENT
BEGIN:VEVENT
DTSTAMP:20260421T084727Z
UID:22432911-a336-425d-8735-581a30b73403
DTSTART:20260506T183000
DTEND:20260506T210000
DESCRIPTION:The District 202 Board of Education will meet in regular sessio
 n at the District Administrative Center.\n\nThe meeting will convene at 6:
 30 p.m. The Board goes immediately into closed session as allowed by law a
 nd returns to open session at 7:30 p.m.\n\nAgenda and YouTube viewing link
  will be posted 48 hours before the meeting as required by law.
LOCATION:Aux Sable Middle School\, 2001 Wildspring Pkwy\, Joliet\, IL 60431
 \, USA
SUMMARY:Board of Education Regular Meeting
END:VEVENT
BEGIN:VEVENT
DTSTAMP:20260421T084727Z
UID:441bafaf-6bb5-4b89-b555-7339abbd3694
DTSTART:20260508T173000
DTEND:20260508T200000
DESCRIPTION:
LOCATION:
SUMMARY:Charles Reed Talent Show
END:VEVENT
BEGIN:VEVENT
DTSTAMP:20260421T084727Z
UID:52809791-fbfd-4087-8c54-8682e134fd78
DTSTART:20260513T180000
DTEND:20260513T210000
DESCRIPTION:6:00 p.m. – Curriculum & Technology\n7:00 p.m. – Site/Finan
 ce or immediately following Curriculum & Technology\n8:00 p.m. – Personn
 el\, Policy & Administration or immediately following Site/Finance\n\nAgen
 das and instructions for Viewing the Meetings Online WILL BE POSTED 48 HOU
 RS IN ADVANCE AS REQUIRED BY LAW
LOCATION:District Administrative Center\, 15732 Howard Street\, Plainfield
SUMMARY:Board of Education Committee Meeting
END:VEVENT
BEGIN:VEVENT
DTSTAMP:20260421T084727Z
UID:33aad723-6125-4c5d-9310-3bc25f91244c
DTSTART:20260513T180000
DTEND:20260513T190000
DESCRIPTION:
LOCATION:
SUMMARY:Charles Reed PTA Volunteer Appreciation 
END:VEVENT
BEGIN:VEVENT
DTSTAMP:20260421T084727Z
UID:4b76ef7e-8cf1-4cbe-a90d-6688ab7cf2b1
DTSTART:20260514T143000
DTEND:20260514T151500
DESCRIPTION:
LOCATION:
SUMMARY:Charles Reed Alumni Walk
END:VEVENT
BEGIN:VEVENT
DTSTAMP:20260421T084727Z
UID:bca2ec87-6ce1-4962-8abd-793a620058b0
DTSTART:20260516T100000
DTEND:20260516T120000
DESCRIPTION:<p><strong>PHS-CC -&nbsp\;&nbsp\;</strong><span>10:00am @&nbsp\
 ; 24120 W. Fort Beggs Drive\,&nbsp\;Plainfield\, IL 60544</span><br><stron
 g>PNHS -&nbsp\;</strong><span>&nbsp\; &nbsp\; &nbsp\; 10:00am @&nbsp\; 120
 05 S. 248th Avenue\, Plainfield\, IL 60585</span><br><strong>PSHS -&nbsp\;
  &nbsp\; &nbsp\; &nbsp\;</strong><span>10:00am @&nbsp\; 7800 W. Caton Farm
  Road\, Plainfield\, IL 60586</span><br><strong>PEHS -&nbsp\; &nbsp\; &nbs
 p\; &nbsp\;</strong><span>10:00am @&nbsp\; 12001 S. Naperville Road\, Plai
 nfield\, IL 60585</span><br><br><strong><br></strong><br><strong>Rainout I
 nfo</strong><br><span>Rain delay up to 7pm\, if weather is an issue. Make 
 up Sunday\, May 17\, 2026 @ 1pm</span></p>
LOCATION:
SUMMARY:High School Graduations
END:VEVENT
BEGIN:VEVENT
DTSTAMP:20260421T084727Z
UID:73b0c1f0-b929-442e-aee0-0dcdbcc0670a
DTSTART:20260519T170000
DTEND:20260519T203000
DESCRIPTION:<p><strong>Middle School Promotion Schedule</strong><br></p><p>
 <strong>JFK </strong>at 7 p.m. at PEHS</p><p><strong>Indian Trail</strong>
  at 5 p.m. / <strong>Timber Ridge</strong> at 7 p.m. at PHS-CC</p><p><stro
 ng>Ira Jones</strong> 5 p.m. / <strong>Heritage Grove</strong> at 7 p.m. a
 t PNHS</p><p><strong>Drauden Point</strong> at 5 p.m. / <strong>Aux Sable<
 /strong> at 7 p.m. at PSHS</p>
LOCATION:
SUMMARY:Middle School Promotions (look inside for time details)
END:VEVENT
BEGIN:VEVENT
DTSTAMP:20260421T084727Z
UID:749d3c39-13ab-47f6-8d07-c2900356ad47
DTSTART:20260520T183000
DTEND:20260520T210000
DESCRIPTION:The District 202 Board of Education will meet in regular sessio
 n at the District Administrative Center.\n\nThe meeting will convene at 6:
 30 p.m. The Board goes immediately into closed session as allowed by law a
 nd returns to open session at 7:30 p.m.\n\nAgenda and YouTube viewing link
  will be posted 48 hours before the meeting as required by law.
LOCATION:District Administrative Center\, 15732 Howard Street\, Plainfield
SUMMARY: Board of Education Regular Meeting
END:VEVENT
BEGIN:VEVENT
DTSTAMP:20260421T084727Z
UID:94158f3c-10c2-483b-9d50-9effff90bc49
DTSTART;VALUE=DATE:20260522
DTEND;VALUE=DATE:20260523
DESCRIPTION:* SIP / Early Release:\nHigh School: 7:05am - 11:15am\nMiddle S
 chool: 7:55am - 12:00pm\nElementary: 9:05am - 12:45pm\nLakewood Falls: 8:5
 5am - 12:35pm\nNo Pre-K Attendance
LOCATION:
SUMMARY:School Improvement Day - Early Release *
END:VEVENT
BEGIN:VEVENT
DTSTAMP:20260421T084727Z
UID:c31f9d87-8da7-439a-936b-5a73d0eddc40
DTSTART;VALUE=DATE:20260522
DTEND;VALUE=DATE:20260523
DESCRIPTION:
LOCATION:
SUMMARY:Tentative Last Day of School - if NO emergency days are used
END:VEVENT
BEGIN:VEVENT
DTSTAMP:20260421T084727Z
UID:30e8c1d6-03a1-48ec-9bf2-c4dead0e4aa4
DTSTART;VALUE=DATE:20260525
DTEND;VALUE=DATE:20260526
DESCRIPTION:
LOCATION:
SUMMARY:Memorial Day - NO SCHOOL
END:VEVENT
BEGIN:VEVENT
DTSTAMP:20260421T084727Z
UID:273ce865-20e5-43db-9427-273639679df4
DTSTART;VALUE=DATE:20260601
DTEND;VALUE=DATE:20260602
DESCRIPTION:
LOCATION:
SUMMARY:Tentative Last Day of School - if ALL emergency days are used
END:VEVENT
BEGIN:VEVENT
DTSTAMP:20260421T084727Z
UID:17e2c5a9-2bd5-4918-a076-05fd69cb189e
DTSTART:20260610T183000
DTEND:20260610T210000
DESCRIPTION:
LOCATION:District Administrative Center\, 15732 Howard Street\, Plainfield
SUMMARY:Board of Education Work Study
END:VEVENT
BEGIN:VEVENT
DTSTAMP:20260421T084727Z
UID:201fcc16-dd41-44c0-8c9d-ad58b46c0413
DTSTART:20260617T180000
DTEND:20260617T210000
DESCRIPTION:6:00 p.m. – Curriculum & Technology\n7:00 p.m. – Site/Finan
 ce or immediately following Curriculum & Technology\n8:00 p.m. – Personn
 el\, Policy & Administration or immediately following Site/Finance\n\nAgen
 das and instructions for Viewing the Meetings Online WILL BE POSTED 48 HOU
 RS IN ADVANCE AS REQUIRED BY LAW
LOCATION:District Administrative Center\, 15732 Howard Street\, Plainfield
SUMMARY:Board of Education Committee Meeting
END:VEVENT
BEGIN:VEVENT
DTSTAMP:20260421T084727Z
UID:875e385e-daed-48dd-8096-fde8ff41d422
DTSTART:20260624T183000
DTEND:20260624T210000
DESCRIPTION:The District 202 Board of Education will meet in regular sessio
 n at the District Administrative Center.\n\nThe meeting will convene at 6:
 30 p.m. The Board goes immediately into closed session as allowed by law a
 nd returns to open session at 7:30 p.m.\n\nAgenda and YouTube viewing link
  will be posted 48 hours before the meeting as required by law.
LOCATION:District Administrative Center\, 15732 Howard Street\, Plainfield
SUMMARY:Board of Education Regular Meeting
END:VEVENT
END:VCALENDAR
