BEGIN:VCALENDAR
VERSION:2.0
PRODID:icalendar-ruby
CALSCALE:GREGORIAN
BEGIN:VTIMEZONE
TZID:America/New_York
BEGIN:DAYLIGHT
DTSTART:20260308T030000
TZOFFSETFROM:-0500
TZOFFSETTO:-0400
RRULE:FREQ=YEARLY;BYDAY=2SU;BYMONTH=3
TZNAME:EDT
END:DAYLIGHT
BEGIN:STANDARD
DTSTART:20261101T010000
TZOFFSETFROM:-0400
TZOFFSETTO:-0500
RRULE:FREQ=YEARLY;BYDAY=1SU;BYMONTH=11
TZNAME:EST
END:STANDARD
END:VTIMEZONE
BEGIN:VEVENT
DTSTAMP:20260422T213336Z
UID:eb3b3c31-3a04-46f4-a318-9c3f36dfd313
DTSTART:20260422T090000
DTEND:20260422T100000
DESCRIPTION:
LOCATION:
SUMMARY:Acadience 3rd and 4th Grade
END:VEVENT
BEGIN:VEVENT
DTSTAMP:20260422T213336Z
UID:8216197e-36b2-4483-a9d4-81dfd9fb6ca8
DTSTART:20260423T090000
DTEND:20260423T100000
DESCRIPTION:
LOCATION:
SUMMARY:Acadience 3rd and 4th Grade
END:VEVENT
BEGIN:VEVENT
DTSTAMP:20260422T213336Z
UID:e9289dbd-2045-4014-8470-ea48f6debe01
DTSTART;VALUE=DATE:20260424
DTEND;VALUE=DATE:20260425
DESCRIPTION:High School &amp\; Middle School released at 12:00 PM.\nElement
 ary Schools released at 12:15 PM.
LOCATION:
SUMMARY:Early Release Day for Students
END:VEVENT
BEGIN:VEVENT
DTSTAMP:20260422T213336Z
UID:26a3f09a-cfae-4efc-8f84-52fb6fa86111
DTSTART;VALUE=DATE:20260424
DTEND;VALUE=DATE:20260425
DESCRIPTION:
LOCATION:
SUMMARY:PM Staff Professional Development
END:VEVENT
BEGIN:VEVENT
DTSTAMP:20260422T213336Z
UID:af838d96-57f8-456e-bf85-5999d52de0a3
DTSTART:20260424T090000
DTEND:20260424T100000
DESCRIPTION:
LOCATION:
SUMMARY:Acadience 3rd and 4th Grade
END:VEVENT
BEGIN:VEVENT
DTSTAMP:20260422T213336Z
UID:a060a5d4-fac0-41a0-89dd-61a21e8cb8fd
DTSTART;VALUE=DATE:20260426
DTEND;VALUE=DATE:20260427
DESCRIPTION:
LOCATION:
SUMMARY:Spanish
END:VEVENT
BEGIN:VEVENT
DTSTAMP:20260422T213336Z
UID:b72b943e-0a06-4820-9fe5-266321e6470f
DTSTART:20260427T093000
DTEND:20260427T103000
DESCRIPTION:
LOCATION:
SUMMARY:Acadience K-2ND
END:VEVENT
BEGIN:VEVENT
DTSTAMP:20260422T213336Z
UID:c6485433-dce5-4b45-91d3-ce456a77632c
DTSTART:20260428T093000
DTEND:20260428T103000
DESCRIPTION:
LOCATION:
SUMMARY:Acadience K-2ND
END:VEVENT
BEGIN:VEVENT
DTSTAMP:20260422T213336Z
UID:697eca65-7965-4a78-91eb-4c4f396d9daf
DTSTART:20260429T093000
DTEND:20260429T103000
DESCRIPTION:
LOCATION:
SUMMARY:Acadience K-2ND
END:VEVENT
BEGIN:VEVENT
DTSTAMP:20260422T213336Z
UID:d1ee3d67-9d47-4de8-9984-878d14dcaf79
DTSTART:20260430T093000
DTEND:20260430T103000
DESCRIPTION:
LOCATION:
SUMMARY:Acadience K-2ND
END:VEVENT
BEGIN:VEVENT
DTSTAMP:20260422T213336Z
UID:38352040-a87e-42ba-ae0a-79ad36e61693
DTSTART:20260501T093000
DTEND:20260501T103000
DESCRIPTION:
LOCATION:
SUMMARY:Acadience K-2ND
END:VEVENT
BEGIN:VEVENT
DTSTAMP:20260422T213336Z
UID:08039582-87f2-400a-8d46-235540183802
DTSTART;VALUE=DATE:20260503
DTEND;VALUE=DATE:20260504
DESCRIPTION:
LOCATION:
SUMMARY:Gym
END:VEVENT
BEGIN:VEVENT
DTSTAMP:20260422T213336Z
UID:2547b3b9-318a-4d41-8a3a-786a0c1c093b
DTSTART;VALUE=DATE:20260504
DTEND;VALUE=DATE:20260505
DESCRIPTION:High School &amp\; Middle School released at 12:00 PM.\nElement
 ary Schools released at 12:15 PM.
LOCATION:
SUMMARY:Early Release Day for Students
END:VEVENT
BEGIN:VEVENT
DTSTAMP:20260422T213336Z
UID:32563214-46be-45b4-acb2-29be339c14d3
DTSTART;VALUE=DATE:20260504
DTEND;VALUE=DATE:20260505
DESCRIPTION:
LOCATION:
SUMMARY:PM Staff Professional Development
END:VEVENT
BEGIN:VEVENT
DTSTAMP:20260422T213336Z
UID:b3786149-a90d-4338-8464-3eb4f98ca151
DTSTART;VALUE=DATE:20260507
DTEND;VALUE=DATE:20260508
DESCRIPTION:
LOCATION:
SUMMARY:1st Grade Field Trip
END:VEVENT
BEGIN:VEVENT
DTSTAMP:20260422T213336Z
UID:4feb1efb-90c0-4a39-8320-1e9e90c8cbff
DTSTART;VALUE=DATE:20260507
DTEND;VALUE=DATE:20260508
DESCRIPTION:
LOCATION:
SUMMARY:2nd Grade Field Trip
END:VEVENT
BEGIN:VEVENT
DTSTAMP:20260422T213336Z
UID:7746dc73-1f57-40d0-ad44-383e06fdcd72
DTSTART;VALUE=DATE:20260510
DTEND;VALUE=DATE:20260511
DESCRIPTION:
LOCATION:
SUMMARY:Music
END:VEVENT
BEGIN:VEVENT
DTSTAMP:20260422T213336Z
UID:2cb7e649-a248-45e6-ad75-a98f25f64eb0
DTSTART:20260511T180000
DTEND:20260511T210000
DESCRIPTION:
LOCATION:Chippewa Hills High School\, Media Center\, 3226 Arthur Road\, Rem
 us\, MI 49340
SUMMARY:Board of Education Regular Meeting
END:VEVENT
BEGIN:VEVENT
DTSTAMP:20260422T213336Z
UID:b2b9be02-68c5-456c-a5ad-6ddf421ccb32
DTSTART:20260513T110000
DTEND:20260513T130000
DESCRIPTION:
LOCATION:
SUMMARY:Food Service Cookout
END:VEVENT
BEGIN:VEVENT
DTSTAMP:20260422T213336Z
UID:45b52cd6-d57d-4663-8d1f-5fac62c9c1c8
DTSTART;VALUE=DATE:20260514
DTEND;VALUE=DATE:20260515
DESCRIPTION:
LOCATION:
SUMMARY:Kindergarten Field Trip
END:VEVENT
BEGIN:VEVENT
DTSTAMP:20260422T213336Z
UID:7f143319-a6f2-4b0c-afb6-f0c480f5a795
DTSTART;VALUE=DATE:20260515
DTEND;VALUE=DATE:20260516
DESCRIPTION:
LOCATION:
SUMMARY:Yes Day
END:VEVENT
BEGIN:VEVENT
DTSTAMP:20260422T213336Z
UID:f7f2b497-0076-4ce3-8ebb-65d66d5cae46
DTSTART;VALUE=DATE:20260517
DTEND;VALUE=DATE:20260518
DESCRIPTION:
LOCATION:
SUMMARY:Spanish
END:VEVENT
BEGIN:VEVENT
DTSTAMP:20260422T213336Z
UID:3c3596e0-3dd3-40ad-ad90-6cf57fd999a7
DTSTART;VALUE=DATE:20260518
DTEND;VALUE=DATE:20260519
DESCRIPTION:
LOCATION:
SUMMARY:Enrichment Day
END:VEVENT
BEGIN:VEVENT
DTSTAMP:20260422T213336Z
UID:19613ab8-b677-49fb-ac51-098d28e80cf6
DTSTART;VALUE=DATE:20260519
DTEND;VALUE=DATE:20260520
DESCRIPTION:
LOCATION:
SUMMARY:3rd Grade Field Trip
END:VEVENT
BEGIN:VEVENT
DTSTAMP:20260422T213336Z
UID:a65e35f0-f51a-4583-a8c8-de4ee965a70b
DTSTART;VALUE=DATE:20260520
DTEND;VALUE=DATE:20260521
DESCRIPTION:
LOCATION:
SUMMARY:4th Grade Field Trip
END:VEVENT
BEGIN:VEVENT
DTSTAMP:20260422T213336Z
UID:c78ad3d2-df5e-48a5-ae4b-e578912528c0
DTSTART;VALUE=DATE:20260521
DTEND;VALUE=DATE:20260522
DESCRIPTION:High School &amp\; Middle School released at 12:00 PM.\nElement
 ary Schools released at 12:15 PM.
LOCATION:
SUMMARY:Early Release Day - Students and Staff
END:VEVENT
BEGIN:VEVENT
DTSTAMP:20260422T213336Z
UID:2e100d9e-09c8-49c3-a45a-e2ab6ac5edbb
DTSTART:20260521T120000
DTEND:20260521T163000
DESCRIPTION:
LOCATION:
SUMMARY:4th Grade Lock In
END:VEVENT
BEGIN:VEVENT
DTSTAMP:20260422T213336Z
UID:c9058dce-a61b-4040-ac9c-f9e99df4b3b1
DTSTART;VALUE=DATE:20260522
DTEND;VALUE=DATE:20260523
DESCRIPTION:High School &amp\; Middle School released at 12:00 PM.\nElement
 ary Schools released at 12:15 PM.
LOCATION:
SUMMARY:Early Release Day - Students and Staff
END:VEVENT
BEGIN:VEVENT
DTSTAMP:20260422T213336Z
UID:8b5407bd-720b-4cd6-903e-e2f8f81e49eb
DTSTART;VALUE=DATE:20260522
DTEND;VALUE=DATE:20260523
DESCRIPTION:
LOCATION:
SUMMARY:End of Third Trimester
END:VEVENT
BEGIN:VEVENT
DTSTAMP:20260422T213336Z
UID:8a9b704a-575a-47d9-84e6-50dc527bec04
DTSTART;VALUE=DATE:20260522
DTEND;VALUE=DATE:20260523
DESCRIPTION:
LOCATION:
SUMMARY:Last Day of School
END:VEVENT
BEGIN:VEVENT
DTSTAMP:20260422T213336Z
UID:91ff9547-fc5f-4b7a-aeda-f880e822dac7
DTSTART;VALUE=DATE:20260525
DTEND;VALUE=DATE:20260526
DESCRIPTION:
LOCATION:
SUMMARY:No School - Memorial Day
END:VEVENT
BEGIN:VEVENT
DTSTAMP:20260422T213336Z
UID:16a28ab9-e1ea-4d18-945b-d64e71ec4668
DTSTART:20260610T151500
DTEND:20260610T164500
DESCRIPTION:
LOCATION:
SUMMARY:Discovery Club 3rd & 4th Graders
END:VEVENT
BEGIN:VEVENT
DTSTAMP:20260422T213336Z
UID:3df7cf9a-859a-4040-8c2d-4aba2ecc979c
DTSTART:20260617T151500
DTEND:20260617T164500
DESCRIPTION:
LOCATION:
SUMMARY:Discovery Club 3rd & 4th Graders
END:VEVENT
BEGIN:VEVENT
DTSTAMP:20260422T213336Z
UID:5b2509c9-5bec-4f31-ac24-bdaf68698b32
DTSTART:20260622T180000
DTEND:20260622T210000
DESCRIPTION:
LOCATION:Chippewa Hills High School\, Media Center\, 3226 Arthur Road\, Rem
 us\, MI 49340
SUMMARY:Board of Education Regular Meeting
END:VEVENT
BEGIN:VEVENT
DTSTAMP:20260422T213336Z
UID:02a1a115-0b01-45e9-8865-97e779b13633
DTSTART:20260624T151500
DTEND:20260624T164500
DESCRIPTION:
LOCATION:
SUMMARY:Discovery Club 3rd & 4th Graders
END:VEVENT
BEGIN:VEVENT
DTSTAMP:20260422T213336Z
UID:3cc914ba-c181-4c45-b87e-4cafa68915b7
DTSTART:20260701T151500
DTEND:20260701T164500
DESCRIPTION:
LOCATION:
SUMMARY:Discovery Club 3rd & 4th Graders
END:VEVENT
BEGIN:VEVENT
DTSTAMP:20260422T213336Z
UID:d36a7140-6206-4884-ab15-9a71f6292b8a
DTSTART:20260708T151500
DTEND:20260708T164500
DESCRIPTION:
LOCATION:
SUMMARY:Discovery Club 3rd & 4th Graders
END:VEVENT
BEGIN:VEVENT
DTSTAMP:20260422T213336Z
UID:e70a1665-ce1e-46ab-9a90-50f7a913879f
DTSTART:20260713T180000
DTEND:20260713T210000
DESCRIPTION:
LOCATION:Chippewa Hills High School\, Media Center\, 3226 Arthur Road\, Rem
 us\, MI 49340
SUMMARY:Board of Education Regular Meeting
END:VEVENT
BEGIN:VEVENT
DTSTAMP:20260422T213336Z
UID:e1f2b98e-9cd4-49d8-8625-e8654e7e4705
DTSTART:20260715T151500
DTEND:20260715T164500
DESCRIPTION:
LOCATION:
SUMMARY:Discovery Club 3rd & 4th Graders
END:VEVENT
BEGIN:VEVENT
DTSTAMP:20260422T213336Z
UID:0a250efb-dfb1-4d93-ba98-605f0d8188f2
DTSTART:20260722T151500
DTEND:20260722T164500
DESCRIPTION:
LOCATION:
SUMMARY:Discovery Club 3rd & 4th Graders
END:VEVENT
BEGIN:VEVENT
DTSTAMP:20260422T213336Z
UID:ffb80b1b-cb4b-4986-9f6f-f5c1dd82c0b7
DTSTART:20260729T151500
DTEND:20260729T164500
DESCRIPTION:
LOCATION:
SUMMARY:Discovery Club 3rd & 4th Graders
END:VEVENT
BEGIN:VEVENT
DTSTAMP:20260422T213336Z
UID:31372d9c-2f5f-404d-909b-b3f2054fa8a1
DTSTART:20260810T180000
DTEND:20260810T210000
DESCRIPTION:
LOCATION:Weidman Elementary\, 3311 N. School Road\, Weidman\, MI 48893
SUMMARY:Board of Education Regular Meeting
END:VEVENT
BEGIN:VEVENT
DTSTAMP:20260422T213336Z
UID:1bc185b4-128c-4b41-a6b4-9352ec1c8050
DTSTART;VALUE=DATE:20260820
DTEND;VALUE=DATE:20260821
DESCRIPTION:
LOCATION:
SUMMARY:Staff Professional Development Day
END:VEVENT
BEGIN:VEVENT
DTSTAMP:20260422T213336Z
UID:875efaa2-c306-47de-aafa-26a185691fb7
DTSTART;VALUE=DATE:20260824
DTEND;VALUE=DATE:20260825
DESCRIPTION:
LOCATION:
SUMMARY:Student's First Day
END:VEVENT
BEGIN:VEVENT
DTSTAMP:20260422T213336Z
UID:9200bf1d-6770-46cf-b939-173dbe6dfe99
DTSTART;VALUE=DATE:20260828
DTEND;VALUE=DATE:20260829
DESCRIPTION:
LOCATION:
SUMMARY:No School - Students and Staff
END:VEVENT
BEGIN:VEVENT
DTSTAMP:20260422T213336Z
UID:d2ea71cd-cd18-4e39-9495-a625fd890d71
DTSTART;VALUE=DATE:20260904
DTEND;VALUE=DATE:20260905
DESCRIPTION:
LOCATION:
SUMMARY:No School - Labor Day Weekend
END:VEVENT
BEGIN:VEVENT
DTSTAMP:20260422T213336Z
UID:557bd58b-0d72-4309-af57-15ce8bf8e9cd
DTSTART;VALUE=DATE:20260907
DTEND;VALUE=DATE:20260908
DESCRIPTION:
LOCATION:
SUMMARY:No School - Labor Day Weekend
END:VEVENT
BEGIN:VEVENT
DTSTAMP:20260422T213336Z
UID:09dda24f-4b1d-46b2-8017-22685b62ebd0
DTSTART:20260914T180000
DTEND:20260914T210000
DESCRIPTION:
LOCATION:Barryton Elementary\, 19701 30th Ave.\, Barryton\, MI 49305
SUMMARY:Board of Education Regular Meeting
END:VEVENT
BEGIN:VEVENT
DTSTAMP:20260422T213336Z
UID:37ab3145-0d2b-4f58-a219-94bccd48f981
DTSTART;VALUE=DATE:20260925
DTEND;VALUE=DATE:20260926
DESCRIPTION:High School &amp\; Middle School released at 12:00 PM.\nElement
 ary Schools released at 12:15 PM.
LOCATION:
SUMMARY:Early Release Day - Students and Staff
END:VEVENT
BEGIN:VEVENT
DTSTAMP:20260422T213336Z
UID:1290957f-e808-4fcd-8d41-11bea2957910
DTSTART;VALUE=DATE:20260928
DTEND;VALUE=DATE:20260929
DESCRIPTION:
LOCATION:
SUMMARY:Staff Professional Development Day - No Students
END:VEVENT
BEGIN:VEVENT
DTSTAMP:20260422T213336Z
UID:12e1aa18-2065-4c08-a636-f6209925d6cf
DTSTART;VALUE=DATE:20261012
DTEND;VALUE=DATE:20261013
DESCRIPTION:
LOCATION:
SUMMARY:Staff Professional Development Day - No Students
END:VEVENT
BEGIN:VEVENT
DTSTAMP:20260422T213336Z
UID:25f4e07a-1909-4972-84f9-72201f652824
DTSTART:20261012T180000
DTEND:20261012T210000
DESCRIPTION:
LOCATION:Mecosta Elementary\, 555 W. Main St. Mecosta\, MI 49332
SUMMARY:Board of Education Regular Meeting
END:VEVENT
BEGIN:VEVENT
DTSTAMP:20260422T213336Z
UID:d50608d6-1f54-43f0-b7cb-6385b3dd5b72
DTSTART;VALUE=DATE:20261030
DTEND;VALUE=DATE:20261031
DESCRIPTION:High School &amp\; Middle School released at 12:00 PM.\nElement
 ary Schools released at 12:15 PM.
LOCATION:
SUMMARY:Early Release Day - Students and Staff
END:VEVENT
BEGIN:VEVENT
DTSTAMP:20260422T213336Z
UID:47e160f4-90c5-4e16-b2fa-d37d1c5d2768
DTSTART:20261109T180000
DTEND:20261109T210000
DESCRIPTION:
LOCATION:Chippewa Hills High School\, Media Center\, 3226 Arthur Road\, Rem
 us\, MI 49340
SUMMARY:Board of Education Regular Meeting
END:VEVENT
BEGIN:VEVENT
DTSTAMP:20260422T213336Z
UID:a77bf718-9741-47ce-96a8-6c3d82c082a4
DTSTART;VALUE=DATE:20261113
DTEND;VALUE=DATE:20261114
DESCRIPTION:High School &amp\; Middle School released at 12:00 PM.\nElement
 ary Schools released at 12:15 PM.
LOCATION:
SUMMARY:Early Release Day - Students and Staff
END:VEVENT
BEGIN:VEVENT
DTSTAMP:20260422T213336Z
UID:d15f6f98-60f8-412e-81e9-1423bae29fa3
DTSTART;VALUE=DATE:20261113
DTEND;VALUE=DATE:20261114
DESCRIPTION:
LOCATION:
SUMMARY:End of First Trimester
END:VEVENT
BEGIN:VEVENT
DTSTAMP:20260422T213336Z
UID:72ca9724-9a1b-4bd3-809b-a00cf5f44237
DTSTART;VALUE=DATE:20261125
DTEND;VALUE=DATE:20261126
DESCRIPTION:High School &amp\; Middle School released at 12:00 PM.\nElement
 ary Schools released at 12:15 PM.
LOCATION:
SUMMARY:Early Release Day - Students and Staff
END:VEVENT
BEGIN:VEVENT
DTSTAMP:20260422T213336Z
UID:73c9adc3-d9d8-4ee5-89c0-33c99ba6377c
DTSTART;VALUE=DATE:20261126
DTEND;VALUE=DATE:20261127
DESCRIPTION:
LOCATION:
SUMMARY:No School - Thanksgiving Break
END:VEVENT
BEGIN:VEVENT
DTSTAMP:20260422T213336Z
UID:2363f2d5-a0e9-4e65-bf9c-024fdc390c01
DTSTART;VALUE=DATE:20261127
DTEND;VALUE=DATE:20261128
DESCRIPTION:
LOCATION:
SUMMARY:No School - Thanksgiving Break
END:VEVENT
BEGIN:VEVENT
DTSTAMP:20260422T213336Z
UID:b629df7b-6212-4736-9895-da73907bad65
DTSTART:20261214T180000
DTEND:20261214T210000
DESCRIPTION:
LOCATION:Chippewa Hills High School\, Media Center\, 3226 Arthur Road\, Rem
 us\, MI 49340
SUMMARY:Board of Education Regular Meeting
END:VEVENT
BEGIN:VEVENT
DTSTAMP:20260422T213336Z
UID:7479967a-04a0-415e-86f4-a10fc7a2c3b7
DTSTART;VALUE=DATE:20261221
DTEND;VALUE=DATE:20261222
DESCRIPTION:
LOCATION:
SUMMARY:No School - Winter Break
END:VEVENT
BEGIN:VEVENT
DTSTAMP:20260422T213336Z
UID:5f330750-ab5a-4ec9-afe8-c60f220c4589
DTSTART;VALUE=DATE:20261222
DTEND;VALUE=DATE:20261223
DESCRIPTION:
LOCATION:
SUMMARY:No School - Winter Break
END:VEVENT
BEGIN:VEVENT
DTSTAMP:20260422T213336Z
UID:b6a9f722-a5b6-4da9-8871-00c0eda2ec04
DTSTART;VALUE=DATE:20261223
DTEND;VALUE=DATE:20261224
DESCRIPTION:
LOCATION:
SUMMARY:No School - Winter Break
END:VEVENT
BEGIN:VEVENT
DTSTAMP:20260422T213336Z
UID:ff12d888-f8df-40d1-a34f-c128b16bbd68
DTSTART;VALUE=DATE:20261224
DTEND;VALUE=DATE:20261225
DESCRIPTION:
LOCATION:
SUMMARY:No School - Winter Break
END:VEVENT
BEGIN:VEVENT
DTSTAMP:20260422T213336Z
UID:6420c505-ab75-419b-a334-5996aa7edad2
DTSTART;VALUE=DATE:20261225
DTEND;VALUE=DATE:20261226
DESCRIPTION:
LOCATION:
SUMMARY:No School - Winter Break
END:VEVENT
BEGIN:VEVENT
DTSTAMP:20260422T213336Z
UID:9b8bd98f-17a1-4d65-af1f-9fd0cce3fb00
DTSTART;VALUE=DATE:20261228
DTEND;VALUE=DATE:20261229
DESCRIPTION:
LOCATION:
SUMMARY:No School - Winter Break
END:VEVENT
BEGIN:VEVENT
DTSTAMP:20260422T213336Z
UID:6d534270-035f-4517-bd73-8538f4012ac5
DTSTART;VALUE=DATE:20261229
DTEND;VALUE=DATE:20261230
DESCRIPTION:
LOCATION:
SUMMARY:No School - Winter Break
END:VEVENT
BEGIN:VEVENT
DTSTAMP:20260422T213336Z
UID:271f77a3-9e23-449d-965e-81f00eb2532d
DTSTART;VALUE=DATE:20261230
DTEND;VALUE=DATE:20261231
DESCRIPTION:
LOCATION:
SUMMARY:No School - Winter Break
END:VEVENT
BEGIN:VEVENT
DTSTAMP:20260422T213336Z
UID:b0f838ff-1d42-4468-8bfb-b0a4293823fa
DTSTART;VALUE=DATE:20261231
DTEND;VALUE=DATE:20270101
DESCRIPTION:
LOCATION:
SUMMARY:No School - Winter Break
END:VEVENT
BEGIN:VEVENT
DTSTAMP:20260422T213336Z
UID:2e3f12d4-11c1-4280-a083-eeb6035d8c43
DTSTART;VALUE=DATE:20270101
DTEND;VALUE=DATE:20270102
DESCRIPTION:
LOCATION:
SUMMARY:No School - Winter Break
END:VEVENT
BEGIN:VEVENT
DTSTAMP:20260422T213336Z
UID:0e52d1ba-b033-4a32-905b-e64e0f3c969c
DTSTART:20270111T180000
DTEND:20270111T210000
DESCRIPTION:
LOCATION:Chippewa Hills High School\, Media Center\, 3226 Arthur Road\, Rem
 us\, MI 49340
SUMMARY:Special Board of Education Meeting-Combined Reorganization and Regu
 lar Board Meeting
END:VEVENT
BEGIN:VEVENT
DTSTAMP:20260422T213336Z
UID:9c6b6059-a7ed-4759-bea5-b22e9f7fc7f4
DTSTART;VALUE=DATE:20270118
DTEND;VALUE=DATE:20270119
DESCRIPTION:
LOCATION:
SUMMARY:Staff Professional Development Day - No Students
END:VEVENT
BEGIN:VEVENT
DTSTAMP:20260422T213336Z
UID:a17c65fe-dd14-47a1-8275-53afa04af6b0
DTSTART;VALUE=DATE:20270215
DTEND;VALUE=DATE:20270216
DESCRIPTION:
LOCATION:
SUMMARY:Staff Professional Development Day - No Students
END:VEVENT
BEGIN:VEVENT
DTSTAMP:20260422T213336Z
UID:e2e2993d-3dde-45f5-8a1a-ec6a0543e0b8
DTSTART;VALUE=DATE:20270226
DTEND;VALUE=DATE:20270227
DESCRIPTION:High School &amp\; Middle School released at 12:00 PM.\nElement
 ary Schools released at 12:15 PM.
LOCATION:
SUMMARY:Early Release Day - Students and Staff
END:VEVENT
BEGIN:VEVENT
DTSTAMP:20260422T213336Z
UID:5ef8497d-1a63-4d19-89fb-50a2e0152917
DTSTART;VALUE=DATE:20270226
DTEND;VALUE=DATE:20270227
DESCRIPTION:
LOCATION:
SUMMARY:End of Second Trimester
END:VEVENT
BEGIN:VEVENT
DTSTAMP:20260422T213336Z
UID:e2d7c4e8-e9ee-4ec8-97f8-9ea06e6dcccf
DTSTART;VALUE=DATE:20270326
DTEND;VALUE=DATE:20270327
DESCRIPTION:
LOCATION:
SUMMARY:No School - Students and Staff
END:VEVENT
BEGIN:VEVENT
DTSTAMP:20260422T213336Z
UID:d724df15-de21-4ced-b861-6dd87a3ede0a
DTSTART;VALUE=DATE:20270329
DTEND;VALUE=DATE:20270330
DESCRIPTION:
LOCATION:
SUMMARY:No School - Spring Break
END:VEVENT
BEGIN:VEVENT
DTSTAMP:20260422T213336Z
UID:f0630dce-c259-402b-bf76-c71e683c5aa7
DTSTART;VALUE=DATE:20270330
DTEND;VALUE=DATE:20270331
DESCRIPTION:
LOCATION:
SUMMARY:No School - Spring Break
END:VEVENT
BEGIN:VEVENT
DTSTAMP:20260422T213336Z
UID:b50c282c-4ea5-49a4-9f0f-4cf2ab249bdb
DTSTART;VALUE=DATE:20270331
DTEND;VALUE=DATE:20270401
DESCRIPTION:
LOCATION:
SUMMARY:No School - Spring Break
END:VEVENT
BEGIN:VEVENT
DTSTAMP:20260422T213336Z
UID:77308613-f548-4162-9a8b-a32356ecfd27
DTSTART;VALUE=DATE:20270401
DTEND;VALUE=DATE:20270402
DESCRIPTION:
LOCATION:
SUMMARY:No School - Spring Break
END:VEVENT
BEGIN:VEVENT
DTSTAMP:20260422T213336Z
UID:f1746ea3-2075-4d78-866a-af10a6acb132
DTSTART;VALUE=DATE:20270402
DTEND;VALUE=DATE:20270403
DESCRIPTION:
LOCATION:
SUMMARY:No School - Spring Break
END:VEVENT
BEGIN:VEVENT
DTSTAMP:20260422T213336Z
UID:845c4829-a5ce-47ce-b7b0-95a29a97b949
DTSTART;VALUE=DATE:20270423
DTEND;VALUE=DATE:20270424
DESCRIPTION:High School &amp\; Middle School released at 12:00 PM.\nElement
 ary Schools released at 12:15 PM.
LOCATION:
SUMMARY:Early Release Day - Students and Staff
END:VEVENT
BEGIN:VEVENT
DTSTAMP:20260422T213336Z
UID:75f6659b-c901-4b4b-8c83-5866cc82417e
DTSTART;VALUE=DATE:20270503
DTEND;VALUE=DATE:20270504
DESCRIPTION:
LOCATION:
SUMMARY:Staff Professional Development Day - No Students
END:VEVENT
BEGIN:VEVENT
DTSTAMP:20260422T213336Z
UID:e4eeaea4-8d81-4ebf-9c82-046330e30350
DTSTART;VALUE=DATE:20270528
DTEND;VALUE=DATE:20270529
DESCRIPTION:High School &amp\; Middle School released at 12:00 PM.\nElement
 ary Schools released at 12:15 PM.
LOCATION:
SUMMARY:Early Release Day - Students and Staff
END:VEVENT
BEGIN:VEVENT
DTSTAMP:20260422T213336Z
UID:89e480d1-11ba-4a97-84f8-3c7267af724d
DTSTART;VALUE=DATE:20270528
DTEND;VALUE=DATE:20270529
DESCRIPTION:
LOCATION:
SUMMARY:End of Third Trimester
END:VEVENT
BEGIN:VEVENT
DTSTAMP:20260422T213336Z
UID:e8bea806-0c94-48e1-9528-cf70ecd467ab
DTSTART;VALUE=DATE:20270531
DTEND;VALUE=DATE:20270601
DESCRIPTION:
LOCATION:
SUMMARY:No School - Memorial Day
END:VEVENT
END:VCALENDAR
