BEGIN:VCALENDAR
VERSION:2.0
PRODID:icalendar-ruby
CALSCALE:GREGORIAN
BEGIN:VTIMEZONE
TZID:America/New_York
BEGIN:DAYLIGHT
DTSTART:20260308T030000
TZOFFSETFROM:-0500
TZOFFSETTO:-0400
RRULE:FREQ=YEARLY;BYDAY=2SU;BYMONTH=3
TZNAME:EDT
END:DAYLIGHT
BEGIN:STANDARD
DTSTART:20261101T010000
TZOFFSETFROM:-0400
TZOFFSETTO:-0500
RRULE:FREQ=YEARLY;BYDAY=1SU;BYMONTH=11
TZNAME:EST
END:STANDARD
END:VTIMEZONE
BEGIN:VEVENT
DTSTAMP:20260425T102222Z
UID:f026f370-3225-419f-86c9-1b5ce6991021
DTSTART:20260504T080000
DTEND:20260508T160000
DESCRIPTION:
LOCATION:MHS LC
SUMMARY:MHS AP EXAMS 
END:VEVENT
BEGIN:VEVENT
DTSTAMP:20260425T102222Z
UID:a413c6b9-6109-418f-8fe7-1c5b0a733048
DTSTART:20260511T080000
DTEND:20260515T120000
DESCRIPTION:
LOCATION:
SUMMARY:MHS AP EXAMS
END:VEVENT
BEGIN:VEVENT
DTSTAMP:20260425T102222Z
UID:58bf58e1-efd6-4298-a64a-85a9eb2250aa
DTSTART:20260521T183000
DTEND:20260521T203000
DESCRIPTION:
LOCATION:MVMMS Auditorium
SUMMARY:MHS Senior Awards & Scholarship  Night
END:VEVENT
BEGIN:VEVENT
DTSTAMP:20260425T102222Z
UID:0c4de190-28be-4d20-93c7-c047fba49d00
DTSTART:20260526T180000
DTEND:20260526T230000
DESCRIPTION:
LOCATION:161 Elliott St\, Danvers\, MA 01923\, USA
SUMMARY:MHS Senior Prom at Danversport
END:VEVENT
BEGIN:VEVENT
DTSTAMP:20260425T102222Z
UID:d119bb43-bd7b-4076-9b84-8e2f6658e55d
DTSTART:20260527T123000
DTEND:20260527T164500
DESCRIPTION:
LOCATION:4 Jersey St\, Boston\, MA 02215\, USA
SUMMARY:MHS Senior  Class to  Red Sox Game
END:VEVENT
BEGIN:VEVENT
DTSTAMP:20260425T102222Z
UID:c592bbee-d404-4254-8a9e-ad24e15105b2
DTSTART:20260528T150000
DTEND:20260528T193000
DESCRIPTION:
LOCATION:360 Lynn Fells Pkwy\, Melrose\, MA 02176\, USA
SUMMARY:MHS Senior Yearbook Signing  - Courtyard
END:VEVENT
BEGIN:VEVENT
DTSTAMP:20260425T102222Z
UID:5210db1a-109c-4b7b-bcf7-91f79c77ab3e
DTSTART:20260529T180000
DTEND:20260529T203000
DESCRIPTION:
LOCATION:360 Lynn Fells Pkwy\, Melrose\, MA 02176\, USA
SUMMARY:MHS Senior Class 2026 Graduation Ceremony
END:VEVENT
BEGIN:VEVENT
DTSTAMP:20260425T102222Z
UID:13c7752f-3078-4bb2-ac13-65470a3ea443
DTSTART:20260530T080000
DTEND:20260530T140000
DESCRIPTION:
LOCATION:
SUMMARY:DPW Day
END:VEVENT
BEGIN:VEVENT
DTSTAMP:20260425T102222Z
UID:3f43c442-6e41-427a-a920-68334b4213b7
DTSTART:20260606T080000
DTEND:20260606T141500
DESCRIPTION:
LOCATION:
SUMMARY:Rain Date - DPW Day
END:VEVENT
END:VCALENDAR
