BEGIN:VCALENDAR
VERSION:2.0
PRODID:icalendar-ruby
CALSCALE:GREGORIAN
BEGIN:VTIMEZONE
TZID:America/New_York
BEGIN:DAYLIGHT
DTSTART:20260308T030000
TZOFFSETFROM:-0500
TZOFFSETTO:-0400
RRULE:FREQ=YEARLY;BYDAY=2SU;BYMONTH=3
TZNAME:EDT
END:DAYLIGHT
BEGIN:STANDARD
DTSTART:20261101T010000
TZOFFSETFROM:-0400
TZOFFSETTO:-0500
RRULE:FREQ=YEARLY;BYDAY=1SU;BYMONTH=11
TZNAME:EST
END:STANDARD
END:VTIMEZONE
BEGIN:VEVENT
DTSTAMP:20260425T040816Z
UID:af4bad8b-7692-474a-a551-3e212425c583
DTSTART:20260429T090000
DTEND:20260429T100000
DESCRIPTION:
LOCATION:MKM Playground/Blacktop
SUMMARY:MKM Grade 2 Panoramic Picture
END:VEVENT
BEGIN:VEVENT
DTSTAMP:20260425T040816Z
UID:15111f83-dc0c-4602-9804-740549dfad1d
DTSTART;VALUE=DATE:20260504
DTEND;VALUE=DATE:20260508
DESCRIPTION:
LOCATION:MKM Teacher's Room
SUMMARY:MKM PTO Teacher Appreciation Week
END:VEVENT
BEGIN:VEVENT
DTSTAMP:20260425T040816Z
UID:00b1ae7b-f834-475e-af77-af4e0c2a8d87
DTSTART:20260504T193000
DTEND:20260504T213000
DESCRIPTION:
LOCATION:MKM Library/Media Center
SUMMARY:MKM PTO Meeting
END:VEVENT
BEGIN:VEVENT
DTSTAMP:20260425T040816Z
UID:d8640b84-4eae-4b94-831b-7af0d0344932
DTSTART:20260506T090000
DTEND:20260506T113000
DESCRIPTION:
LOCATION:MKM Playground/Blacktop
SUMMARY:MKM PTO Community Day - Grade 1
END:VEVENT
BEGIN:VEVENT
DTSTAMP:20260425T040816Z
UID:fb89d74e-e8a3-4e8d-99c1-c3bdfd54c457
DTSTART:20260507T090000
DTEND:20260507T113000
DESCRIPTION:
LOCATION:MKM Playground/Blacktop
SUMMARY:MKM PTO Community Day - Grade 1 (rain date)
END:VEVENT
BEGIN:VEVENT
DTSTAMP:20260425T040816Z
UID:6ba3900a-209a-40fd-bb24-e222b1d84784
DTSTART:20260515T170000
DTEND:20260515T190000
DESCRIPTION:
LOCATION:MKM Playground/Blacktop
SUMMARY:MKM PTO Spring Music Festival
END:VEVENT
BEGIN:VEVENT
DTSTAMP:20260425T040816Z
UID:5c1eb49e-6449-486b-b8f8-bf4ee3e81017
DTSTART:20260520T091500
DTEND:20260520T104500
DESCRIPTION:
LOCATION:MKM Playground/Blacktop
SUMMARY:MKM PTO Wheel-a-thon
END:VEVENT
BEGIN:VEVENT
DTSTAMP:20260425T040816Z
UID:a38c25d5-5b4c-4196-9c8f-5b43db78033c
DTSTART:20260527T170000
DTEND:20260527T190000
DESCRIPTION:
LOCATION:MKM Playground/Blacktop
SUMMARY:MKM PTO Spring Music Festival (rain date)
END:VEVENT
BEGIN:VEVENT
DTSTAMP:20260425T040816Z
UID:1a5355ea-c5c6-4597-ab91-91a1fd0c6594
DTSTART:20260528T090000
DTEND:20260528T113000
DESCRIPTION:
LOCATION:MKM Blacktop
SUMMARY:MKM PTO Wheel A Thon (rain date)
END:VEVENT
BEGIN:VEVENT
DTSTAMP:20260425T040816Z
UID:17e7b00f-df40-4275-9727-c0b840548f83
DTSTART:20260604T153000
DTEND:20260604T203000
DESCRIPTION:
LOCATION:Off Site
SUMMARY:MKM PTO Rita's Fundraiser
END:VEVENT
BEGIN:VEVENT
DTSTAMP:20260425T040816Z
UID:209dedaa-33ac-4117-9c2a-cc8e230628ae
DTSTART:20260609T090000
DTEND:20260609T120000
DESCRIPTION:
LOCATION:Gym/Outside
SUMMARY:MKM PTO Field Day
END:VEVENT
BEGIN:VEVENT
DTSTAMP:20260425T040816Z
UID:1587d475-8b75-4c7f-bfcb-2abcebc00a01
DTSTART:20260610T090000
DTEND:20260610T120000
DESCRIPTION:
LOCATION:Gym/Outside
SUMMARY:MKM PTO Field Day (rain date)
END:VEVENT
BEGIN:VEVENT
DTSTAMP:20260425T040816Z
UID:c0e415a3-3abd-4fa6-84ab-4544054e0618
DTSTART:20260612T103000
DTEND:20260612T123000
DESCRIPTION:
LOCATION:MKM Multi-Purpose Room
SUMMARY:MKM Spring Concert Grade 2/Move up
END:VEVENT
END:VCALENDAR
