BEGIN:VCALENDAR
VERSION:2.0
PRODID:icalendar-ruby
CALSCALE:GREGORIAN
BEGIN:VTIMEZONE
TZID:America/New_York
BEGIN:DAYLIGHT
DTSTART:20260308T030000
TZOFFSETFROM:-0500
TZOFFSETTO:-0400
RRULE:FREQ=YEARLY;BYDAY=2SU;BYMONTH=3
TZNAME:EDT
END:DAYLIGHT
BEGIN:STANDARD
DTSTART:20261101T010000
TZOFFSETFROM:-0400
TZOFFSETTO:-0500
RRULE:FREQ=YEARLY;BYDAY=1SU;BYMONTH=11
TZNAME:EST
END:STANDARD
END:VTIMEZONE
BEGIN:VEVENT
DTSTAMP:20260425T040324Z
UID:f8b7b5fe-f644-4a9d-bfc4-be47fa6dc2ff
DTSTART:20260430T153000
DTEND:20260430T161500
DESCRIPTION:
LOCATION:WW Classroom
SUMMARY:WW Tour
END:VEVENT
BEGIN:VEVENT
DTSTAMP:20260425T040324Z
UID:5a092ec9-a5ee-42ae-8a50-52b7b5b68a8c
DTSTART;VALUE=DATE:20260504
DTEND;VALUE=DATE:20260508
DESCRIPTION:
LOCATION:Faculty Room
SUMMARY:WW PTO Teacher Appreciation Week
END:VEVENT
BEGIN:VEVENT
DTSTAMP:20260425T040324Z
UID:5302e0a2-8eac-4516-ae12-24dd28290289
DTSTART:20260504T193000
DTEND:20260504T203000
DESCRIPTION:
LOCATION:WW Library/Media Center
SUMMARY:WW PTO Meeting- Hybrid
END:VEVENT
BEGIN:VEVENT
DTSTAMP:20260425T040324Z
UID:fb6928b3-0ac3-485b-ae2f-0bff86dddd2e
DTSTART:20260513T090000
DTEND:20260513T110000
DESCRIPTION:
LOCATION:Front of School
SUMMARY:WW Second Grade Panoramic Picture
END:VEVENT
BEGIN:VEVENT
DTSTAMP:20260425T040324Z
UID:dd921d7c-40fe-4d38-8e9d-2fc52f069bb1
DTSTART;VALUE=DATE:20260514
DTEND;VALUE=DATE:20260515
DESCRIPTION:
LOCATION:
SUMMARY:2nd Grade Wheel-a-thon
END:VEVENT
BEGIN:VEVENT
DTSTAMP:20260425T040324Z
UID:dd15fa17-6aaf-43eb-b9f0-279813770085
DTSTART:20260528T090000
DTEND:20260528T144500
DESCRIPTION:
LOCATION:WW Playground/Blacktop
SUMMARY:WW PTO Field Day
END:VEVENT
BEGIN:VEVENT
DTSTAMP:20260425T040324Z
UID:6472f4b3-9fe2-40d1-881e-70b91eb928ec
DTSTART:20260529T090000
DTEND:20260529T144500
DESCRIPTION:
LOCATION:WW Playground/Blacktop
SUMMARY:WW PTO Field Day Raindate
END:VEVENT
BEGIN:VEVENT
DTSTAMP:20260425T040324Z
UID:b2b96c7f-02b4-4232-88be-75605590b2b8
DTSTART:20260601T193000
DTEND:20260601T203000
DESCRIPTION:
LOCATION:WW Library/Media Center
SUMMARY:WW PTO Meeting- Hybrid
END:VEVENT
BEGIN:VEVENT
DTSTAMP:20260425T040324Z
UID:73ea49fa-a49e-493a-b141-e4957721e69d
DTSTART:20260609T100000
DTEND:20260609T110000
DESCRIPTION:
LOCATION:
SUMMARY:Second Grade Concert/Art Show/Clap Out
END:VEVENT
BEGIN:VEVENT
DTSTAMP:20260425T040324Z
UID:d58fada2-3aca-483f-a3b8-fce8bd6b2d3e
DTSTART:20260612T173000
DTEND:20260612T190000
DESCRIPTION:
LOCATION:WW Playground/Blacktop
SUMMARY:WW PTO End of Year Festival
END:VEVENT
BEGIN:VEVENT
DTSTAMP:20260425T040324Z
UID:e07d4b2c-00f9-48c2-b0ec-8c1204af49c8
DTSTART:20260615T090000
DTEND:20260615T150000
DESCRIPTION:
LOCATION:WW Classroom
SUMMARY:WW PTO End of Year Class Parties
END:VEVENT
BEGIN:VEVENT
DTSTAMP:20260425T040324Z
UID:be64b6dd-d568-471f-b4fa-ddab7583583c
DTSTART:20260615T173000
DTEND:20260615T190000
DESCRIPTION:
LOCATION:
SUMMARY:WW PTO End of Year Festival Rain Date 
END:VEVENT
END:VCALENDAR
