BEGIN:VCALENDAR
VERSION:2.0
PRODID:icalendar-ruby
CALSCALE:GREGORIAN
BEGIN:VTIMEZONE
TZID:America/Chicago
BEGIN:DAYLIGHT
DTSTART:20260308T030000
TZOFFSETFROM:-0600
TZOFFSETTO:-0500
RRULE:FREQ=YEARLY;BYDAY=2SU;BYMONTH=3
TZNAME:CDT
END:DAYLIGHT
BEGIN:STANDARD
DTSTART:20261101T010000
TZOFFSETFROM:-0500
TZOFFSETTO:-0600
RRULE:FREQ=YEARLY;BYDAY=1SU;BYMONTH=11
TZNAME:CST
END:STANDARD
END:VTIMEZONE
BEGIN:VEVENT
DTSTAMP:20260423T180227Z
UID:4a52c1af-b627-4de1-ae86-9d5faa884405
DTSTART;VALUE=DATE:20260302
DTEND;VALUE=DATE:20260721
DESCRIPTION:<p>For more information or to apply\, visit the<a target="_blan
 k" rel="noopener noreferrer nofollow" href="https://www.huntsvillecityscho
 ols.org/o/ava/page/artemis-application-information" relative-link=""> Arte
 mis Application Information page</a> on the AVA website.</p>
LOCATION:
SUMMARY:Artemis Virtual Academy Application Window
END:VEVENT
BEGIN:VEVENT
DTSTAMP:20260423T180227Z
UID:eb6c1886-3ac6-4099-9807-25e8efa3bb73
DTSTART;VALUE=DATE:20260311
DTEND;VALUE=DATE:20260501
DESCRIPTION:<p>Huntsville City Schools and the United States Department of 
 Justice are now seeking applications from parents and guardians to serve o
 n the 2026-27 Desegregation Advisory Committee (DAC).  For more informatio
 n\, visit the <a target="_self" rel="noopener noreferrer nofollow" href="h
 ttps://www.huntsvillecityschools.org/o/hcs/page/2026-27-dac-applications" 
 relative-link="">2026-27 DAC Applications page</a>.</p>
LOCATION:
SUMMARY:DAC Application Window
END:VEVENT
BEGIN:VEVENT
DTSTAMP:20260423T180227Z
UID:92098604-8b23-43ba-b2f7-3863192211e3
DTSTART;VALUE=DATE:20260413
DTEND;VALUE=DATE:20260429
DESCRIPTION:<h3 style="text-align: left">Advanced Courses Survey</h3><p>Hun
 tsville City Schools conducts an annual Advanced Course Survey of students
 \, parents of students\, and staff members serving students in <strong>gra
 des 5-11</strong> seeking input about AP &amp\; Honors courses. These surv
 eys ask questions relating to recruitment and enrollment\, curriculum\, an
 d participation and help the district continuously assess and improve the 
 AP &amp\; Honors experience for current and future students.</p><ul><li><p
 ><a target="_blank" rel="noopener noreferrer nofollow" href="http://survey
 s.panoramaed.com/huntsville/advcoursefam26/surveys" relative-link="">Paren
 t Survey</a></p></li><li><p><a target="_blank" rel="noopener noreferrer no
 follow" href="https://surveys.panoramaed.com/huntsville/" relative-link=""
 >Student Survey</a> (requires student code which will be emailed to studen
 ts)</p></li></ul><h3 style="text-align: left">Majority to Minority (M2M) S
 urvey</h3><p>The <a target="_blank" rel="noopener noreferrer nofollow" hre
 f="http://surveys.panoramaed.com/huntsville/m2m2026/surveys" relative-link
 ="">M2M Survey</a> seeks to provide the district with feedback from parent
 s and students regarding school climate\, effective operation\, and sugges
 tions for improvement of the M2M program.</p>
LOCATION:
SUMMARY:Advanced Course (AP/Honors) & M2M Survey Window
END:VEVENT
BEGIN:VEVENT
DTSTAMP:20260423T180227Z
UID:9336c9fa-ab1b-45c8-be77-29e26ba7bcfc
DTSTART;VALUE=DATE:20260413
DTEND;VALUE=DATE:20260509
DESCRIPTION:<p><strong>Credit Enhancement registration\, </strong>which inc
 ludes Career Prep\, Driver's Education\, and Health\,&nbsp\;will open onli
 ne during this period.&nbsp\; Students can only register for a&nbsp\;<stro
 ng>maximum of two</strong>&nbsp\;courses.&nbsp\;<strong>Priority will be g
 iven to current HCS students.</strong>&nbsp\;For more information or to re
 gister\, visit the <a target="_blank" rel="noopener noreferrer" class="ql-
 link" href="https://www.huntsvillecityschools.org/page/2026-summer-school-
 information">Summer School Information page</a>.</p>
LOCATION:
SUMMARY:Summer School Credit Enhancement Registration
END:VEVENT
BEGIN:VEVENT
DTSTAMP:20260423T180227Z
UID:819a7366-d13c-498a-a4db-9ad7b367dfa3
DTSTART;VALUE=DATE:20260423
DTEND;VALUE=DATE:20260424
DESCRIPTION:<p>The HCS Pre-K program will be closed to current Pre-K studen
 ts to allow our staff to host <strong>Pre-K for a Day</strong> for upcomin
 g Pre-K families.</p><p>Opportunities like <strong>Pre-K for a Day </stron
 g>are an important part of our program and support our efforts in providin
 g high quality Pre-K. We appreciate your understanding and support. </p><p
 >Please make any necessary arrangements for your child’s care on this da
 te.</p>
LOCATION:
SUMMARY:Pre-K Program Closure
END:VEVENT
BEGIN:VEVENT
DTSTAMP:20260423T180227Z
UID:e58d401c-4d88-46b4-9dc2-8b97d3d580bd
DTSTART:20260423T120000
DTEND:20260423T130000
DESCRIPTION:<p>Huntsville City Schools' Special Education Services Departme
 nt is dedicated to ensuring every student receives a high-quality\, indivi
 dualized education that meets their unique needs. We serve students with d
 isabilities and gifted and talented students\, believing all exceptional l
 earners can achieve their full potential when provided with appropriate su
 pports\, services\, and opportunities. As part of our commitment and conti
 nuous efforts to enhance the educational experience for your child\, we ar
 e excited to invite you to Parent Training Sessions. Learn more and regist
 er for a session on the <a target="_blank" rel="noopener noreferrer nofoll
 ow" href="https://secure.smore.com/n/mtqk8">Parent Connections Newsletter<
 /a>.</p>
LOCATION:
SUMMARY:Parent Connections: Academic Success
END:VEVENT
BEGIN:VEVENT
DTSTAMP:20260423T180227Z
UID:d8c5eb4f-3af8-4611-a5c3-79b807d0d9c1
DTSTART;VALUE=DATE:20260424
DTEND;VALUE=DATE:20260425
DESCRIPTION:<p><span>Friday\, April 24\, 2026 will be a weather day for Hun
 tsville City Schools based on the&nbsp\;</span><a target="_blank" rel="noo
 pener" href="https://files-backend.assets.thrillshare.com/documents/asset/
 uploaded_file/4113/Hcs/04db570d-726e-42a6-894a-cd459fccfaf5/2025-26_School
 _Year_Calendar___Work_Schedule.pdf?disposition=inline"><span>HCS Calendar<
 /span></a><span>.&nbsp\;</span></p><ul><li><p><span><strong>No school for 
 students and teachers</strong></span></p></li><li><p><span><strong>All 9\,
  10\, and 11-month employees do&nbsp\;not&nbsp\;report to work</strong></s
 pan></p></li><li><p><span><strong>Only 12-month employees report to work</
 strong></span></p></li></ul><p><span>Employees with questions about their 
 work schedule should contact their direct supervisor.</span></p>
LOCATION:
SUMMARY:Weather Day
END:VEVENT
BEGIN:VEVENT
DTSTAMP:20260423T180227Z
UID:68d8d230-1f4b-4c88-9fab-1dbbc8f1fc15
DTSTART;VALUE=DATE:20260427
DTEND;VALUE=DATE:20260428
DESCRIPTION:
LOCATION:
SUMMARY:Progress Reports Go Home
END:VEVENT
BEGIN:VEVENT
DTSTAMP:20260423T180227Z
UID:5658efda-7af3-4831-b3dd-5c290b7aaed9
DTSTART:20260428T090000
DTEND:20260428T130000
DESCRIPTION:<p>Students from across the district will be competing in event
 s and community partners will be on-site to share resources available in H
 untsville/Madison County.</p>
LOCATION:2801 15th Ave SW\, Huntsville\, AL 35805\, USA
SUMMARY:Special Olympics Track & Field Day
END:VEVENT
BEGIN:VEVENT
DTSTAMP:20260423T180227Z
UID:100e06ba-7647-47cf-b6db-bda743ac4260
DTSTART:20260428T170000
DTEND:20260428T180000
DESCRIPTION:<p>Title I Meeting: Completion of Testing &amp\; Student Suppor
 t Update</p><ul><li><p>Review/Revise School Parent Compact</p></li><li><p>
 Review/Revise Parent  and Family Engagement Plan</p></li><li><p>Annual Eva
 luation of the Content and effectiveness of the Parent and Family Engageme
 nt Policy</p></li></ul><p>RSVP Required by April 21st: Space is limited fo
 r the paint party.</p>
LOCATION:4801 Bob Wallace Ave SW\, Huntsville\, AL 35805\, USA
SUMMARY:Title I Meeting
END:VEVENT
BEGIN:VEVENT
DTSTAMP:20260423T180227Z
UID:e73f384f-b7e3-4627-a3cb-7a01c3522e25
DTSTART;VALUE=DATE:20260501
DTEND;VALUE=DATE:20260502
DESCRIPTION:
LOCATION:
SUMMARY:May Character Word: Patriotism
END:VEVENT
BEGIN:VEVENT
DTSTAMP:20260423T180227Z
UID:03d157c6-449b-456b-902f-cb8c58dbcb60
DTSTART;VALUE=DATE:20260501
DTEND;VALUE=DATE:20260502
DESCRIPTION:<p>Huntsville City Schools will honor the school lunch heroes s
 erving healthy meals by celebrating School Lunch Hero Day on May 01\, 2026
 .</p><p>When we call school nutrition professionals heroes\, we truly mean
  it. Each spring\, we celebrate their dedication\, care\, and hard work wi
 th School Lunch Hero Day.</p><p>Join schools across the country in recogni
 zing the vital role these team members play every day—nourishing student
 s\, supporting learning\, and making a difference for every child who walk
 s through the cafeteria doors.Every day\, dedicated school nutrition profe
 ssionals ensure that students are well-fed and ready to learn.</p><p>Schoo
 l Lunch Hero Day<strong>&nbsp\;</strong>is a special opportunity to recogn
 ize their hard work and dedication.&nbsp\;</p>
LOCATION:
SUMMARY:School Lunch Hero Day Observed
END:VEVENT
BEGIN:VEVENT
DTSTAMP:20260423T180227Z
UID:ae34bbfe-d05b-4805-a3f8-32286d129739
DTSTART:20260505T120000
DTEND:20260505T130000
DESCRIPTION:<p>Huntsville City Schools' Special Education Services Departme
 nt is dedicated to ensuring every student receives a high-quality\, indivi
 dualized education that meets their unique needs. We serve students with d
 isabilities and gifted and talented students\, believing all exceptional l
 earners can achieve their full potential when provided with appropriate su
 pports\, services\, and opportunities. As part of our commitment and conti
 nuous efforts to enhance the educational experience for your child\, we ar
 e excited to invite you to Parent Training Sessions. Learn more and regist
 er for a session on the <a target="_blank" rel="noopener noreferrer nofoll
 ow" href="https://secure.smore.com/n/mtqk8">Parent Connections Newsletter<
 /a>.</p>
LOCATION:
SUMMARY:Parent Connections Session: Supports for Students With Hearing Loss
END:VEVENT
BEGIN:VEVENT
DTSTAMP:20260423T180227Z
UID:a9752f83-aa0c-4af1-aa05-8c038d4fe4bf
DTSTART:20260505T163000
DTEND:20260505T173000
DESCRIPTION:<p>This meeting of the HCS Board of Education will be held in t
 he central office board room. More information about meetings\, including 
 how to sign up for citizen comments\, may be found on the <a target="_self
 " rel="noopener noreferrer nofollow" href="https://www.huntsvillecityschoo
 ls.org/page/board-of-education">Board of Education page</a>.</p><p>Citizen
  comments will begin at 4:30PM and will not be broadcast. The meeting and 
 broadcast will then begin immediately after the conclusion of the citizen 
 comments.</p><p>All HCS board meetings are able to be viewed over-the-air 
 on Wow channel 3\, Comcast channel 17\, on the <a target="_blank" rel="noo
 pener noreferrer nofollow" href="https://cloud.castus.tv/vod/etvlive/video
 /6344cb1ebfba97000966d019?page=LIVE&amp\;type=live">ETV Live+ Stream</a>\,
  and on the district’s <a target="_blank" rel="noopener noreferrer nofol
 low" href="https://www.facebook.com/HuntsvilleCitySchools">Facebook page</
 a>.</p>
LOCATION:2601 N Memorial Pkwy\, Huntsville\, AL 35810\, USA
SUMMARY:BOE Work Session
END:VEVENT
BEGIN:VEVENT
DTSTAMP:20260423T180227Z
UID:384839a3-eb2c-4841-b99e-71426a4dbdbb
DTSTART;VALUE=DATE:20260518
DTEND;VALUE=DATE:20260522
DESCRIPTION:
LOCATION:
SUMMARY:Half Day for High School Students (Exams)
END:VEVENT
BEGIN:VEVENT
DTSTAMP:20260423T180227Z
UID:2d89c229-2930-4425-9886-5d600b28bb49
DTSTART:20260519T163000
DTEND:20260519T173000
DESCRIPTION:<p>This meeting of the HCS Board of Education will be held in t
 he central office board room. More information about meetings\, including 
 how to sign up for citizen comments\, may be found on the <a target="_self
 " rel="noopener noreferrer nofollow" href="https://www.huntsvillecityschoo
 ls.org/page/board-of-education">Board of Education page</a>.</p><p>Citizen
  comments will begin at 4:30PM and will not be broadcast. The meeting and 
 broadcast will then begin immediately after the conclusion of the citizen 
 comments.</p><p>All HCS board meetings are able to be viewed over-the-air 
 on Wow channel 3\, Comcast channel 17\, on the <a target="_blank" rel="noo
 pener noreferrer nofollow" href="https://cloud.castus.tv/vod/etvlive/video
 /6344cb1ebfba97000966d019?page=LIVE&amp\;type=live">ETV Live+ Stream</a>\,
  and on the district’s <a target="_blank" rel="noopener noreferrer nofol
 low" href="https://www.facebook.com/HuntsvilleCitySchools">Facebook page</
 a>.</p>
LOCATION:2601 N Memorial Pkwy\, Huntsville\, AL 35810\, USA
SUMMARY:BOE Meeting
END:VEVENT
BEGIN:VEVENT
DTSTAMP:20260423T180227Z
UID:b75cea0d-46dc-4578-ab3c-44daf6bd99d7
DTSTART;VALUE=DATE:20260521
DTEND;VALUE=DATE:20260522
DESCRIPTION:<p>Half day for students.</p>
LOCATION:
SUMMARY:Last Day for Students (Half Day)
END:VEVENT
BEGIN:VEVENT
DTSTAMP:20260423T180227Z
UID:0831f5b1-9389-4aa2-823b-773056b15384
DTSTART;VALUE=DATE:20260521
DTEND;VALUE=DATE:20260527
DESCRIPTION:
LOCATION:
SUMMARY:Report Cards Go Home
END:VEVENT
BEGIN:VEVENT
DTSTAMP:20260423T180227Z
UID:81a9e65d-c23f-4478-9d78-8ade929d205b
DTSTART:20260521T130000
DTEND:20260522T173000
DESCRIPTION:<p><em>Please note the VBC has a </em><a target="_blank" rel="n
 oopener noreferrer nofollow" href="https://www.vonbrauncenter.com/propst-a
 rena-bag-policy/?guid=9ee8665d-af9b-4d9a-9424-ad1865a0c454&amp\;preview=tr
 ue"><em>Clear Bag Policy</em></a><em>.</em></p><h4 style="text-align: left
 ">Thursday\, May 21</h4><ul><li><p><strong>1:00 PM: </strong>Jemison High 
 School</p></li><li><p><strong>3:00 PM: </strong>Columbia High School</p></
 li><li><p><strong>5:30 PM: </strong>Grissom High School</p></li></ul><h4 s
 tyle="text-align: left">Friday\, May 22</h4><ul><li><p><strong>11:30 AM: <
 /strong>Artemis Virtual Academy</p></li><li><p><strong>1:00 PM: </strong>N
 ew Century Technology High School</p></li><li><p><strong>3:00 PM: </strong
 >Lee High School</p></li><li><p><strong>5:30 PM: </strong>Huntsville High 
 School</p></li></ul><p>All ceremonies will take place in the Arena at the 
 Von Braun Center. HCS invites viewers to watch the ceremonies live on ETV&
 nbsp\;(OTA channel 25.5\, Comcast channel 17\, WOW channel 3)\, on the&nbs
 p\;<a target="_blank" rel="noopener noreferrer nofollow" href="https://www
 .facebook.com/HuntsvilleCitySchools/">HCS Facebook page</a>\, and online a
 t <a target="_blank" rel="noopener noreferrer nofollow" href="https://clou
 d.castus.tv/vod/etvlive/video/6344cb1ebfba97000966d019?page=LIVE&amp\;type
 =live">ETV Live+</a></p>
LOCATION:700 Monroe St SW\, Huntsville\, AL 35801\, USA
SUMMARY:2026 Graduation Exercises
END:VEVENT
BEGIN:VEVENT
DTSTAMP:20260423T180227Z
UID:66ce56a8-8c9c-47ac-a03d-a4f6d6614785
DTSTART;VALUE=DATE:20260522
DTEND;VALUE=DATE:20260523
DESCRIPTION:
LOCATION:
SUMMARY:Staff Development Day
END:VEVENT
BEGIN:VEVENT
DTSTAMP:20260423T180227Z
UID:c9c173ad-f949-4a07-9d94-d2241efadbfe
DTSTART;VALUE=DATE:20260525
DTEND;VALUE=DATE:20260526
DESCRIPTION:<p>All schools &amp\; offices closed.</p>
LOCATION:
SUMMARY:Memorial Day Observed
END:VEVENT
BEGIN:VEVENT
DTSTAMP:20260423T180227Z
UID:ff232cc1-1410-430e-89f8-2cd08e6bf7ee
DTSTART;VALUE=DATE:20260527
DTEND;VALUE=DATE:20260529
DESCRIPTION:<p><strong>Credit Recovery</strong>&nbsp\;<strong>registration<
 /strong>&nbsp\;will be done onsite at <a target="_blank" rel="noopener nor
 eferrer" class="ql-link" href="https://www.huntsvillecityschools.org/o/lhs
 ">Lee High School</a> Media Center on May 27-28\, 2026.&nbsp\;<strong>Late
  Registration&nbsp\;</strong>will be held&nbsp\;June 1-4\, 2026\, from 8:0
 0am - 2:30pm in the <a target="_blank" rel="noopener noreferrer" class="ql
 -link" href="https://www.huntsvillecityschools.org/o/lhs">Lee High School<
 /a> Media Center (located in the main building). For more information\, in
 cluding the daily registration schedule\, visit the <a target="_blank" rel
 ="noopener noreferrer" class="ql-link" href="https://www.huntsvillecitysch
 ools.org/page/2026-summer-school-information">Summer School Information pa
 ge</a> on the HCS website.</p>
LOCATION:2500 Meridian St N\, Huntsville\, AL 35811\, USA
SUMMARY:Summer School Credit Recovery Registration
END:VEVENT
BEGIN:VEVENT
DTSTAMP:20260423T180227Z
UID:07eacd1b-a961-4d11-8112-818f549fad6d
DTSTART;VALUE=DATE:20260601
DTEND;VALUE=DATE:20260619
DESCRIPTION:<p>Give your child a summer of innovation and discovery at the&
 nbsp\;HCS GATE STEM &amp\; Enrichment Camp 2026! Students will engage in h
 ands-on STEM challenges using the WOZed curriculum while collaborating\, c
 reating\, and problem-solving each day.</p><p>The camp is open to all HCS 
 GATE students entering 4th\, 5th\, or 6th grade for the 2026–2027 school
  year. Students will engage in hands-on STEM learning using the WOZed curr
 iculum\, along with exciting daily STEM challenges led by HCS GATE Special
 ists.</p><p>Choose from one of three sessions in June 2026 (Monday–Thurs
 day):</p><ul><li><p>Session 1: June 1–4</p></li><li><p>Session 2: June 8
 –11</p></li><li><p>Session 3: June 15–18</p></li></ul><h3 style="text-
 align: left">Daily Schedule (9:00 a.m. – 1:00 p.m.)</h3><ul><li><p>9:00 
 – 10:30 | STEM Challenges</p></li><li><p>10:30 – 11:00 | Recess</p></l
 i><li><p>11:00 – 11:30 | Lunch (provided)</p></li><li><p>11:30 – 1:00 
 | STEM Challenges</p></li><li><p>1:00 p.m. | Dismissal</p></li></ul><h3 st
 yle="text-align: left">Additional Information</h3><ul><li><p><strong>Lunch
 :</strong>&nbsp\;Provided daily</p></li><li><p><strong>Transportation:</st
 rong>&nbsp\;Parents/guardians are responsible for daily drop-off and pick-
 up</p></li><li><p><strong>Registration:</strong>&nbsp\;Each student may at
 tend&nbsp\;<strong>one session only</strong></p></li></ul><p>Spots are lim
 ited and filled on a first-come\, first-served basis.</p><p><strong><em>At
  this time\, camp registration is closed and all sessions are full. </em><
 /strong></p><p>However\, we encourage you to join the waitlist by using th
 e <a target="_blank" rel="noopener noreferrer nofollow" href="https://form
 s.gle/jsTBbinyo7xGXsy17" relative-link="">waitlist registration form</a>. 
 If spots become available due to cancellations or schedule changes\, famil
 ies will be contacted in the order waitlist responses are received.</p><p>
 If you have any questions\, please feel free to contact HCS Gifted Service
 s Coordinator <a target="_self" rel="noopener noreferrer nofollow" href="h
 ttps://www.huntsvillecityschools.org/staff?search=campbell" relative-link=
 "">Rebecca Campbell</a>.</p>
LOCATION:3221 Mastin Lake Rd NE\, Huntsville\, AL 35810\, USA
SUMMARY:GATE Summer STEM & Enrichment Camp 2026
END:VEVENT
BEGIN:VEVENT
DTSTAMP:20260423T180227Z
UID:1d4f3c68-bb03-419f-84c3-a326c5bb2dd5
DTSTART;VALUE=DATE:20260601
DTEND;VALUE=DATE:20260605
DESCRIPTION:<p><strong>Late Credit Recovery Registration&nbsp\;</strong>wil
 l be held&nbsp\;June 1-4\, 2026\, from 8:00am - 2:30pm in the <a target="_
 blank" rel="noopener noreferrer" class="ql-link" href="https://www.huntsvi
 llecityschools.org/o/lhs">Lee High School</a> Media Center (located in the
  main building). For more information\, including the daily registration s
 chedule\, visit the <a target="_blank" rel="noopener noreferrer" class="ql
 -link" href="https://www.huntsvillecityschools.org/page/2026-summer-school
 -information">Summer School Information page</a> on the HCS website.</p>
LOCATION:2500 Meridian St N\, Huntsville\, AL 35811\, USA
SUMMARY:Summer School Late Credit Recovery Registration
END:VEVENT
BEGIN:VEVENT
DTSTAMP:20260423T180227Z
UID:c7d5b318-0f40-4a4a-b004-03d0c21fede7
DTSTART;VALUE=DATE:20260602
DTEND;VALUE=DATE:20260623
DESCRIPTION:<p><span>Huntsville City Schools is accepting applications duri
 ng this period for students interested in applying to a magnet school or p
 rogram for the upcoming 2026-27 school year. Email </span><a target="_blan
 k" rel="noopener noreferrer nofollow" href="mailto:magnet@hsv-k12.org">mag
 net@hsv-k12.org</a><span> with additional questions.</span></p>
LOCATION:
SUMMARY:Summer Magnet Application Window
END:VEVENT
BEGIN:VEVENT
DTSTAMP:20260423T180227Z
UID:5787fb17-a9c2-4d7c-9b88-bf02822d84ea
DTSTART;VALUE=DATE:20260608
DTEND;VALUE=DATE:20260703
DESCRIPTION:<p>Huntsville City Schools\, in partnership with J.F. Drake Com
 munity &amp\; Technical College\, is offering FREE 4-week Adult Education 
 courses in Digital Literacy and Job Readiness at the <a target="_self" rel
 ="noopener noreferrer nofollow" href="https://www.huntsvillecityschools.or
 g/o/hct" relative-link="">Huntsville Center for Technology</a>. Adults can
  gain hands-on experience with technology\, resume building\, workplace sk
 ills\, and much more!</p><p>Participants can choose a flexible schedule:</
 p><ul><li><p><em>One class (2 days/week)</em></p></li><li><p><em>Two class
 es (4 days/week)</em></p></li></ul><p>Classes will run from June 8 through
  July 2\, 4PM - 7PM.</p><p>This is a great opportunity to gain valuable sk
 ills and confidence!</p><p><strong><em>Visit the </em></strong><a target="
 _blank" rel="noopener noreferrer nofollow" href="https://drakestate.edu/ca
 reer-pathways-programs/adult-education/" relative-link=""><strong><em>Drak
 e State Adult Education webpage</em></strong></a><strong><em> or call </em
 ></strong><a target="_blank" rel="noopener noreferrer nofollow" href="tel:
 12565515217" relative-link=""><strong><em>256-551-5217</em></strong></a><s
 trong><em> more information and to register today!</em></strong></p>
LOCATION:2603 N Memorial Pkwy\, Huntsville\, AL 35810\, USA
SUMMARY:Free Adult Education Classes
END:VEVENT
BEGIN:VEVENT
DTSTAMP:20260423T180227Z
UID:f7b83515-69ee-4bb2-a537-3ca15a814e4b
DTSTART:20260616T163000
DTEND:20260616T173000
DESCRIPTION:<p>This meeting of the HCS Board of Education will be held in t
 he central office board room. More information about meetings\, including 
 how to sign up for citizen comments\, may be found on the <a target="_self
 " rel="noopener noreferrer nofollow" href="https://www.huntsvillecityschoo
 ls.org/page/board-of-education">Board of Education page</a>.</p><p>Citizen
  comments will begin at 4:30PM and will not be broadcast. The meeting and 
 broadcast will then begin immediately after the conclusion of the citizen 
 comments.</p><p>All HCS board meetings are able to be viewed over-the-air 
 on Wow channel 3\, Comcast channel 17\, on the <a target="_blank" rel="noo
 pener noreferrer nofollow" href="https://cloud.castus.tv/vod/etvlive/video
 /6344cb1ebfba97000966d019?page=LIVE&amp\;type=live">ETV Live+ Stream</a>\,
  and on the district’s <a target="_blank" rel="noopener noreferrer nofol
 low" href="https://www.facebook.com/HuntsvilleCitySchools">Facebook page</
 a>.</p>
LOCATION:2601 N Memorial Pkwy\, Huntsville\, AL 35810\, USA
SUMMARY:BOE Work Session
END:VEVENT
BEGIN:VEVENT
DTSTAMP:20260423T180227Z
UID:65aa97b2-9e79-4cbc-a73f-5ff3eb6d2536
DTSTART;VALUE=DATE:20260619
DTEND;VALUE=DATE:20260620
DESCRIPTION:<p>All schools &amp\; offices closed.</p>
LOCATION:
SUMMARY:Juneteenth Observed
END:VEVENT
BEGIN:VEVENT
DTSTAMP:20260423T180227Z
UID:4239be26-7000-4a29-9f9e-9aed7889163a
DTSTART:20260630T163000
DTEND:20260630T173000
DESCRIPTION:<p>This meeting of the HCS Board of Education will be held in t
 he central office board room. More information about meetings\, including 
 how to sign up for citizen comments\, may be found on the <a target="_self
 " rel="noopener noreferrer nofollow" href="https://www.huntsvillecityschoo
 ls.org/page/board-of-education">Board of Education page</a>.</p><p>Citizen
  comments will begin at 4:30PM and will not be broadcast. The meeting and 
 broadcast will then begin immediately after the conclusion of the citizen 
 comments.</p><p>All HCS board meetings are able to be viewed over-the-air 
 on Wow channel 3\, Comcast channel 17\, on the <a target="_blank" rel="noo
 pener noreferrer nofollow" href="https://cloud.castus.tv/vod/etvlive/video
 /6344cb1ebfba97000966d019?page=LIVE&amp\;type=live">ETV Live+ Stream</a>\,
  and on the district’s <a target="_blank" rel="noopener noreferrer nofol
 low" href="https://www.facebook.com/HuntsvilleCitySchools">Facebook page</
 a>.</p>
LOCATION:2601 N Memorial Pkwy\, Huntsville\, AL 35810\, USA
SUMMARY:BOE Meeting
END:VEVENT
BEGIN:VEVENT
DTSTAMP:20260423T180227Z
UID:c70f49b5-b2d8-4f24-9d40-082d09ffcdcb
DTSTART:20260714T163000
DTEND:20260714T183000
DESCRIPTION:<p>This meeting of the HCS Board of Education will be held in t
 he central office board room. More information about meetings\, including 
 how to sign up for citizen comments\, may be found on the <a target="_self
 " rel="noopener noreferrer nofollow" href="https://www.huntsvillecityschoo
 ls.org/page/board-of-education">Board of Education page</a>.</p><p>Citizen
  comments will begin at 4:30PM and will not be broadcast. The meeting and 
 broadcast will then begin immediately after the conclusion of the citizen 
 comments.</p><p>All HCS board meetings are able to be viewed over-the-air 
 on Wow channel 3\, Comcast channel 17\, on the <a target="_blank" rel="noo
 pener noreferrer nofollow" href="https://cloud.castus.tv/vod/etvlive/video
 /6344cb1ebfba97000966d019?page=LIVE&amp\;type=live">ETV Live+ Stream</a>\,
  and on the district’s <a target="_blank" rel="noopener noreferrer nofol
 low" href="https://www.facebook.com/HuntsvilleCitySchools">Facebook page</
 a>.</p>
LOCATION:2601 N Memorial Pkwy\, Huntsville\, AL 35810\, USA
SUMMARY:BOE Work Session
END:VEVENT
BEGIN:VEVENT
DTSTAMP:20260423T180227Z
UID:3547fef2-5bd1-428a-9547-29596a0c09fa
DTSTART:20260728T163000
DTEND:20260728T183000
DESCRIPTION:<p>This meeting of the HCS Board of Education will be held in t
 he central office board room. More information about meetings\, including 
 how to sign up for citizen comments\, may be found on the <a target="_self
 " rel="noopener noreferrer nofollow" href="https://www.huntsvillecityschoo
 ls.org/page/board-of-education">Board of Education page</a>.</p><p>Citizen
  comments will begin at 4:30PM and will not be broadcast. The meeting and 
 broadcast will then begin immediately after the conclusion of the citizen 
 comments.</p><p>All HCS board meetings are able to be viewed over-the-air 
 on Wow channel 3\, Comcast channel 17\, on the <a target="_blank" rel="noo
 pener noreferrer nofollow" href="https://cloud.castus.tv/vod/etvlive/video
 /6344cb1ebfba97000966d019?page=LIVE&amp\;type=live">ETV Live+ Stream</a>\,
  and on the district’s <a target="_blank" rel="noopener noreferrer nofol
 low" href="https://www.facebook.com/HuntsvilleCitySchools">Facebook page</
 a>.</p>
LOCATION:2601 N Memorial Pkwy\, Huntsville\, AL 35810\, USA
SUMMARY:BOE Meeting
END:VEVENT
END:VCALENDAR
