BEGIN:VCALENDAR
VERSION:2.0
PRODID:icalendar-ruby
CALSCALE:GREGORIAN
BEGIN:VTIMEZONE
TZID:America/New_York
BEGIN:DAYLIGHT
DTSTART:20260308T030000
TZOFFSETFROM:-0500
TZOFFSETTO:-0400
RRULE:FREQ=YEARLY;BYDAY=2SU;BYMONTH=3
TZNAME:EDT
END:DAYLIGHT
BEGIN:STANDARD
DTSTART:20261101T010000
TZOFFSETFROM:-0400
TZOFFSETTO:-0500
RRULE:FREQ=YEARLY;BYDAY=1SU;BYMONTH=11
TZNAME:EST
END:STANDARD
END:VTIMEZONE
BEGIN:VEVENT
DTSTAMP:20260425T151546Z
UID:ecb66618-3909-4dc2-818a-ca066c11f77b
DTSTART;VALUE=DATE:20260513
DTEND;VALUE=DATE:20260514
DESCRIPTION:
LOCATION:
SUMMARY:Elementary Schools Early Release (12:30 pm)
END:VEVENT
BEGIN:VEVENT
DTSTAMP:20260425T151546Z
UID:27748777-498f-4cf2-b2fe-cab6a0f150e1
DTSTART;VALUE=DATE:20260525
DTEND;VALUE=DATE:20260526
DESCRIPTION:
LOCATION:
SUMMARY:Memorial Day (No School)
END:VEVENT
BEGIN:VEVENT
DTSTAMP:20260425T151546Z
UID:b906d8f4-a466-4067-8f5f-2b646e2e5d67
DTSTART:20260617T080000
DTEND:20260617T090000
DESCRIPTION:
LOCATION:
SUMMARY:FHTMS 8th Grade Celebration
END:VEVENT
BEGIN:VEVENT
DTSTAMP:20260425T151546Z
UID:58983432-80a6-49c3-b79a-615755578bfa
DTSTART;VALUE=DATE:20260618
DTEND;VALUE=DATE:20260619
DESCRIPTION:
LOCATION:
SUMMARY:Last Day of School — Elementary dismissal at 11:30 am (MS/HS at 1
 2:30)
END:VEVENT
BEGIN:VEVENT
DTSTAMP:20260425T151546Z
UID:01b006a1-dbf3-4ae1-8439-bb4e55ab4d27
DTSTART;VALUE=DATE:20260618
DTEND;VALUE=DATE:20260619
DESCRIPTION:
LOCATION:
SUMMARY:High School Graduation
END:VEVENT
END:VCALENDAR
