BEGIN:VCALENDAR
VERSION:2.0
PRODID:icalendar-ruby
CALSCALE:GREGORIAN
BEGIN:VTIMEZONE
TZID:America/Chicago
BEGIN:DAYLIGHT
DTSTART:20260308T030000
TZOFFSETFROM:-0600
TZOFFSETTO:-0500
RRULE:FREQ=YEARLY;BYDAY=2SU;BYMONTH=3
TZNAME:CDT
END:DAYLIGHT
BEGIN:STANDARD
DTSTART:20261101T010000
TZOFFSETFROM:-0500
TZOFFSETTO:-0600
RRULE:FREQ=YEARLY;BYDAY=1SU;BYMONTH=11
TZNAME:CST
END:STANDARD
END:VTIMEZONE
BEGIN:VEVENT
DTSTAMP:20260419T153501Z
UID:26d46500-302b-44ad-aafe-7b28c510eafc
DTSTART;VALUE=DATE:20260419
DTEND;VALUE=DATE:20260420
DESCRIPTION:
LOCATION:
SUMMARY:FFA State Convention
END:VEVENT
BEGIN:VEVENT
DTSTAMP:20260419T153501Z
UID:83db165a-c3fa-4269-8cd0-97cf889c30fe
DTSTART;VALUE=DATE:20260420
DTEND;VALUE=DATE:20260421
DESCRIPTION:
LOCATION:
SUMMARY:K-2 Spring Music Concert
END:VEVENT
BEGIN:VEVENT
DTSTAMP:20260419T153501Z
UID:224a0c29-95f4-418c-b60d-fd9315534e38
DTSTART;VALUE=DATE:20260420
DTEND;VALUE=DATE:20260421
DESCRIPTION:
LOCATION:
SUMMARY:FFA State Convention
END:VEVENT
BEGIN:VEVENT
DTSTAMP:20260419T153501Z
UID:7b482e83-8dd4-43a6-b487-14700191a914
DTSTART:20260420T163000
DTEND:20260420T200000
DESCRIPTION:
LOCATION:
SUMMARY:C T&F at Wilson Field- Blue Earth
END:VEVENT
BEGIN:VEVENT
DTSTAMP:20260419T153501Z
UID:31150fda-af57-40ca-94c6-b18c4d48992e
DTSTART;VALUE=DATE:20260421
DTEND;VALUE=DATE:20260422
DESCRIPTION:
LOCATION:
SUMMARY:FFA State Convention
END:VEVENT
BEGIN:VEVENT
DTSTAMP:20260419T153501Z
UID:32598f9b-6218-47e6-b9db-4ddb70821a8c
DTSTART:20260421T161500
DTEND:20260421T171500
DESCRIPTION:
LOCATION:
SUMMARY:C Boys and Girls Golf @ Wells Golf Club
END:VEVENT
BEGIN:VEVENT
DTSTAMP:20260419T153501Z
UID:ff169c69-20ac-49f6-b106-d067f8d9ff0f
DTSTART:20260421T161500
DTEND:20260421T200000
DESCRIPTION:
LOCATION:
SUMMARY:Varsity T&F at Blooming Prairie
END:VEVENT
BEGIN:VEVENT
DTSTAMP:20260419T153501Z
UID:632b5e0a-2a70-4094-8489-86f94075c5a8
DTSTART:20260421T163000
DTEND:20260421T173000
DESCRIPTION:
LOCATION:
SUMMARY:C Baseball at St. James
END:VEVENT
BEGIN:VEVENT
DTSTAMP:20260419T153501Z
UID:43972969-18e7-47f8-91dd-ac417f57443b
DTSTART:20260421T163000
DTEND:20260421T170000
DESCRIPTION:
LOCATION:
SUMMARY:Varsity Baseball vs. MCW
END:VEVENT
BEGIN:VEVENT
DTSTAMP:20260419T153501Z
UID:adcc6dc9-73e2-4080-bb85-2125fe7d0e29
DTSTART:20260421T163000
DTEND:20260421T173000
DESCRIPTION:
LOCATION:
SUMMARY:Varsity Softball vs. Cleveland
END:VEVENT
BEGIN:VEVENT
DTSTAMP:20260419T153501Z
UID:5569ff9a-cf53-405c-817f-f51a3575799e
DTSTART:20260421T170000
DTEND:20260421T173000
DESCRIPTION:
LOCATION:
SUMMARY:School Board Q & A Session in Bricelyn
END:VEVENT
BEGIN:VEVENT
DTSTAMP:20260419T153501Z
UID:d8be58e4-1884-4d12-a16c-062a1c36b819
DTSTART:20260421T173000
DTEND:20260421T183000
DESCRIPTION:
LOCATION:
SUMMARY:School Board Meeting
END:VEVENT
BEGIN:VEVENT
DTSTAMP:20260419T153501Z
UID:007bb960-d4d1-4555-a30b-36b9433946c9
DTSTART:20260423T163000
DTEND:20260423T173000
DESCRIPTION:
LOCATION:
SUMMARY:Grade 7 Softball vs. Blooming Prairie
END:VEVENT
BEGIN:VEVENT
DTSTAMP:20260419T153501Z
UID:c5d55bd3-1851-489e-b307-c6517320724e
DTSTART:20260423T163000
DTEND:20260423T173000
DESCRIPTION:
LOCATION:
SUMMARY:Varsity Baseball at Blooming Prairie
END:VEVENT
BEGIN:VEVENT
DTSTAMP:20260419T153501Z
UID:163d9676-b25b-4629-88b9-4cdb29d66708
DTSTART:20260423T163000
DTEND:20260423T173000
DESCRIPTION:
LOCATION:
SUMMARY:Varsity Softball vs. Blooming Prairie
END:VEVENT
BEGIN:VEVENT
DTSTAMP:20260419T153501Z
UID:d1cbb79b-0ea6-4019-b8e5-65ec1e1f88c5
DTSTART:20260423T173000
DTEND:20260423T183000
DESCRIPTION:
LOCATION:
SUMMARY:Grade 8 Softball vs. Blooming Prairie
END:VEVENT
BEGIN:VEVENT
DTSTAMP:20260419T153501Z
UID:c9bdf104-0b67-41d5-b7fb-166ecea3d3f7
DTSTART:20260423T180000
DTEND:20260423T190000
DESCRIPTION:
LOCATION:
SUMMARY:JV Softball vs. Blooming Prairie
END:VEVENT
BEGIN:VEVENT
DTSTAMP:20260419T153501Z
UID:cfffa4bb-70af-4930-86bd-0fb025081f1b
DTSTART:20260423T181500
DTEND:20260423T191500
DESCRIPTION:
LOCATION:
SUMMARY:JV Baseball at Blooming Prairie
END:VEVENT
BEGIN:VEVENT
DTSTAMP:20260419T153501Z
UID:ada4327f-c5a7-4e48-9382-43596f775495
DTSTART:20260424T163000
DTEND:20260424T173000
DESCRIPTION:
LOCATION:
SUMMARY:Varsity Golf at Dodge Country Club
END:VEVENT
BEGIN:VEVENT
DTSTAMP:20260419T153501Z
UID:e72243be-66ad-4cca-8bfc-15ce9c0a364e
DTSTART:20260424T163000
DTEND:20260424T173000
DESCRIPTION:
LOCATION:
SUMMARY:Varsity Softball vs. Springfield
END:VEVENT
BEGIN:VEVENT
DTSTAMP:20260419T153501Z
UID:250fab69-b4d1-4cd2-8842-8ddf3c475efd
DTSTART:20260424T163000
DTEND:20260424T173000
DESCRIPTION:
LOCATION:
SUMMARY:Varsity T&F at Wilson Field-Blue Earth
END:VEVENT
BEGIN:VEVENT
DTSTAMP:20260419T153501Z
UID:fe89a323-4bae-4348-848e-b0fce32a73a5
DTSTART:20260424T180000
DTEND:20260424T190000
DESCRIPTION:
LOCATION:
SUMMARY:JV Softball vs. Springfield
END:VEVENT
BEGIN:VEVENT
DTSTAMP:20260419T153501Z
UID:4e9f4ff7-0559-4f5e-8e9f-45986b9affbe
DTSTART;VALUE=DATE:20260425
DTEND;VALUE=DATE:20260426
DESCRIPTION:
LOCATION:
SUMMARY:State Speech Tournament
END:VEVENT
BEGIN:VEVENT
DTSTAMP:20260419T153501Z
UID:9c9b4d88-1529-476f-af41-4bee3c8a60f2
DTSTART:20260425T110000
DTEND:20260425T120000
DESCRIPTION:
LOCATION:
SUMMARY:Varsity Baseball vs. Lyle-Pacelli
END:VEVENT
BEGIN:VEVENT
DTSTAMP:20260419T153501Z
UID:f3201235-d6fd-41d9-bb6a-6f614aa734f8
DTSTART:20260425T130000
DTEND:20260425T130000
DESCRIPTION:
LOCATION:
SUMMARY:JV Baseball vs. Lyle-Pacelli
END:VEVENT
BEGIN:VEVENT
DTSTAMP:20260419T153501Z
UID:82fb3b82-261f-4871-9e47-859d6dc5a780
DTSTART:20260427T163000
DTEND:20260427T173000
DESCRIPTION:
LOCATION:
SUMMARY:C Baseball at Hayfield
END:VEVENT
BEGIN:VEVENT
DTSTAMP:20260419T153501Z
UID:8ba34d07-d1ca-495b-b549-7bf6b1ad4331
DTSTART:20260427T163000
DTEND:20260427T173000
DESCRIPTION:
LOCATION:
SUMMARY:C T&F at K-W
END:VEVENT
BEGIN:VEVENT
DTSTAMP:20260419T153501Z
UID:5ddff36a-f38e-4d73-8ccf-2bd13f8baddf
DTSTART:20260427T163000
DTEND:20260427T173000
DESCRIPTION:
LOCATION:
SUMMARY:Varsity Baseball vs. Hayfield
END:VEVENT
BEGIN:VEVENT
DTSTAMP:20260419T153501Z
UID:a3f5cac8-461f-4ea0-828b-ffb2d0626c3d
DTSTART:20260427T163000
DTEND:20260427T173000
DESCRIPTION:
LOCATION:
SUMMARY:Varsity Softball at Hayfield
END:VEVENT
BEGIN:VEVENT
DTSTAMP:20260419T153501Z
UID:e2bcc666-4cfd-4a0a-a125-0511322971b6
DTSTART:20260427T181500
DTEND:20260427T191500
DESCRIPTION:
LOCATION:
SUMMARY:JV Baseball vs. Hayfield
END:VEVENT
BEGIN:VEVENT
DTSTAMP:20260419T153501Z
UID:fe045c00-ca07-4aa0-aa6b-16c94d72d03a
DTSTART:20260428T130000
DTEND:20260428T140000
DESCRIPTION:
LOCATION:
SUMMARY:Varsity Golf at Wedgewood Cove Golf Club
END:VEVENT
BEGIN:VEVENT
DTSTAMP:20260419T153501Z
UID:0ba49039-b9c8-4b0e-9013-c1e11b164398
DTSTART:20260428T163000
DTEND:20260428T173000
DESCRIPTION:
LOCATION:
SUMMARY:Varsity Softball at Sleepy Eye
END:VEVENT
BEGIN:VEVENT
DTSTAMP:20260419T153501Z
UID:c9c02515-026a-4ce2-a459-8e6a66f61462
DTSTART:20260428T163000
DTEND:20260428T200000
DESCRIPTION:
LOCATION:
SUMMARY:Varsity T&F at LCWM/N
END:VEVENT
BEGIN:VEVENT
DTSTAMP:20260419T153501Z
UID:3c2bccbb-d1e9-40b9-8a41-016bacfeba39
DTSTART:20260428T180000
DTEND:20260428T190000
DESCRIPTION:
LOCATION:
SUMMARY:JV Softball at Sleepy Eye
END:VEVENT
BEGIN:VEVENT
DTSTAMP:20260419T153501Z
UID:8559a11a-0af6-4856-8d09-fd25f4603add
DTSTART:20260430T163000
DTEND:20260430T173000
DESCRIPTION:
LOCATION:
SUMMARY:C Baseball vs. JWP
END:VEVENT
BEGIN:VEVENT
DTSTAMP:20260419T153501Z
UID:06880590-7241-4235-b7b5-0a3847e834a6
DTSTART:20260430T163000
DTEND:20260430T173000
DESCRIPTION:
LOCATION:
SUMMARY:C Golf at Blooming Prairie
END:VEVENT
BEGIN:VEVENT
DTSTAMP:20260419T153501Z
UID:8953f030-80c7-4f58-8ef7-1cda9d589f76
DTSTART:20260430T163000
DTEND:20260430T173000
DESCRIPTION:
LOCATION:
SUMMARY:Grade 7 Softball vs. JWP
END:VEVENT
BEGIN:VEVENT
DTSTAMP:20260419T153501Z
UID:817fa3ba-e584-4452-accf-f22d0af913a7
DTSTART:20260430T163000
DTEND:20260430T173000
DESCRIPTION:
LOCATION:
SUMMARY:Varsity Baseball at JWP
END:VEVENT
BEGIN:VEVENT
DTSTAMP:20260419T153501Z
UID:3dcdd36a-4e25-4a15-88c5-8628fab15f60
DTSTART:20260430T163000
DTEND:20260430T173000
DESCRIPTION:
LOCATION:
SUMMARY:Varsity Softball vs. JWP
END:VEVENT
BEGIN:VEVENT
DTSTAMP:20260419T153501Z
UID:b9c0e7e3-ff8b-46be-bfe9-0ca0fdfcbe36
DTSTART:20260430T173000
DTEND:20260430T183000
DESCRIPTION:
LOCATION:
SUMMARY:Grade 8 Softball vs. JWP
END:VEVENT
BEGIN:VEVENT
DTSTAMP:20260419T153501Z
UID:81a7443b-70a5-4726-9c59-a90e48af9a26
DTSTART:20260430T180000
DTEND:20260430T190000
DESCRIPTION:
LOCATION:
SUMMARY:JV Softball vs. JWP
END:VEVENT
BEGIN:VEVENT
DTSTAMP:20260419T153501Z
UID:5ddccf31-0b96-4f61-9f94-2c46fced7e33
DTSTART:20260430T181500
DTEND:20260430T191500
DESCRIPTION:
LOCATION:
SUMMARY:JV Baseball at JWP
END:VEVENT
BEGIN:VEVENT
DTSTAMP:20260419T153501Z
UID:54b38d31-b87a-41a2-bd43-92a85c412ce7
DTSTART:20260501T163000
DTEND:20260501T173000
DESCRIPTION:
LOCATION:
SUMMARY:Varsity Baseball vs. Southland
END:VEVENT
BEGIN:VEVENT
DTSTAMP:20260419T153501Z
UID:7400bec0-74b8-44c5-afef-8c92e65b7c12
DTSTART:20260501T181500
DTEND:20260501T191500
DESCRIPTION:
LOCATION:
SUMMARY:JV Baseball vs. Southland
END:VEVENT
BEGIN:VEVENT
DTSTAMP:20260419T153501Z
UID:e03d36a2-427c-404b-824a-14bfabe05269
DTSTART;VALUE=DATE:20260502
DTEND;VALUE=DATE:20260503
DESCRIPTION:
LOCATION:
SUMMARY:Prom
END:VEVENT
BEGIN:VEVENT
DTSTAMP:20260419T153501Z
UID:b274538c-07b4-45ba-8bef-603cb79dd0f9
DTSTART:20260504T163000
DTEND:20260504T173000
DESCRIPTION:
LOCATION:
SUMMARY:Grade 7 Baseball vs. Maple River
END:VEVENT
BEGIN:VEVENT
DTSTAMP:20260419T153501Z
UID:cd0985e0-d2e2-4626-89c3-1b8dbb260946
DTSTART:20260504T163000
DTEND:20260504T173000
DESCRIPTION:
LOCATION:
SUMMARY:Grade 7 Softball vs. Maple River
END:VEVENT
BEGIN:VEVENT
DTSTAMP:20260419T153501Z
UID:1d1ea29b-ebfb-479a-ab9c-6871400ed42e
DTSTART:20260504T163000
DTEND:20260504T173000
DESCRIPTION:
LOCATION:
SUMMARY:Varsity Baseball at Maple River
END:VEVENT
BEGIN:VEVENT
DTSTAMP:20260419T153501Z
UID:53ed5a6d-7a28-4844-9475-15312e9922b3
DTSTART:20260504T163000
DTEND:20260504T173000
DESCRIPTION:
LOCATION:
SUMMARY:Varsity Softball at Maple River
END:VEVENT
BEGIN:VEVENT
DTSTAMP:20260419T153501Z
UID:d32999b4-6f6c-4007-a1e5-73999c1fcaa7
DTSTART:20260504T173000
DTEND:20260504T183000
DESCRIPTION:
LOCATION:
SUMMARY:Grade 8 Baseball vs. Maple River
END:VEVENT
BEGIN:VEVENT
DTSTAMP:20260419T153501Z
UID:b0c475cb-a512-43b6-8a49-b66d2cfcff91
DTSTART:20260504T174500
DTEND:20260504T184500
DESCRIPTION:
LOCATION:
SUMMARY:Grade 8 Softball vs. Maple River
END:VEVENT
BEGIN:VEVENT
DTSTAMP:20260419T153501Z
UID:a6adea6c-3db8-4514-bdd1-fb86ef116813
DTSTART:20260504T180000
DTEND:20260504T190000
DESCRIPTION:
LOCATION:
SUMMARY:JV Softball at Maple River
END:VEVENT
BEGIN:VEVENT
DTSTAMP:20260419T153501Z
UID:f7e93a75-704e-40e9-afda-3a20ecb26f22
DTSTART:20260504T181500
DTEND:20260504T191500
DESCRIPTION:
LOCATION:
SUMMARY:JV Baseball at Maple River
END:VEVENT
BEGIN:VEVENT
DTSTAMP:20260419T153501Z
UID:c3e4715f-9f27-4227-bdb2-33d7419283b7
DTSTART:20260505T153000
DTEND:20260505T210000
DESCRIPTION:
LOCATION:
SUMMARY:Varsity T&F at JWP
END:VEVENT
BEGIN:VEVENT
DTSTAMP:20260419T153501Z
UID:d5128f79-5c65-4512-8467-ff3402734779
DTSTART:20260505T163000
DTEND:20260505T173000
DESCRIPTION:
LOCATION:
SUMMARY:Varsity Golf at Minn Iowa Golf Course
END:VEVENT
BEGIN:VEVENT
DTSTAMP:20260419T153501Z
UID:3bd0445e-f7c6-44c0-ba29-db88bdf7393e
DTSTART:20260507T100000
DTEND:20260507T110000
DESCRIPTION:
LOCATION:
SUMMARY:Varsity Golf at Mankato North Links Golf Course
END:VEVENT
BEGIN:VEVENT
DTSTAMP:20260419T153501Z
UID:cc63ee06-3156-4a46-8e7e-7086f4102b42
DTSTART:20260507T163000
DTEND:20260507T173000
DESCRIPTION:
LOCATION:
SUMMARY:Grade 7 Baseball vs. K-W
END:VEVENT
BEGIN:VEVENT
DTSTAMP:20260419T153501Z
UID:a4c42249-b9ca-47e2-8fed-5613d5ee8402
DTSTART:20260507T163000
DTEND:20260507T173000
DESCRIPTION:
LOCATION:
SUMMARY:Grade 7 Softball at K-W
END:VEVENT
BEGIN:VEVENT
DTSTAMP:20260419T153501Z
UID:c7450914-3b4f-41e1-86de-8701f60de9b4
DTSTART:20260507T163000
DTEND:20260507T173000
DESCRIPTION:
LOCATION:
SUMMARY:JH T&F at Fairmont
END:VEVENT
BEGIN:VEVENT
DTSTAMP:20260419T153501Z
UID:509f1de1-3ae0-46cc-93ee-d73be165a08c
DTSTART:20260507T163000
DTEND:20260507T173000
DESCRIPTION:
LOCATION:
SUMMARY:Varsity Baseball vs. K-W
END:VEVENT
BEGIN:VEVENT
DTSTAMP:20260419T153501Z
UID:c1fd2d4c-6d6c-4af1-a114-ac96011fc764
DTSTART:20260507T163000
DTEND:20260507T173000
DESCRIPTION:
LOCATION:
SUMMARY:Varsity Softball at K-W
END:VEVENT
BEGIN:VEVENT
DTSTAMP:20260419T153501Z
UID:71fc1c1c-f7aa-4b1a-9cb4-33470a8a879a
DTSTART:20260507T173000
DTEND:20260507T183000
DESCRIPTION:
LOCATION:
SUMMARY:Grade 8 Baseball vs. K-W
END:VEVENT
BEGIN:VEVENT
DTSTAMP:20260419T153501Z
UID:adf6587c-0ded-4307-bfb0-e9b7adfcf6b3
DTSTART:20260507T173000
DTEND:20260507T183000
DESCRIPTION:
LOCATION:
SUMMARY:Grade 8 Softball at K-W
END:VEVENT
BEGIN:VEVENT
DTSTAMP:20260419T153501Z
UID:626b1acf-35d9-462a-9b1f-5b47bb4f9b06
DTSTART:20260507T180000
DTEND:20260507T190000
DESCRIPTION:
LOCATION:
SUMMARY:JV Softball at K-W
END:VEVENT
BEGIN:VEVENT
DTSTAMP:20260419T153501Z
UID:c8e50731-3bad-4818-abf3-d0a8c2568841
DTSTART:20260507T181500
DTEND:20260507T191500
DESCRIPTION:
LOCATION:
SUMMARY:JV Baseball vs. K-W
END:VEVENT
BEGIN:VEVENT
DTSTAMP:20260419T153501Z
UID:c07a6456-ddf0-4735-bdba-eceb3730204f
DTSTART:20260508T163000
DTEND:20260508T173000
DESCRIPTION:
LOCATION:
SUMMARY:Varsity Softball vs MVL
END:VEVENT
BEGIN:VEVENT
DTSTAMP:20260419T153501Z
UID:adbf48f9-705b-46c1-9e4e-065da8df43e2
DTSTART:20260508T180000
DTEND:20260508T190000
DESCRIPTION:
LOCATION:
SUMMARY:JV Softball vs. MVL
END:VEVENT
BEGIN:VEVENT
DTSTAMP:20260419T153501Z
UID:6249710e-2614-41de-8e6c-5351ad59485d
DTSTART:20260509T100000
DTEND:20260509T110000
DESCRIPTION:
LOCATION:
SUMMARY:Varsity T&F at Blooming Prairie
END:VEVENT
BEGIN:VEVENT
DTSTAMP:20260419T153501Z
UID:e0feddd6-126b-4ad1-b0f4-67dd8983a3f1
DTSTART:20260509T140000
DTEND:20260509T150000
DESCRIPTION:
LOCATION:
SUMMARY:Varsity Baseball at St. James
END:VEVENT
BEGIN:VEVENT
DTSTAMP:20260419T153501Z
UID:b967fa16-b3b9-44bc-bca6-51ba8145c7be
DTSTART:20260512T100000
DTEND:20260512T110000
DESCRIPTION:
LOCATION:
SUMMARY:Varsity Golf at Austin Country Club
END:VEVENT
BEGIN:VEVENT
DTSTAMP:20260419T153501Z
UID:6d4afe38-6ffd-4463-a670-5505818cb29e
DTSTART:20260512T163000
DTEND:20260512T173000
DESCRIPTION:
LOCATION:
SUMMARY:JH T&F at Hayfield High School
END:VEVENT
BEGIN:VEVENT
DTSTAMP:20260419T153501Z
UID:ec131be1-d4e3-4851-acd4-7ba56298ef23
DTSTART:20260512T163000
DTEND:20260512T173000
DESCRIPTION:
LOCATION:
SUMMARY:Varsity Baseball vs. Springfield
END:VEVENT
BEGIN:VEVENT
DTSTAMP:20260419T153501Z
UID:589f0084-0abe-4385-9d36-7f1a052e5330
DTSTART:20260512T163000
DTEND:20260512T173000
DESCRIPTION:
LOCATION:
SUMMARY:Varsity Softball at AC/GE
END:VEVENT
BEGIN:VEVENT
DTSTAMP:20260419T153501Z
UID:c8d9332f-0973-4129-b69c-995693d77351
DTSTART:20260512T181500
DTEND:20260512T191500
DESCRIPTION:
LOCATION:
SUMMARY:JV Baseball vs. Springfield
END:VEVENT
BEGIN:VEVENT
DTSTAMP:20260419T153501Z
UID:934a748f-c24f-409c-b14e-bab65ab2d6dd
DTSTART:20260512T181500
DTEND:20260512T191500
DESCRIPTION:
LOCATION:
SUMMARY:JV Softball at AC/GE
END:VEVENT
BEGIN:VEVENT
DTSTAMP:20260419T153501Z
UID:0cbac1d5-367b-42b0-8bf2-686143d52970
DTSTART:20260514T163000
DTEND:20260514T173000
DESCRIPTION:
LOCATION:
SUMMARY:Grade 7 Baseball vs. Medford
END:VEVENT
BEGIN:VEVENT
DTSTAMP:20260419T153501Z
UID:c608ee5e-89d5-465f-a9b7-d412bb72f270
DTSTART:20260514T163000
DTEND:20260514T173000
DESCRIPTION:
LOCATION:
SUMMARY:Grade 7 Softball at Medford
END:VEVENT
BEGIN:VEVENT
DTSTAMP:20260419T153501Z
UID:cb5f854f-4a3e-4c0c-8b98-c8e549db373d
DTSTART:20260514T163000
DTEND:20260514T173000
DESCRIPTION:
LOCATION:
SUMMARY:Varsity Baseball vs. Medford
END:VEVENT
BEGIN:VEVENT
DTSTAMP:20260419T153501Z
UID:cc48f945-9bda-44d2-b3b6-75fc7b0b1a65
DTSTART:20260514T163000
DTEND:20260514T173000
DESCRIPTION:
LOCATION:
SUMMARY:Varsity Softball at Medford
END:VEVENT
BEGIN:VEVENT
DTSTAMP:20260419T153501Z
UID:c1689101-0b9c-45fe-97d8-97d86cbe2aa1
DTSTART:20260514T173000
DTEND:20260514T183000
DESCRIPTION:
LOCATION:
SUMMARY:Grade 8 Baseball vs. Medford
END:VEVENT
BEGIN:VEVENT
DTSTAMP:20260419T153501Z
UID:b1f09a6b-7b82-46e4-beac-6ccf0fe73d86
DTSTART:20260514T173000
DTEND:20260514T183000
DESCRIPTION:
LOCATION:
SUMMARY:Grade 8 Softball at Medford
END:VEVENT
BEGIN:VEVENT
DTSTAMP:20260419T153501Z
UID:aca65f09-4b93-45ba-8806-81888f59396b
DTSTART:20260514T180000
DTEND:20260514T190000
DESCRIPTION:
LOCATION:
SUMMARY:JV Softball at Medford
END:VEVENT
BEGIN:VEVENT
DTSTAMP:20260419T153501Z
UID:6db5bee7-88fb-46a5-890e-4cf8668d945a
DTSTART:20260514T181500
DTEND:20260514T191500
DESCRIPTION:
LOCATION:
SUMMARY:JV Baseball vs. Medford
END:VEVENT
BEGIN:VEVENT
DTSTAMP:20260419T153501Z
UID:681d67aa-e958-4a33-9fb8-08f56ebe7926
DTSTART:20260515T160000
DTEND:20260515T170000
DESCRIPTION:
LOCATION:
SUMMARY:Varsity Golf at Fox Lake Golf Course
END:VEVENT
BEGIN:VEVENT
DTSTAMP:20260419T153501Z
UID:fca88d0e-cc70-44b2-8eea-972f48f3c3cb
DTSTART:20260515T163000
DTEND:20260515T173000
DESCRIPTION:
LOCATION:
SUMMARY:Grade 7 Baseball at GHEC
END:VEVENT
BEGIN:VEVENT
DTSTAMP:20260419T153501Z
UID:72142d6c-601f-4321-ba49-474ce2ea2acc
DTSTART:20260515T163000
DTEND:20260515T173000
DESCRIPTION:
LOCATION:
SUMMARY:JV Baseball at GHEC
END:VEVENT
BEGIN:VEVENT
DTSTAMP:20260419T153501Z
UID:e5552303-eeb8-437b-bd28-160753ba428c
DTSTART:20260515T163000
DTEND:20260515T173000
DESCRIPTION:
LOCATION:
SUMMARY:Varsity Softball vs. LCWM
END:VEVENT
BEGIN:VEVENT
DTSTAMP:20260419T153501Z
UID:850fff97-10f7-425b-9267-3a242fcfa2bb
DTSTART:20260515T163000
DTEND:20260515T173000
DESCRIPTION:
LOCATION:
SUMMARY:Varsity T&F at Triton
END:VEVENT
BEGIN:VEVENT
DTSTAMP:20260419T153501Z
UID:e24c52ac-da2a-4e90-af81-dd0bf28a372c
DTSTART:20260515T180000
DTEND:20260515T190000
DESCRIPTION:
LOCATION:
SUMMARY:JV Softball vs. LCWM
END:VEVENT
BEGIN:VEVENT
DTSTAMP:20260419T153501Z
UID:74c684b7-03c3-4838-b0b0-c20e72fc4d76
DTSTART:20260515T183000
DTEND:20260515T193000
DESCRIPTION:
LOCATION:
SUMMARY:Varsity Baseball at GHEC
END:VEVENT
BEGIN:VEVENT
DTSTAMP:20260419T153501Z
UID:9297c021-ed51-426d-8119-67dd24e53abe
DTSTART:20260518T170000
DTEND:20260518T200000
DESCRIPTION:
LOCATION:
SUMMARY:Band\, 7-8 Choir Concert
END:VEVENT
BEGIN:VEVENT
DTSTAMP:20260419T153501Z
UID:8209c7df-d1ff-461b-bd46-2e2ac45d584d
DTSTART:20260519T163000
DTEND:20260519T173000
DESCRIPTION:
LOCATION:
SUMMARY:Varsity Golf at Oak View Golf Course
END:VEVENT
BEGIN:VEVENT
DTSTAMP:20260419T153501Z
UID:bf02c644-40e8-4dfd-a627-7bd0b39d9c81
DTSTART:20260519T173000
DTEND:20260519T183000
DESCRIPTION:
LOCATION:
SUMMARY:School Board Meeting
END:VEVENT
BEGIN:VEVENT
DTSTAMP:20260419T153501Z
UID:e24ff87d-089e-4781-9966-437c062541fd
DTSTART;VALUE=DATE:20260520
DTEND;VALUE=DATE:20260521
DESCRIPTION:
LOCATION:
SUMMARY:Last PLC Dismissal
END:VEVENT
BEGIN:VEVENT
DTSTAMP:20260419T153501Z
UID:42975c56-64e1-4247-9bfa-4cb90903dce8
DTSTART:20260521T130000
DTEND:20260521T140000
DESCRIPTION:
LOCATION:
SUMMARY:Varsity Golf at Waseca Lakeside Club
END:VEVENT
BEGIN:VEVENT
DTSTAMP:20260419T153501Z
UID:c56b6afa-885c-405f-9d1f-b556d18ce157
DTSTART;VALUE=DATE:20260522
DTEND;VALUE=DATE:20260523
DESCRIPTION:
LOCATION:
SUMMARY:Pops and Pie Concert
END:VEVENT
BEGIN:VEVENT
DTSTAMP:20260419T153501Z
UID:9dfca406-38a0-4ec5-8fb3-4dd41013bde0
DTSTART:20260522T133000
DTEND:20260522T143000
DESCRIPTION:
LOCATION:
SUMMARY:VPK Preschool Graduation
END:VEVENT
BEGIN:VEVENT
DTSTAMP:20260419T153501Z
UID:ff763b2e-5194-4aed-971b-8ae15026cd66
DTSTART;VALUE=DATE:20260525
DTEND;VALUE=DATE:20260526
DESCRIPTION:
LOCATION:
SUMMARY:Memorial Day - No School
END:VEVENT
BEGIN:VEVENT
DTSTAMP:20260419T153501Z
UID:a4c4e1ac-e85f-406a-ab7d-72b3f92ba6c5
DTSTART;VALUE=DATE:20260529
DTEND;VALUE=DATE:20260530
DESCRIPTION:
LOCATION:
SUMMARY:End of Fourth Quarter
END:VEVENT
BEGIN:VEVENT
DTSTAMP:20260419T153501Z
UID:3f78333a-8c6b-4ace-a024-c3f1c209553d
DTSTART;VALUE=DATE:20260529
DTEND;VALUE=DATE:20260530
DESCRIPTION:
LOCATION:
SUMMARY:Last Day of School
END:VEVENT
BEGIN:VEVENT
DTSTAMP:20260419T153501Z
UID:9cac6263-3630-4594-8659-c62e1c346b0f
DTSTART:20260529T190000
DTEND:20260529T200000
DESCRIPTION:
LOCATION:
SUMMARY:Graduation Ceremony
END:VEVENT
BEGIN:VEVENT
DTSTAMP:20260419T153501Z
UID:d1f74c99-ab74-442f-abc5-1f9b187bca6d
DTSTART:20260616T183000
DTEND:20260616T190000
DESCRIPTION:
LOCATION:
SUMMARY:School Board Q & A Session in Kiester
END:VEVENT
BEGIN:VEVENT
DTSTAMP:20260419T153501Z
UID:fa220c60-918d-446c-8780-2191fdabe342
DTSTART:20260616T190000
DTEND:20260616T200000
DESCRIPTION:
LOCATION:
SUMMARY:School Board Meeting
END:VEVENT
BEGIN:VEVENT
DTSTAMP:20260419T153501Z
UID:7568dcd0-92ba-44b8-aaf0-68616d921851
DTSTART:20260721T190000
DTEND:20260721T200000
DESCRIPTION:
LOCATION:
SUMMARY:School Board Meeting
END:VEVENT
BEGIN:VEVENT
DTSTAMP:20260419T153501Z
UID:f6655083-131a-4c75-8242-2eda88e317ef
DTSTART:20260818T183000
DTEND:20260818T190000
DESCRIPTION:
LOCATION:
SUMMARY:School Board Q & A Session in Walters
END:VEVENT
BEGIN:VEVENT
DTSTAMP:20260419T153501Z
UID:1e4482d2-a8d9-4a8f-a116-276013797e78
DTSTART:20260818T190000
DTEND:20260818T200000
DESCRIPTION:
LOCATION:
SUMMARY:School Board Meeting
END:VEVENT
BEGIN:VEVENT
DTSTAMP:20260419T153501Z
UID:c99c2b20-edd3-4ba9-bee2-3042fc21c226
DTSTART:20260908T153000
DTEND:20260908T163000
DESCRIPTION:
LOCATION:
SUMMARY:SCACR Planning Meeting
END:VEVENT
BEGIN:VEVENT
DTSTAMP:20260419T153501Z
UID:170fbde9-cd45-461b-88d7-8db7350024e3
DTSTART:20260915T164500
DTEND:20260915T174500
DESCRIPTION:
LOCATION:
SUMMARY:SCACR Public Meeting
END:VEVENT
BEGIN:VEVENT
DTSTAMP:20260419T153501Z
UID:e0f29b04-7681-4948-89bc-435a4dbc7861
DTSTART:20260915T173000
DTEND:20260915T183000
DESCRIPTION:
LOCATION:
SUMMARY:School Board Meeting
END:VEVENT
BEGIN:VEVENT
DTSTAMP:20260419T153501Z
UID:5095b677-2bf6-4a40-a372-78e0b1732680
DTSTART:20261020T173000
DTEND:20261020T183000
DESCRIPTION:
LOCATION:
SUMMARY:School Board Meeting
END:VEVENT
BEGIN:VEVENT
DTSTAMP:20260419T153501Z
UID:3ef6226d-2686-4a69-a48a-0153078392cb
DTSTART:20261117T173000
DTEND:20261117T183000
DESCRIPTION:
LOCATION:
SUMMARY:School Board Meeting
END:VEVENT
BEGIN:VEVENT
DTSTAMP:20260419T153501Z
UID:56cbf3db-328f-4c7d-9f95-ccaf58d69f58
DTSTART:20261215T180000
DTEND:20261215T190000
DESCRIPTION:
LOCATION:
SUMMARY:School Board Meeting
END:VEVENT
END:VCALENDAR
