BEGIN:VCALENDAR
VERSION:2.0
PRODID:icalendar-ruby
CALSCALE:GREGORIAN
BEGIN:VTIMEZONE
TZID:America/New_York
BEGIN:DAYLIGHT
DTSTART:20260308T030000
TZOFFSETFROM:-0500
TZOFFSETTO:-0400
RRULE:FREQ=YEARLY;BYDAY=2SU;BYMONTH=3
TZNAME:EDT
END:DAYLIGHT
BEGIN:STANDARD
DTSTART:20261101T010000
TZOFFSETFROM:-0400
TZOFFSETTO:-0500
RRULE:FREQ=YEARLY;BYDAY=1SU;BYMONTH=11
TZNAME:EST
END:STANDARD
END:VTIMEZONE
BEGIN:VEVENT
DTSTAMP:20260424T070153Z
UID:92c8be53-f97e-4fa2-bda1-70ea99fd9237
DTSTART:20260425T190000
DTEND:20260425T210000
DESCRIPTION:<p>Zane Trace Cafeteria </p>
LOCATION:
SUMMARY:7th &  8th  Grade Spring Formal
END:VEVENT
BEGIN:VEVENT
DTSTAMP:20260424T070153Z
UID:9db0c9aa-8215-40f5-9ff1-37efc337d2e4
DTSTART:20260507T190000
DTEND:20260507T210000
DESCRIPTION:
LOCATION:
SUMMARY:Senior Class Night
END:VEVENT
BEGIN:VEVENT
DTSTAMP:20260424T070153Z
UID:7cca11b3-cee7-4354-be35-24b4fbf4ae2d
DTSTART:20260508T090000
DTEND:20260508T090000
DESCRIPTION:<p>High School Gym</p>
LOCATION:
SUMMARY:Prom Promise
END:VEVENT
BEGIN:VEVENT
DTSTAMP:20260424T070153Z
UID:8d43d51b-87d0-40ac-b18f-e32fe9421eff
DTSTART:20260509T080000
DTEND:20260509T090000
DESCRIPTION:<p>Riser Barn</p>
LOCATION:8988 OH-180\, Kingston\, OH 45644\, USA
SUMMARY:Jr. & Sr. Prom
END:VEVENT
BEGIN:VEVENT
DTSTAMP:20260424T070153Z
UID:ea5147a9-2744-4948-9255-c4cd95f88594
DTSTART;VALUE=DATE:20260512
DTEND;VALUE=DATE:20260513
DESCRIPTION:
LOCATION:
SUMMARY:Seniors' Last Day
END:VEVENT
BEGIN:VEVENT
DTSTAMP:20260424T070153Z
UID:722f2280-00ac-4b3e-92fc-3975e87a95d5
DTSTART:20260514T090000
DTEND:20260514T110000
DESCRIPTION:
LOCATION:
SUMMARY:High School Underclassman Awards
END:VEVENT
BEGIN:VEVENT
DTSTAMP:20260424T070153Z
UID:34907c1f-3538-48c9-8466-b7be768c1649
DTSTART:20260516T180000
DTEND:20260516T200000
DESCRIPTION:<p>High School Gymnasium </p>
LOCATION:
SUMMARY:60th Zane Trace High School Graduation 
END:VEVENT
BEGIN:VEVENT
DTSTAMP:20260424T070153Z
UID:5569738a-c40e-4dcf-804b-980a18491d39
DTSTART;VALUE=DATE:20260521
DTEND;VALUE=DATE:20260522
DESCRIPTION:
LOCATION:
SUMMARY:Student's Last Day of School 
END:VEVENT
BEGIN:VEVENT
DTSTAMP:20260424T070153Z
UID:0be1a0b2-a766-410e-aee0-65eaf904b2c3
DTSTART;VALUE=DATE:20260522
DTEND;VALUE=DATE:20260523
DESCRIPTION:
LOCATION:
SUMMARY:End of 4th Nine Weeks/Staff Last Day
END:VEVENT
BEGIN:VEVENT
DTSTAMP:20260424T070153Z
UID:ff40d78e-66d6-4ea7-9273-eac9d8b51ae4
DTSTART;VALUE=DATE:20260817
DTEND;VALUE=DATE:20260818
DESCRIPTION:
LOCATION:
SUMMARY:Staff Work Day - District Inservice Day
END:VEVENT
BEGIN:VEVENT
DTSTAMP:20260424T070153Z
UID:042eaa78-60d7-47a9-beca-6fc3fdaa0103
DTSTART;VALUE=DATE:20260818
DTEND;VALUE=DATE:20260819
DESCRIPTION:<p>Seniors - 2 PM              Sophomores - 4 PM<br>Juniors  - 
 3 PM              Freshman - 4:45 PM</p>
LOCATION:
SUMMARY:Open House - Staff Work Day
END:VEVENT
BEGIN:VEVENT
DTSTAMP:20260424T070153Z
UID:799e9c21-4203-485a-8c3a-a9d5560c7d85
DTSTART;VALUE=DATE:20260819
DTEND;VALUE=DATE:20260820
DESCRIPTION:
LOCATION:
SUMMARY:Staff PD Day/Meet the Team Night
END:VEVENT
BEGIN:VEVENT
DTSTAMP:20260424T070153Z
UID:212f6b1b-4e5f-481e-8b8b-da750a0d9aef
DTSTART;VALUE=DATE:20260820
DTEND;VALUE=DATE:20260821
DESCRIPTION:
LOCATION:
SUMMARY:Student's First Day of School 
END:VEVENT
BEGIN:VEVENT
DTSTAMP:20260424T070153Z
UID:711ea2d1-d26b-4f48-a90d-47000acfd4aa
DTSTART:20260907T080000
DTEND:20260907T090000
DESCRIPTION:
LOCATION:
SUMMARY:Labor Day  - No School
END:VEVENT
BEGIN:VEVENT
DTSTAMP:20260424T070153Z
UID:fd047916-eac2-4270-a110-e3098e443ad4
DTSTART;VALUE=DATE:20260924
DTEND;VALUE=DATE:20260925
DESCRIPTION:<p>High School - 3:00-5:40</p>
LOCATION:
SUMMARY:Parent-Teacher Conferences
END:VEVENT
BEGIN:VEVENT
DTSTAMP:20260424T070153Z
UID:fff7ecb7-944e-406f-8e8b-d7e069c68699
DTSTART:20260925T190000
DTEND:20260925T220000
DESCRIPTION:
LOCATION:
SUMMARY:Homecoming Game
END:VEVENT
BEGIN:VEVENT
DTSTAMP:20260424T070153Z
UID:7d5ae0e9-eaa5-4519-9cdf-3d8db17ccbf2
DTSTART:20260926T080000
DTEND:20260926T090000
DESCRIPTION:
LOCATION:
SUMMARY:Homecoming Dance
END:VEVENT
END:VCALENDAR
