BEGIN:VCALENDAR
VERSION:2.0
PRODID:icalendar-ruby
CALSCALE:GREGORIAN
BEGIN:VTIMEZONE
TZID:America/New_York
BEGIN:DAYLIGHT
DTSTART:20260308T030000
TZOFFSETFROM:-0500
TZOFFSETTO:-0400
RRULE:FREQ=YEARLY;BYDAY=2SU;BYMONTH=3
TZNAME:EDT
END:DAYLIGHT
BEGIN:STANDARD
DTSTART:20261101T010000
TZOFFSETFROM:-0400
TZOFFSETTO:-0500
RRULE:FREQ=YEARLY;BYDAY=1SU;BYMONTH=11
TZNAME:EST
END:STANDARD
END:VTIMEZONE
BEGIN:VEVENT
DTSTAMP:20260425T030749Z
UID:6fa2a1e0-9c60-44d4-a80b-99b487185620
DTSTART;VALUE=DATE:20260424
DTEND;VALUE=DATE:20260425
DESCRIPTION:
LOCATION:
SUMMARY:Quarter 4 Interim Reports Published to ParentAssist 
END:VEVENT
BEGIN:VEVENT
DTSTAMP:20260425T030749Z
UID:96eadef2-6263-4704-8d0a-3dd5d238e4e1
DTSTART;VALUE=DATE:20260429
DTEND;VALUE=DATE:20260430
DESCRIPTION:
LOCATION:
SUMMARY:SCIENCE Ohio State Test Part I
END:VEVENT
BEGIN:VEVENT
DTSTAMP:20260425T030749Z
UID:1c4f79cd-b177-49f4-90ec-467bcb0e5cf2
DTSTART;VALUE=DATE:20260430
DTEND;VALUE=DATE:20260501
DESCRIPTION:
LOCATION:
SUMMARY:SCIENCE Ohio State Test Part II
END:VEVENT
BEGIN:VEVENT
DTSTAMP:20260425T030749Z
UID:15c885ae-1d62-422a-8416-5450a80267b9
DTSTART;VALUE=DATE:20260505
DTEND;VALUE=DATE:20260506
DESCRIPTION:
LOCATION:
SUMMARY:NWEA/MAP Growth Assessment:  Reading
END:VEVENT
BEGIN:VEVENT
DTSTAMP:20260425T030749Z
UID:7ec0127c-e4f2-4b91-bdd0-fb25fa191370
DTSTART;VALUE=DATE:20260506
DTEND;VALUE=DATE:20260507
DESCRIPTION:
LOCATION:
SUMMARY:NO SCHOOL - Staff PD Day
END:VEVENT
BEGIN:VEVENT
DTSTAMP:20260425T030749Z
UID:0fb0c81a-2e77-4691-875f-a465b99db82a
DTSTART;VALUE=DATE:20260507
DTEND;VALUE=DATE:20260508
DESCRIPTION:
LOCATION:
SUMMARY:NWEA/MAP Growth Assessment:  Math
END:VEVENT
BEGIN:VEVENT
DTSTAMP:20260425T030749Z
UID:de7add2a-93b8-40c5-821b-80c4ad57b036
DTSTART:20260514T180000
DTEND:20260514T184500
DESCRIPTION:
LOCATION:HMS Gymnasium 
SUMMARY:5th Grade Band Concert 
END:VEVENT
BEGIN:VEVENT
DTSTAMP:20260425T030749Z
UID:ed839eb4-8fa8-4808-8b81-d545f8a62011
DTSTART:20260514T193000
DTEND:20260514T201500
DESCRIPTION:
LOCATION:HMS Gymnasium 
SUMMARY:6th Grade Band Concert 
END:VEVENT
BEGIN:VEVENT
DTSTAMP:20260425T030749Z
UID:25a1e2dc-6446-4e74-9277-7964351344f5
DTSTART;VALUE=DATE:20260520
DTEND;VALUE=DATE:20260521
DESCRIPTION:
LOCATION:
SUMMARY:5/6 Choir Concerts 
END:VEVENT
BEGIN:VEVENT
DTSTAMP:20260425T030749Z
UID:8a16dfec-c923-4493-a193-33761ae36b01
DTSTART:20260520T180000
DTEND:20260520T184500
DESCRIPTION:
LOCATION:HMS Gymnasium 
SUMMARY:5th Grade Choir Concert
END:VEVENT
BEGIN:VEVENT
DTSTAMP:20260425T030749Z
UID:2115f996-49b8-424b-97f2-50dc16a34426
DTSTART:20260520T190000
DTEND:20260520T194500
DESCRIPTION:
LOCATION:HMS Gymnasium 
SUMMARY:6th Grade Choir Concert 
END:VEVENT
BEGIN:VEVENT
DTSTAMP:20260425T030749Z
UID:67bcadc1-fc91-44f4-9612-591684e5fccd
DTSTART;VALUE=DATE:20260525
DTEND;VALUE=DATE:20260526
DESCRIPTION:
LOCATION:
SUMMARY:NO SCHOOL - MEMORIAL DAY 
END:VEVENT
BEGIN:VEVENT
DTSTAMP:20260425T030749Z
UID:252d8fb7-0317-4c6b-85a4-41c7acb4e670
DTSTART;VALUE=DATE:20260528
DTEND;VALUE=DATE:20260529
DESCRIPTION:
LOCATION:
SUMMARY:End of Quarter 4
END:VEVENT
BEGIN:VEVENT
DTSTAMP:20260425T030749Z
UID:fc3df62b-3bab-47f6-a4b2-3bba92d8f9b5
DTSTART;VALUE=DATE:20260528
DTEND;VALUE=DATE:20260529
DESCRIPTION:
LOCATION:
SUMMARY:STUDENT LAST DAY
END:VEVENT
END:VCALENDAR
