BEGIN:VCALENDAR
VERSION:2.0
PRODID:icalendar-ruby
CALSCALE:GREGORIAN
BEGIN:VTIMEZONE
TZID:America/Chicago
BEGIN:DAYLIGHT
DTSTART:20260308T030000
TZOFFSETFROM:-0600
TZOFFSETTO:-0500
RRULE:FREQ=YEARLY;BYDAY=2SU;BYMONTH=3
TZNAME:CDT
END:DAYLIGHT
BEGIN:STANDARD
DTSTART:20261101T010000
TZOFFSETFROM:-0500
TZOFFSETTO:-0600
RRULE:FREQ=YEARLY;BYDAY=1SU;BYMONTH=11
TZNAME:CST
END:STANDARD
END:VTIMEZONE
BEGIN:VEVENT
DTSTAMP:20260423T132830Z
UID:479d01fb-1eb9-4c25-b620-25a5d752854f
DTSTART;VALUE=DATE:20260424
DTEND;VALUE=DATE:20260425
DESCRIPTION:
LOCATION:
SUMMARY:SECHS Early Release
END:VEVENT
BEGIN:VEVENT
DTSTAMP:20260423T132830Z
UID:ac4ffd7f-d3a7-44db-9f30-1ae4fc152590
DTSTART:20260424T163000
DTEND:20260424T193000
DESCRIPTION:<p><span>To qualify\, candidates must register by 5 p.m. on Apr
 il 20\, and have an updated application on file. Those who qualify will re
 ceive an invitation via email. More information: </span><a target="_blank"
  rel="noopener noreferrer nofollow" href="https://www.humbleisd.net/o/humb
 leisd/page/human-resources-teacher-job-fair" relative-link=""><span>https:
 //www.humbleisd.net/teacherjobfair</span></a></p>
LOCATION:8233 Will Clayton Pkwy\, Humble\, TX 77338\, USA
SUMMARY:Teacher Job Fair
END:VEVENT
BEGIN:VEVENT
DTSTAMP:20260423T132830Z
UID:343519ed-d169-450f-bc33-209db4febc0a
DTSTART:20260425T080000
DTEND:20260425T150000
DESCRIPTION:<p>Humble ISD requires students enrolled in athletics\, cheer\,
  drill team\, or high school band (Not PE or Middle School Band) during th
 e 2026-2027 school year to have a physical dated February 1\, 2026\, or la
 ter. This year Memorial Hermann and Humble ISD will provide two dates for 
 students to receive physicals: February 28 and April 25.</p><p>If transpor
 tation to the high schools is needed\, please contact your student's coach
 .</p><p><strong>Saturday\, April 25 at Kingwood High School</strong><br>8 
 a.m. to Noon - Middle School Students | Noon to 3 p.m. High School Student
 s</p><p><a target="_blank" rel="noopener noreferrer nofollow" href="https:
 //aptg.co/tNVQh4" relative-link=""><strong>Humble ISD 2026-2027 Physical F
 orm</strong></a></p><p><strong>Cost is $20. </strong><a target="_blank" re
 l="noopener noreferrer nofollow" href="https://docs.google.com/forms/d/e/1
 FAIpQLSeng-0tei4zpXsLWfr0k_zSqd9oOTSgnNxwgMLG-FFJqO3GQA/viewform" relative
 -link=""><strong>Pre-pay online</strong></a><strong>\, (bring receipt)\, o
 r pay on site.</strong></p>
LOCATION:2701 Kingwood Dr\, Kingwood\, TX 77339\, USA
SUMMARY:Athletic Physical Day at KHS
END:VEVENT
BEGIN:VEVENT
DTSTAMP:20260423T132830Z
UID:3ff960d4-dce0-4fdc-81bf-fc9d449d69e8
DTSTART:20260425T130000
DTEND:20260425T153000
DESCRIPTION:<p><a target="_blank" rel="noopener noreferrer nofollow" href="
 https://hcpl.bibliocommons.com/v2/events?audiences=630cc8ce7e2794a34b23e90
 3&amp\;_gl=1*1kukwtw*_ga*MTQ2NTYwOTQwOC4xNzcwMzE5NDgw*_ga_G99DMMNG39*czE3N
 zUxNDEwNTkkbzIkZzEkdDE3NzUxNDExMzYkajU1JGwwJGgw*_ga_KTCZMS0X03*czE3NzUxNDE
 wNTkkbzIkZzEkdDE3NzUxNDExMzYkajU1JGwwJGgw&amp\;startDate=2026-04-25&amp\;e
 ndDate=2026-04-25&amp\;locations=KW" relative-link="">Register for this ev
 ent</a></p>
LOCATION:
SUMMARY:Augmentative & Alternative Communication (AAC) Events Series
END:VEVENT
BEGIN:VEVENT
DTSTAMP:20260423T132830Z
UID:069ee92c-f110-4875-893c-6029339636c7
DTSTART:20260429T083000
DTEND:20260429T083000
DESCRIPTION:<p>This meeting will take place at the Humble ISD Police Depart
 ment Training Facility\, 1911 Wilson Road\, Humble\, TX 77396\, at 8:30 a.
 m. on April 29\, 2026.</p><p><a target="_blank" rel="noopener noreferrer n
 ofollow" href="https://humbleisd.community.diligentoneplatform.com/Portal/
 MeetingInformation.aspx?Org=Cal&amp\;Id=362" relative-link=""><strong>Agen
 da</strong></a></p>
LOCATION:1911 Wilson Rd\, Humble\, TX 77396\, USA
SUMMARY:Safety and Security Committee Meeting
END:VEVENT
BEGIN:VEVENT
DTSTAMP:20260423T132830Z
UID:be9526d5-5734-461f-8dff-0e5cb8c434ee
DTSTART:20260430T170000
DTEND:20260430T180000
DESCRIPTION:
LOCATION:14000 Summerwood Lakes Dr\, Houston\, TX 77044\, USA
SUMMARY:SWE Playground Open House
END:VEVENT
BEGIN:VEVENT
DTSTAMP:20260423T132830Z
UID:cfc55011-cc2d-44a2-9f42-395334e06f58
DTSTART;VALUE=DATE:20260501
DTEND;VALUE=DATE:20260502
DESCRIPTION:
LOCATION:
SUMMARY:SECHS Early Release
END:VEVENT
BEGIN:VEVENT
DTSTAMP:20260423T132830Z
UID:c751a14a-6c1f-4db0-8a61-52674b0cdc0c
DTSTART:20260501T190000
DTEND:20260501T210000
DESCRIPTION:
LOCATION:4015 Woodland Hills Dr\, Kingwood\, TX 77339\, USA
SUMMARY:KPHS Silver Stars Spectrum 2026 The Next Step
END:VEVENT
BEGIN:VEVENT
DTSTAMP:20260423T132830Z
UID:847aec98-6150-4faf-8246-b1dd5726b568
DTSTART:20260502T100000
DTEND:20260502T150000
DESCRIPTION:
LOCATION:20000 Kingwood Dr\, Kingwood\, TX 77339\, USA
SUMMARY:Fine Arts Festival 
END:VEVENT
BEGIN:VEVENT
DTSTAMP:20260423T132830Z
UID:09d79355-1ad7-475f-8645-2f9723f7c72a
DTSTART:20260502T190000
DTEND:20260502T210000
DESCRIPTION:
LOCATION:4015 Woodland Hills Dr\, Kingwood\, TX 77339\, USA
SUMMARY:KPHS Silver Stars Spectrum 2026 The Next Step
END:VEVENT
BEGIN:VEVENT
DTSTAMP:20260423T132830Z
UID:c47c949a-9e64-4f0b-a259-9202cf3cf072
DTSTART:20260506T190000
DTEND:20260506T210000
DESCRIPTION:
LOCATION:2701 Kingwood Dr\, Kingwood\, TX 77339\, USA
SUMMARY:KHS Theatre presents SIX: The Musical (Teen Edition)
END:VEVENT
BEGIN:VEVENT
DTSTAMP:20260423T132830Z
UID:1e15b74b-fb67-4052-b16a-27a58f6e6e39
DTSTART;VALUE=DATE:20260507
DTEND;VALUE=DATE:20260508
DESCRIPTION:
LOCATION:
SUMMARY:MS and HS Late Arrival
END:VEVENT
BEGIN:VEVENT
DTSTAMP:20260423T132830Z
UID:ac4b454f-4e35-4aee-8a89-29f3e77b1008
DTSTART:20260507T180000
DTEND:20260507T200000
DESCRIPTION:
LOCATION:1700 Wilson Rd\, Humble\, TX 77338\, USA
SUMMARY:Counseling & Behavorial Services Summer Family Resource Fair
END:VEVENT
BEGIN:VEVENT
DTSTAMP:20260423T132830Z
UID:90add545-e814-412b-a19d-e21517f1265e
DTSTART:20260507T190000
DTEND:20260507T210000
DESCRIPTION:
LOCATION:2701 Kingwood Dr\, Kingwood\, TX 77339\, USA
SUMMARY:KHS Theatre presents SIX: The Musical (Teen Edition)
END:VEVENT
BEGIN:VEVENT
DTSTAMP:20260423T132830Z
UID:ed4507ac-44ea-46bc-9f33-3d416a316c87
DTSTART;VALUE=DATE:20260508
DTEND;VALUE=DATE:20260509
DESCRIPTION:
LOCATION:
SUMMARY:SECHS Early Release
END:VEVENT
BEGIN:VEVENT
DTSTAMP:20260423T132830Z
UID:69d59c7e-77db-4700-8b44-eca848fcd067
DTSTART:20260509T140000
DTEND:20260509T160000
DESCRIPTION:
LOCATION:2701 Kingwood Dr\, Kingwood\, TX 77339\, USA
SUMMARY:KHS Theatre presents SIX: The Musical (Teen Edition)
END:VEVENT
BEGIN:VEVENT
DTSTAMP:20260423T132830Z
UID:e3d8784f-ea4b-40e2-a227-e02f4939eb3f
DTSTART:20260509T190000
DTEND:20260509T210000
DESCRIPTION:
LOCATION:2701 Kingwood Dr\, Kingwood\, TX 77339\, USA
SUMMARY:KHS Theatre presents SIX: The Musical (Teen Edition)
END:VEVENT
BEGIN:VEVENT
DTSTAMP:20260423T132830Z
UID:af8d8edf-9d26-41b6-875d-c6f66ac3fb01
DTSTART:20260510T140000
DTEND:20260510T160000
DESCRIPTION:
LOCATION:2701 Kingwood Dr\, Kingwood\, TX 77339\, USA
SUMMARY:KHS Theatre presents SIX: The Musical (Teen Edition)
END:VEVENT
BEGIN:VEVENT
DTSTAMP:20260423T132830Z
UID:c5dd6813-dfb7-4ee6-8e74-2cda6773c07d
DTSTART:20260512T090000
DTEND:20260512T090000
DESCRIPTION:
LOCATION:19901 Townsen Blvd\, Humble\, TX 77338\, USA
SUMMARY:Athletics Spring Signing Day
END:VEVENT
BEGIN:VEVENT
DTSTAMP:20260423T132830Z
UID:e1c42842-1d30-474f-bab9-cb15d27c1bd1
DTSTART:20260512T190000
DTEND:20260512T210000
DESCRIPTION:
LOCATION:20200 Eastway Village Dr\, Humble\, TX 77338\, USA
SUMMARY:Regular Meeting of the Board of Trustees
END:VEVENT
BEGIN:VEVENT
DTSTAMP:20260423T132830Z
UID:70479081-b3b1-4a15-bff9-1e683235949f
DTSTART:20260514T190000
DTEND:20260514T210000
DESCRIPTION:
LOCATION:18810 W Lake Houston Pkwy\, Houston\, TX 77346\, USA
SUMMARY:AMS Theatre presents Emma A Pop Musical
END:VEVENT
BEGIN:VEVENT
DTSTAMP:20260423T132830Z
UID:b8d436c4-2133-41a5-b91d-1b43d4bd9208
DTSTART;VALUE=DATE:20260515
DTEND;VALUE=DATE:20260516
DESCRIPTION:
LOCATION:
SUMMARY:SECHS Early Release
END:VEVENT
BEGIN:VEVENT
DTSTAMP:20260423T132830Z
UID:821eb318-e0bb-48e2-82e1-0876abafc061
DTSTART:20260515T190000
DTEND:20260515T210000
DESCRIPTION:
LOCATION:18810 W Lake Houston Pkwy\, Houston\, TX 77346\, USA
SUMMARY:AMS Theatre presents Emma A Pop Musical
END:VEVENT
BEGIN:VEVENT
DTSTAMP:20260423T132830Z
UID:1b8eea05-93c5-43bf-911b-05cdcfdedfbb
DTSTART:20260516T113000
DTEND:20260516T130000
DESCRIPTION:
LOCATION:18810 W Lake Houston Pkwy\, Houston\, TX 77346\, USA
SUMMARY:AMS Theatre presents Emma's Epic Dance Party
END:VEVENT
BEGIN:VEVENT
DTSTAMP:20260423T132830Z
UID:4a840fd4-0383-48f7-bd21-d0807d3c4c2e
DTSTART:20260516T140000
DTEND:20260516T160000
DESCRIPTION:
LOCATION:18810 W Lake Houston Pkwy\, Houston\, TX 77346\, USA
SUMMARY:AMS Theatre presents Emma A Pop Musical
END:VEVENT
BEGIN:VEVENT
DTSTAMP:20260423T132830Z
UID:8a164d83-9a1d-44d0-aabf-02004ba929cb
DTSTART:20260516T190000
DTEND:20260516T210000
DESCRIPTION:
LOCATION:18810 W Lake Houston Pkwy\, Houston\, TX 77346\, USA
SUMMARY:AMS Theatre presents Emma A Pop Musical
END:VEVENT
BEGIN:VEVENT
DTSTAMP:20260423T132830Z
UID:1f547980-18ac-45f5-b85d-189c0b0c95ec
DTSTART:20260519T180000
DTEND:20260519T210000
DESCRIPTION:
LOCATION:20200 Eastway Village Dr\, Humble\, TX 77338\, USA
SUMMARY:Special Meeting of the Board of Trustees - Budget Workshop
END:VEVENT
BEGIN:VEVENT
DTSTAMP:20260423T132830Z
UID:35a1cdd3-cf85-49f6-b076-7f7a1bc66130
DTSTART:20260521T190000
DTEND:20260521T190000
DESCRIPTION:<p><strong>Humble ISD looks forward to celebrating the Class of
  2026!</strong><br><br><a target="_blank" rel="noopener noreferrer nofollo
 w" href="https://www.humbleisd.net/page/graduation" relative-link=""><stro
 ng>Graduation Website</strong></a></p>
LOCATION:8233 Will Clayton Pkwy\, Humble\, TX 77338\, USA
SUMMARY:Sconzo Early College High School Graduation
END:VEVENT
BEGIN:VEVENT
DTSTAMP:20260423T132830Z
UID:4f7cdea4-17ea-4c46-acf2-4a8b8224597c
DTSTART;VALUE=DATE:20260522
DTEND;VALUE=DATE:20260523
DESCRIPTION:
LOCATION:
SUMMARY:SECHS Early Release
END:VEVENT
BEGIN:VEVENT
DTSTAMP:20260423T132830Z
UID:fad22038-9b2f-4679-b0d5-654c6a039ea2
DTSTART:20260522T090000
DTEND:20260522T090000
DESCRIPTION:<p><strong>Humble ISD looks forward to celebrating the Class of
  2026!</strong><br><br><a target="_blank" rel="noopener noreferrer nofollo
 w" href="https://www.humbleisd.net/page/graduation" relative-link=""><stro
 ng>Graduation Website</strong></a></p>
LOCATION:501 Crawford St\, Houston\, TX 77002\, USA
SUMMARY:Kingwood High School Graduation
END:VEVENT
BEGIN:VEVENT
DTSTAMP:20260423T132830Z
UID:68db69ac-c7c9-49f2-8491-d8f9e5571fbb
DTSTART:20260522T140000
DTEND:20260522T140000
DESCRIPTION:<p><strong>Humble ISD looks forward to celebrating the Class of
  2026!</strong><br><br><a target="_blank" rel="noopener noreferrer nofollo
 w" href="https://www.humbleisd.net/page/graduation" relative-link=""><stro
 ng>Graduation Website</strong></a></p>
LOCATION:501 Crawford St\, Houston\, TX 77002\, USA
SUMMARY:Humble High School Graduation
END:VEVENT
BEGIN:VEVENT
DTSTAMP:20260423T132830Z
UID:3a48d32d-386d-4dc6-8c04-1295c95f150f
DTSTART:20260523T090000
DTEND:20260523T090000
DESCRIPTION:<p><strong>Humble ISD looks forward to celebrating the Class of
  2026!</strong><br><br><a target="_blank" rel="noopener noreferrer nofollo
 w" href="https://www.humbleisd.net/page/graduation" relative-link=""><stro
 ng>Graduation Website</strong></a></p>
LOCATION:501 Crawford St\, Houston\, TX 77002\, USA
SUMMARY:Atascocita High School Graduation
END:VEVENT
BEGIN:VEVENT
DTSTAMP:20260423T132830Z
UID:c003765b-6edd-4341-ba78-a65ab3acaeb6
DTSTART:20260523T140000
DTEND:20260523T140000
DESCRIPTION:<p><strong>Humble ISD looks forward to celebrating the Class of
  2026!</strong><br><br><a target="_blank" rel="noopener noreferrer nofollo
 w" href="https://www.humbleisd.net/page/graduation" relative-link=""><stro
 ng>Graduation Website</strong></a></p>
LOCATION:501 Crawford St\, Houston\, TX 77002\, USA
SUMMARY:Summer Creek High School Graduation
END:VEVENT
BEGIN:VEVENT
DTSTAMP:20260423T132830Z
UID:4573b401-21d5-4189-b4ed-8fe7f9c349bc
DTSTART:20260524T140000
DTEND:20260524T140000
DESCRIPTION:<p><strong>Humble ISD looks forward to celebrating the Class of
  2026!</strong><br><br><a target="_blank" rel="noopener noreferrer nofollo
 w" href="https://www.humbleisd.net/page/graduation" relative-link=""><stro
 ng>Graduation Website</strong></a></p>
LOCATION:3422 Cullen Blvd\, Houston\, TX 77204\, USA
SUMMARY:Kingwood Park High School Graduation
END:VEVENT
BEGIN:VEVENT
DTSTAMP:20260423T132830Z
UID:c5988ae9-973f-44d1-b90f-77ef967adfa1
DTSTART;VALUE=DATE:20260525
DTEND;VALUE=DATE:20260526
DESCRIPTION:
LOCATION:
SUMMARY:Memorial Day Holiday
END:VEVENT
BEGIN:VEVENT
DTSTAMP:20260423T132830Z
UID:2e3edfea-d8dd-4419-90ff-b7dbdd3198a5
DTSTART;VALUE=DATE:20260528
DTEND;VALUE=DATE:20260529
DESCRIPTION:
LOCATION:
SUMMARY:Early Release for MS and HS
END:VEVENT
BEGIN:VEVENT
DTSTAMP:20260423T132830Z
UID:339053d2-1359-4539-bc22-3ef04ee6dc2c
DTSTART;VALUE=DATE:20260529
DTEND;VALUE=DATE:20260530
DESCRIPTION:
LOCATION:
SUMMARY:Last day of School-Early Release for All Students
END:VEVENT
BEGIN:VEVENT
DTSTAMP:20260423T132830Z
UID:1c8cf208-8530-46e6-8cdb-886365fdb38b
DTSTART;VALUE=DATE:20260529
DTEND;VALUE=DATE:20260530
DESCRIPTION:
LOCATION:
SUMMARY:SECHS Early Release
END:VEVENT
BEGIN:VEVENT
DTSTAMP:20260423T132830Z
UID:16e746bf-7309-4f3f-a3de-d353639817e4
DTSTART;VALUE=DATE:20260601
DTEND;VALUE=DATE:20260603
DESCRIPTION:
LOCATION:
SUMMARY:Staff Workday
END:VEVENT
BEGIN:VEVENT
DTSTAMP:20260423T132830Z
UID:0f6582ef-7a36-405f-a04f-594c3cd8f424
DTSTART:20260608T084500
DTEND:20260608T140000
DESCRIPTION:
LOCATION:2701 Kingwood Dr\, Kingwood\, TX 77339\, USA
SUMMARY:KHS Theatre Summer Camp 
END:VEVENT
BEGIN:VEVENT
DTSTAMP:20260423T132830Z
UID:d25ac53d-6a54-463f-8da5-a23f74947947
DTSTART:20260609T084500
DTEND:20260609T140000
DESCRIPTION:
LOCATION:2701 Kingwood Dr\, Kingwood\, TX 77339\, USA
SUMMARY:KHS Theatre Summer Camp 
END:VEVENT
BEGIN:VEVENT
DTSTAMP:20260423T132830Z
UID:a5f08701-7028-4ba6-9f32-1a1f6fd04ebe
DTSTART:20260609T190000
DTEND:20260609T220000
DESCRIPTION:
LOCATION:20200 Eastway Village Dr\, Humble\, TX 77338\, USA
SUMMARY:Regular Meeting of the Board of Trustees
END:VEVENT
BEGIN:VEVENT
DTSTAMP:20260423T132830Z
UID:7e7d586b-5647-40d1-83b7-d8ab2d098483
DTSTART:20260610T084500
DTEND:20260610T140000
DESCRIPTION:
LOCATION:2701 Kingwood Dr\, Kingwood\, TX 77339\, USA
SUMMARY:KHS Theatre Summer Camp 
END:VEVENT
BEGIN:VEVENT
DTSTAMP:20260423T132830Z
UID:67270c82-3eab-4b05-8774-badc3cfcf33a
DTSTART:20260611T084500
DTEND:20260611T140000
DESCRIPTION:
LOCATION:2701 Kingwood Dr\, Kingwood\, TX 77339\, USA
SUMMARY:KHS Theatre Summer Camp 
END:VEVENT
BEGIN:VEVENT
DTSTAMP:20260423T132830Z
UID:041f7edb-1074-47fc-a2db-4bbddb138a38
DTSTART;VALUE=DATE:20260612
DTEND;VALUE=DATE:20260613
DESCRIPTION:
LOCATION:
SUMMARY:Humble ISD Closed/Summer Schedule
END:VEVENT
BEGIN:VEVENT
DTSTAMP:20260423T132830Z
UID:442800ef-4dcd-416c-a173-e220b801b4db
DTSTART:20260612T084500
DTEND:20260612T140000
DESCRIPTION:
LOCATION:2701 Kingwood Dr\, Kingwood\, TX 77339\, USA
SUMMARY:KHS Theatre Summer Camp 
END:VEVENT
BEGIN:VEVENT
DTSTAMP:20260423T132830Z
UID:d48d80fb-6ab1-488e-80ac-3f1f24a765ad
DTSTART:20260616T180000
DTEND:20260616T210000
DESCRIPTION:
LOCATION:20200 Eastway Village Dr\, Humble\, TX 77338\, USA
SUMMARY:Special Meeting of the Board of Trustees - Budget Workshop
END:VEVENT
BEGIN:VEVENT
DTSTAMP:20260423T132830Z
UID:b1188e11-3c38-4271-bced-94d3ffd41086
DTSTART;VALUE=DATE:20260619
DTEND;VALUE=DATE:20260620
DESCRIPTION:
LOCATION:
SUMMARY:Humble ISD Closed/Summer Schedule
END:VEVENT
BEGIN:VEVENT
DTSTAMP:20260423T132830Z
UID:dfb503cf-df0b-4df3-af7b-e7706c0fe3d9
DTSTART:20260625T100000
DTEND:20260625T130000
DESCRIPTION:<p><span>Must have an updated application to the Apprentice Tea
 cher Pool on file. More information: </span><a target="_blank" rel="noopen
 er noreferrer nofollow" href="https://www.humbleisd.net/o/humbleisd/page/h
 uman-resources-teacher-job-fair">https://www.humbleisd.net/o/humbleisd/pag
 e/human-resources-teacher-job-fair</a></p>
LOCATION:Lake Houston Middle School\, 15014 Timber Forest Dr\, Houston\, TX
  77044\, USA
SUMMARY:Non-Certified Teacher/Paraeducator Job Fair
END:VEVENT
BEGIN:VEVENT
DTSTAMP:20260423T132830Z
UID:2945db2d-e169-46fd-95f5-f62ec1645b63
DTSTART;VALUE=DATE:20260626
DTEND;VALUE=DATE:20260627
DESCRIPTION:
LOCATION:
SUMMARY:Humble ISD Closed/Summer Schedule
END:VEVENT
BEGIN:VEVENT
DTSTAMP:20260423T132830Z
UID:4d2a2f4d-7525-4fdd-a457-ed72278068c6
DTSTART;VALUE=DATE:20260812
DTEND;VALUE=DATE:20260813
DESCRIPTION:<p>School begins for the 2026-2027 school year! </p>
LOCATION:
SUMMARY:First Day of School 2026-2027
END:VEVENT
BEGIN:VEVENT
DTSTAMP:20260423T132830Z
UID:40a6f258-6058-4ced-91f1-be54a762eb5d
DTSTART;VALUE=DATE:20260907
DTEND;VALUE=DATE:20260908
DESCRIPTION:
LOCATION:
SUMMARY:Labor Day Holiday - No School
END:VEVENT
BEGIN:VEVENT
DTSTAMP:20260423T132830Z
UID:4a9bdbfd-c649-4e61-8069-2c8a6d73ff0b
DTSTART;VALUE=DATE:20261012
DTEND;VALUE=DATE:20261017
DESCRIPTION:
LOCATION:
SUMMARY:Fall Break
END:VEVENT
BEGIN:VEVENT
DTSTAMP:20260423T132830Z
UID:b1f0d809-7936-443b-ac33-abf164de7803
DTSTART;VALUE=DATE:20261123
DTEND;VALUE=DATE:20261128
DESCRIPTION:
LOCATION:
SUMMARY:Thanksgiving Holiday
END:VEVENT
BEGIN:VEVENT
DTSTAMP:20260423T132830Z
UID:436cfa25-a96a-48a6-90cd-3fbe6bdfd50c
DTSTART;VALUE=DATE:20261221
DTEND;VALUE=DATE:20270102
DESCRIPTION:
LOCATION:
SUMMARY:Winter Break
END:VEVENT
BEGIN:VEVENT
DTSTAMP:20260423T132830Z
UID:7454c804-4b4e-4e6b-9dc6-1c877859f189
DTSTART;VALUE=DATE:20270118
DTEND;VALUE=DATE:20270119
DESCRIPTION:
LOCATION:
SUMMARY:MLK Holiday - No School
END:VEVENT
BEGIN:VEVENT
DTSTAMP:20260423T132830Z
UID:2c299980-23a8-48eb-962f-4df394768673
DTSTART;VALUE=DATE:20270208
DTEND;VALUE=DATE:20270213
DESCRIPTION:
LOCATION:
SUMMARY:February Break
END:VEVENT
BEGIN:VEVENT
DTSTAMP:20260423T132830Z
UID:ac3dd8e1-9e68-4c51-adf7-f6ac79770ec5
DTSTART;VALUE=DATE:20270315
DTEND;VALUE=DATE:20270320
DESCRIPTION:
LOCATION:
SUMMARY:Spring Break
END:VEVENT
BEGIN:VEVENT
DTSTAMP:20260423T132830Z
UID:fc0ae04c-6e6e-4bfb-bc1e-65db8ee7d697
DTSTART;VALUE=DATE:20270326
DTEND;VALUE=DATE:20270327
DESCRIPTION:
LOCATION:
SUMMARY:Good Friday Holiday - No School
END:VEVENT
BEGIN:VEVENT
DTSTAMP:20260423T132830Z
UID:88d03ce7-c36f-47d9-bd94-84db1ba85c92
DTSTART;VALUE=DATE:20270528
DTEND;VALUE=DATE:20270529
DESCRIPTION:
LOCATION:
SUMMARY:Last Day of School 
END:VEVENT
BEGIN:VEVENT
DTSTAMP:20260423T132830Z
UID:fb1e5b56-5040-4cc0-91c3-7b2b2bb67762
DTSTART;VALUE=DATE:20270531
DTEND;VALUE=DATE:20270601
DESCRIPTION:
LOCATION:
SUMMARY:Memorial Day Holiday
END:VEVENT
END:VCALENDAR
