BEGIN:VCALENDAR
VERSION:2.0
PRODID:icalendar-ruby
CALSCALE:GREGORIAN
BEGIN:VTIMEZONE
TZID:America/New_York
BEGIN:DAYLIGHT
DTSTART:20260308T030000
TZOFFSETFROM:-0500
TZOFFSETTO:-0400
RRULE:FREQ=YEARLY;BYDAY=2SU;BYMONTH=3
TZNAME:EDT
END:DAYLIGHT
BEGIN:STANDARD
DTSTART:20261101T010000
TZOFFSETFROM:-0400
TZOFFSETTO:-0500
RRULE:FREQ=YEARLY;BYDAY=1SU;BYMONTH=11
TZNAME:EST
END:STANDARD
END:VTIMEZONE
BEGIN:VEVENT
DTSTAMP:20260423T101852Z
UID:bb8efabf-879c-40c3-93da-79ccdd07b07b
DTSTART;VALUE=DATE:20260420
DTEND;VALUE=DATE:20260425
DESCRIPTION:
LOCATION:1800 Shoals Rd\, Pinnacle\, NC 27043\, USA
SUMMARY:Blue Ribbon Week!
END:VEVENT
BEGIN:VEVENT
DTSTAMP:20260423T101852Z
UID:25b4291b-13d7-403f-85f4-1c0478bd16c5
DTSTART;VALUE=DATE:20260425
DTEND;VALUE=DATE:20260426
DESCRIPTION:
LOCATION:251 County Home Rd\, Dobson\, NC 27017\, USA
SUMMARY:Grow Strong Team Run
END:VEVENT
BEGIN:VEVENT
DTSTAMP:20260423T101852Z
UID:dd41426c-95d5-42bf-b4d5-4d070c8b0468
DTSTART;VALUE=DATE:20260428
DTEND;VALUE=DATE:20260429
DESCRIPTION:
LOCATION:1800 Shoals Rd\, Pinnacle\, NC 27043\, USA
SUMMARY:National School Bus Driver Appreciation Day
END:VEVENT
BEGIN:VEVENT
DTSTAMP:20260423T101852Z
UID:aae95542-5c66-41c3-812e-b9777a8289f8
DTSTART;VALUE=DATE:20260501
DTEND;VALUE=DATE:20260502
DESCRIPTION:
LOCATION:1800 Shoals Rd\, Pinnacle\, NC 27043\, USA
SUMMARY:National School Principals' Day
END:VEVENT
BEGIN:VEVENT
DTSTAMP:20260423T101852Z
UID:05dbf6b5-1ee8-47ed-bcca-b5496cba8fc1
DTSTART:20260501T080000
DTEND:20260501T130000
DESCRIPTION:
LOCATION:1800 Shoals Rd\, Pinnacle\, NC 27043\, USA
SUMMARY:Field Day!
END:VEVENT
BEGIN:VEVENT
DTSTAMP:20260423T101852Z
UID:bf46dd51-8ebc-45e1-ab79-57fa83159d59
DTSTART:20260501T130000
DTEND:20260501T130000
DESCRIPTION:
LOCATION:1800 Shoals Rd\, Pinnacle\, NC 27043\, USA
SUMMARY:Early Release at 1:00pm
END:VEVENT
BEGIN:VEVENT
DTSTAMP:20260423T101852Z
UID:68ea891a-ecd5-40b2-a0cb-77e1f6d95f84
DTSTART;VALUE=DATE:20260504
DTEND;VALUE=DATE:20260509
DESCRIPTION:
LOCATION:1800 Shoals Rd\, Pinnacle\, NC 27043\, USA
SUMMARY:National Teacher Appreciation Week
END:VEVENT
BEGIN:VEVENT
DTSTAMP:20260423T101852Z
UID:9cd561aa-f1bd-44c4-a514-bd8e9cafc4c0
DTSTART;VALUE=DATE:20260508
DTEND;VALUE=DATE:20260509
DESCRIPTION:
LOCATION:1800 Shoals Rd\, Pinnacle\, NC 27043\, USA
SUMMARY:1st Grade Field Trip
END:VEVENT
BEGIN:VEVENT
DTSTAMP:20260423T101852Z
UID:9a35c660-14a4-4083-be7a-bba60c0919b7
DTSTART;VALUE=DATE:20260512
DTEND;VALUE=DATE:20260515
DESCRIPTION:
LOCATION:1800 Shoals Rd\, Pinnacle\, NC 27043\, USA
SUMMARY:EOG's  3rd\, 4th and 5th grade
END:VEVENT
BEGIN:VEVENT
DTSTAMP:20260423T101852Z
UID:56461de6-bc9d-4bae-b493-6a6843950c4e
DTSTART;VALUE=DATE:20260520
DTEND;VALUE=DATE:20260521
DESCRIPTION:
LOCATION:1800 Shoals Rd\, Pinnacle\, NC 27043\, USA
SUMMARY:Awards Day!
END:VEVENT
BEGIN:VEVENT
DTSTAMP:20260423T101852Z
UID:2a8f3c3c-cc77-4f54-bafc-cabed652b5d1
DTSTART;VALUE=DATE:20260522
DTEND;VALUE=DATE:20260523
DESCRIPTION:
LOCATION:1800 Shoals Rd\, Pinnacle\, NC 27043\, USA
SUMMARY:Last Day of School!
END:VEVENT
END:VCALENDAR
