BEGIN:VCALENDAR
VERSION:2.0
PRODID:icalendar-ruby
CALSCALE:GREGORIAN
BEGIN:VTIMEZONE
TZID:America/New_York
BEGIN:DAYLIGHT
DTSTART:20260308T030000
TZOFFSETFROM:-0500
TZOFFSETTO:-0400
RRULE:FREQ=YEARLY;BYDAY=2SU;BYMONTH=3
TZNAME:EDT
END:DAYLIGHT
BEGIN:STANDARD
DTSTART:20261101T010000
TZOFFSETFROM:-0400
TZOFFSETTO:-0500
RRULE:FREQ=YEARLY;BYDAY=1SU;BYMONTH=11
TZNAME:EST
END:STANDARD
END:VTIMEZONE
BEGIN:VEVENT
DTSTAMP:20260423T101814Z
UID:9ebdbbc0-6328-43f4-b081-6bc064a5fa2b
DTSTART;VALUE=DATE:20260420
DTEND;VALUE=DATE:20260425
DESCRIPTION:
LOCATION:
SUMMARY:Blue Ribbon Week
END:VEVENT
BEGIN:VEVENT
DTSTAMP:20260423T101814Z
UID:db48a77a-d570-4251-864b-d9dbaaeac86e
DTSTART:20260423T150000
DTEND:20260423T160000
DESCRIPTION:
LOCATION:
SUMMARY:Pirates on the Run Practice
END:VEVENT
BEGIN:VEVENT
DTSTAMP:20260423T101814Z
UID:7528b135-8914-4451-a971-851ab1907463
DTSTART;VALUE=DATE:20260425
DTEND;VALUE=DATE:20260426
DESCRIPTION:
LOCATION:
SUMMARY:Mad Dash 5K
END:VEVENT
BEGIN:VEVENT
DTSTAMP:20260423T101814Z
UID:64e0d3f8-706b-4f5c-b62f-a2388be2c5eb
DTSTART;VALUE=DATE:20260429
DTEND;VALUE=DATE:20260430
DESCRIPTION:
LOCATION:
SUMMARY:Progress Reports Go Home
END:VEVENT
BEGIN:VEVENT
DTSTAMP:20260423T101814Z
UID:5238a103-407e-4a5b-ae9d-038426dbc928
DTSTART;VALUE=DATE:20260430
DTEND;VALUE=DATE:20260501
DESCRIPTION:
LOCATION:
SUMMARY:3rd Grade Field Trip
END:VEVENT
BEGIN:VEVENT
DTSTAMP:20260423T101814Z
UID:2c1e9df1-043c-4ae8-9890-f1dc22aafd9d
DTSTART;VALUE=DATE:20260501
DTEND;VALUE=DATE:20260502
DESCRIPTION:
LOCATION:
SUMMARY:1:00 Early Dismissal
END:VEVENT
BEGIN:VEVENT
DTSTAMP:20260423T101814Z
UID:7b36541f-77cc-435a-afc7-2f01015d608a
DTSTART:20260506T140000
DTEND:20260506T183000
DESCRIPTION:
LOCATION:
SUMMARY:Blood Drive
END:VEVENT
BEGIN:VEVENT
DTSTAMP:20260423T101814Z
UID:5a83de56-5e74-49b3-9f23-f82eb4c71ad9
DTSTART;VALUE=DATE:20260507
DTEND;VALUE=DATE:20260508
DESCRIPTION:
LOCATION:
SUMMARY:Kindergarten Field Trip
END:VEVENT
BEGIN:VEVENT
DTSTAMP:20260423T101814Z
UID:30283ea4-b4e3-46f5-b099-ed0845ba869c
DTSTART;VALUE=DATE:20260508
DTEND;VALUE=DATE:20260509
DESCRIPTION:
LOCATION:
SUMMARY:1st grade Field Trip
END:VEVENT
BEGIN:VEVENT
DTSTAMP:20260423T101814Z
UID:d7703938-0718-4b5c-ae39-d0e72cccc765
DTSTART;VALUE=DATE:20260508
DTEND;VALUE=DATE:20260509
DESCRIPTION:
LOCATION:
SUMMARY:4th Grade Wax Museum
END:VEVENT
BEGIN:VEVENT
DTSTAMP:20260423T101814Z
UID:72f4e225-6170-4d4b-911a-b284d26aad69
DTSTART;VALUE=DATE:20260511
DTEND;VALUE=DATE:20260516
DESCRIPTION:
LOCATION:
SUMMARY:EOG Testing
END:VEVENT
BEGIN:VEVENT
DTSTAMP:20260423T101814Z
UID:e14996b0-b63d-4449-b3e1-50436ea896ce
DTSTART;VALUE=DATE:20260518
DTEND;VALUE=DATE:20260519
DESCRIPTION:
LOCATION:
SUMMARY:2nd Grade Field Trip
END:VEVENT
BEGIN:VEVENT
DTSTAMP:20260423T101814Z
UID:123de9d0-f794-48ed-954a-c1904c2f3053
DTSTART;VALUE=DATE:20260518
DTEND;VALUE=DATE:20260519
DESCRIPTION:
LOCATION:
SUMMARY:EOG Make Ups
END:VEVENT
BEGIN:VEVENT
DTSTAMP:20260423T101814Z
UID:dcb8ebb5-d9bc-4369-bb53-bc4164b6549a
DTSTART;VALUE=DATE:20260518
DTEND;VALUE=DATE:20260519
DESCRIPTION:
LOCATION:
SUMMARY:Yearbook Release
END:VEVENT
BEGIN:VEVENT
DTSTAMP:20260423T101814Z
UID:59ffa7c1-35f5-419f-9498-4153bf2ff9a7
DTSTART:20260520T090000
DTEND:20260520T103000
DESCRIPTION:
LOCATION:
SUMMARY:5th Grade Awards
END:VEVENT
BEGIN:VEVENT
DTSTAMP:20260423T101814Z
UID:9f7e6a1c-6eb7-448b-8851-7459483db405
DTSTART:20260522T080000
DTEND:20260522T110000
DESCRIPTION:
LOCATION:
SUMMARY:Last Day of School
END:VEVENT
END:VCALENDAR
