BEGIN:VCALENDAR
VERSION:2.0
PRODID:icalendar-ruby
CALSCALE:GREGORIAN
BEGIN:VTIMEZONE
TZID:America/Chicago
BEGIN:DAYLIGHT
DTSTART:20260308T030000
TZOFFSETFROM:-0600
TZOFFSETTO:-0500
RRULE:FREQ=YEARLY;BYDAY=2SU;BYMONTH=3
TZNAME:CDT
END:DAYLIGHT
BEGIN:STANDARD
DTSTART:20261101T010000
TZOFFSETFROM:-0500
TZOFFSETTO:-0600
RRULE:FREQ=YEARLY;BYDAY=1SU;BYMONTH=11
TZNAME:CST
END:STANDARD
END:VTIMEZONE
BEGIN:VEVENT
DTSTAMP:20260424T201311Z
UID:0632708b-4d3c-49a0-9dd5-48bdf7daba22
DTSTART:20260427T140000
DTEND:20260427T210000
DESCRIPTION:
LOCATION:Redfield\, SD 57469\, USA
SUMMARY:JH Track @ Redfield
END:VEVENT
BEGIN:VEVENT
DTSTAMP:20260424T201311Z
UID:b7f9d431-56d9-4b9d-87ca-8fd757ab81b2
DTSTART:20260428T160000
DTEND:20260428T210000
DESCRIPTION:
LOCATION:Clark\, SD 57225\, USA
SUMMARY:Clark Quad
END:VEVENT
BEGIN:VEVENT
DTSTAMP:20260424T201311Z
UID:783b7d8a-20da-4193-9c70-fad3421fbda9
DTSTART:20260430T173000
DTEND:20260430T193000
DESCRIPTION:<p><span>Get ready for a night of reading\, discovery\, and fun
  📚✨</span></p><p style="text-align: center"><span>Join us for <strong
 >Family Reading Quest</strong> at Henry Schools. This come-and-go event is
  designed for all ages\, with interactive stations that bring reading to l
 ife for every learner.</span></p><p><span>✔️ Hands-on literacy activit
 ies<br>✔️ Something for every grade level (PK–12)<br>✔️ Dinner p
 rovided while you explore</span></p><p><span>📅 Thursday\, April 30\, 20
 26<br>⏰ 5:30–7:30 PM<br>📍 Henry School Gym | 111 N Cedar St\, Henry
 \, SD</span></p><p style="text-align: center"><span>Bring the whole family
  and enjoy a night of learning together.</span></p>
LOCATION:Henry School District 111 North Cedar\, Henry\, SD 
SUMMARY:Family Reading Fun Night
END:VEVENT
BEGIN:VEVENT
DTSTAMP:20260424T201311Z
UID:11ea5986-8a5a-4116-bd3c-7c040d833f6c
DTSTART:20260501T080000
DTEND:20260502T090000
DESCRIPTION:
LOCATION:Sioux Falls\, SD\, USA
SUMMARY:Howard Wood Relays
END:VEVENT
BEGIN:VEVENT
DTSTAMP:20260424T201311Z
UID:1c1867d0-e515-4019-a6f0-645bc954ec97
DTSTART:20260504T130000
DTEND:20260504T190000
DESCRIPTION:
LOCATION:De Smet\, SD 57231\, USA
SUMMARY:JH Track @ DeSmet
END:VEVENT
BEGIN:VEVENT
DTSTAMP:20260424T201311Z
UID:9630c171-7dbc-431d-8ce7-79eaa8260807
DTSTART:20260505T133000
DTEND:20260505T210000
DESCRIPTION:
LOCATION:Milbank\, SD 57252\, USA
SUMMARY:Valley Queen Invite
END:VEVENT
BEGIN:VEVENT
DTSTAMP:20260424T201311Z
UID:dcae0629-bd89-4c52-a88a-14068e6bf000
DTSTART:20260507T140000
DTEND:20260507T143000
DESCRIPTION:
LOCATION:Henry School
SUMMARY:Preschool Graduation
END:VEVENT
BEGIN:VEVENT
DTSTAMP:20260424T201311Z
UID:5f157f89-1949-473b-ba6f-d3e0d2b1c956
DTSTART:20260508T130000
DTEND:20260508T210000
DESCRIPTION:
LOCATION:Sisseton\, SD 57262\, USA
SUMMARY:Sisseton Twilight
END:VEVENT
BEGIN:VEVENT
DTSTAMP:20260424T201311Z
UID:8f249ea8-d6f9-40f8-a735-2182d6eb1c60
DTSTART;VALUE=DATE:20260511
DTEND;VALUE=DATE:20260515
DESCRIPTION:
LOCATION:
SUMMARY:5th Grade Black Hills Trip
END:VEVENT
BEGIN:VEVENT
DTSTAMP:20260424T201311Z
UID:387e77cc-71be-4df7-9ada-4c9b5b0708fa
DTSTART:20260512T130000
DTEND:20260512T210000
DESCRIPTION:
LOCATION:Britton\, SD 57430\, USA
SUMMARY:ECC Track Meet
END:VEVENT
BEGIN:VEVENT
DTSTAMP:20260424T201311Z
UID:76f873ba-9e88-4328-b779-a6eb979c54db
DTSTART:20260521T110000
DTEND:20260521T210000
DESCRIPTION:
LOCATION:Clark\, SD 57225\, USA
SUMMARY:Last Chance Meet
END:VEVENT
END:VCALENDAR
