BEGIN:VCALENDAR
VERSION:2.0
PRODID:icalendar-ruby
CALSCALE:GREGORIAN
BEGIN:VTIMEZONE
TZID:America/New_York
BEGIN:DAYLIGHT
DTSTART:20260308T030000
TZOFFSETFROM:-0500
TZOFFSETTO:-0400
RRULE:FREQ=YEARLY;BYDAY=2SU;BYMONTH=3
TZNAME:EDT
END:DAYLIGHT
BEGIN:STANDARD
DTSTART:20261101T010000
TZOFFSETFROM:-0400
TZOFFSETTO:-0500
RRULE:FREQ=YEARLY;BYDAY=1SU;BYMONTH=11
TZNAME:EST
END:STANDARD
END:VTIMEZONE
BEGIN:VEVENT
DTSTAMP:20260419T130046Z
UID:880fbc0f-14b1-4ad3-98f4-0b446cc9b1da
DTSTART:20260420T170000
DTEND:20260420T173000
DESCRIPTION:Electing OCM BOCES Board of Education Members Vote on the OCM B
 OCES Budget
LOCATION:District Office Conference Room
SUMMARY:BOE Board Meeting
END:VEVENT
BEGIN:VEVENT
DTSTAMP:20260419T130046Z
UID:a173760b-8304-41b8-964b-bed644224101
DTSTART;VALUE=DATE:20260422
DTEND;VALUE=DATE:20260423
DESCRIPTION:
LOCATION:Split Rock Elementary School
SUMMARY:SR Grades 3-4 NYS Math Assessment
END:VEVENT
BEGIN:VEVENT
DTSTAMP:20260419T130046Z
UID:46c54561-0f66-4fca-a534-aff485e6c326
DTSTART:20260422T163000
DTEND:20260422T173000
DESCRIPTION:
LOCATION:West Genesee High School Library
SUMMARY:BOE Polices and Bylaws Committee Meeting
END:VEVENT
BEGIN:VEVENT
DTSTAMP:20260419T130046Z
UID:8b941b07-8ba6-47e2-8fb0-c2194ca22b98
DTSTART:20260422T173000
DTEND:20260422T180000
DESCRIPTION:
LOCATION:West Genesee High School Library Classroom
SUMMARY:BOE Claims Audit Sub-Committee
END:VEVENT
BEGIN:VEVENT
DTSTAMP:20260419T130046Z
UID:5302308e-1fa3-4da8-bbbe-772afba8f844
DTSTART:20260422T180000
DTEND:20260422T190000
DESCRIPTION:\n
LOCATION:West Genesee High School Library
SUMMARY:BOE Meeting 
END:VEVENT
BEGIN:VEVENT
DTSTAMP:20260419T130046Z
UID:d23dc775-2620-4984-ae36-c77cd6f46494
DTSTART;VALUE=DATE:20260423
DTEND;VALUE=DATE:20260424
DESCRIPTION:
LOCATION:Split Rock Elementary School
SUMMARY:SR Grades 3-4 NYS Math Assessment
END:VEVENT
BEGIN:VEVENT
DTSTAMP:20260419T130046Z
UID:50cdc9be-156e-4308-b890-5c8472637855
DTSTART;VALUE=DATE:20260424
DTEND;VALUE=DATE:20260425
DESCRIPTION:
LOCATION:Split Rock Elementary School
SUMMARY:SR Spirit Day-Kindergarten 
END:VEVENT
BEGIN:VEVENT
DTSTAMP:20260419T130046Z
UID:c483d963-408d-4263-8d8b-431ea8a62204
DTSTART:20260425T100000
DTEND:20260425T140000
DESCRIPTION:
LOCATION:Split Rock Elementary School
SUMMARY:SR Earth Day Bottle/Can Drive
END:VEVENT
BEGIN:VEVENT
DTSTAMP:20260419T130046Z
UID:7cb0bae6-fc3d-4bf8-873f-b16408a7e482
DTSTART;VALUE=DATE:20260429
DTEND;VALUE=DATE:20260430
DESCRIPTION:
LOCATION:Split Rock Elementary School
SUMMARY:SR Grades 3-4-NYS ELA Assessments
END:VEVENT
BEGIN:VEVENT
DTSTAMP:20260419T130046Z
UID:55d208a1-4479-4eb8-8886-451372eb1a57
DTSTART;VALUE=DATE:20260430
DTEND;VALUE=DATE:20260501
DESCRIPTION:
LOCATION:Split Rock Elementary School
SUMMARY:SR Grades 3-4-NYS ELA Assessments
END:VEVENT
BEGIN:VEVENT
DTSTAMP:20260419T130046Z
UID:fc51a449-8785-4f06-8e28-cfc1b89a68c9
DTSTART;VALUE=DATE:20260501
DTEND;VALUE=DATE:20260502
DESCRIPTION:
LOCATION:Cicero-North Syracuse High School
SUMMARY:All-County Elementary Festival 
END:VEVENT
BEGIN:VEVENT
DTSTAMP:20260419T130046Z
UID:92afc388-75f0-4581-85da-7e2983aac841
DTSTART;VALUE=DATE:20260502
DTEND;VALUE=DATE:20260503
DESCRIPTION:
LOCATION:Cicero-North Syracuse High School
SUMMARY:All-County Elementary Festival 
END:VEVENT
BEGIN:VEVENT
DTSTAMP:20260419T130046Z
UID:fb49b28d-5688-4947-8f60-3f3dee928a2c
DTSTART:20260506T180000
DTEND:20260506T190000
DESCRIPTION:
LOCATION:West Genesee High School Library
SUMMARY:BOE Meeting-Immediately following Budget Public Hearing
END:VEVENT
BEGIN:VEVENT
DTSTAMP:20260419T130046Z
UID:1e18da10-bd97-4c08-bd79-d9fca151ec8d
DTSTART:20260507T180000
DTEND:20260507T190000
DESCRIPTION:
LOCATION:Split Rock Elementary School Library
SUMMARY:SR PTO Meeting
END:VEVENT
BEGIN:VEVENT
DTSTAMP:20260419T130046Z
UID:5e7cedfb-f474-42f8-a31d-195d7ad8c35d
DTSTART:20260512T190000
DTEND:20260512T203000
DESCRIPTION:
LOCATION:West Genesee High School Auditorium
SUMMARY:SR Spring Concert 
END:VEVENT
BEGIN:VEVENT
DTSTAMP:20260419T130046Z
UID:a1671e6e-f142-45ea-8ba0-0c60a3c7b46a
DTSTART:20260513T190000
DTEND:20260513T200000
DESCRIPTION:\n\n
LOCATION:West Genesee High School Library
SUMMARY:Sports Booster Meeting
END:VEVENT
BEGIN:VEVENT
DTSTAMP:20260419T130046Z
UID:dca2b8c3-2448-40be-932c-7505335bbd0d
DTSTART:20260519T060000
DTEND:20260519T210000
DESCRIPTION:
LOCATION:West Genesee High School Auditorium Lobby
SUMMARY:WGCSD Public Budget/BOE Candidate Vote
END:VEVENT
BEGIN:VEVENT
DTSTAMP:20260419T130046Z
UID:f0621b6e-ed62-4da6-8c71-3a38a478bbe0
DTSTART:20260520T180000
DTEND:20260520T190000
DESCRIPTION:
LOCATION:East Hill Elementary School Cafeteria
SUMMARY:BOE Meeting
END:VEVENT
BEGIN:VEVENT
DTSTAMP:20260419T130046Z
UID:16672bfc-63b6-4769-8ec5-47fa148121f1
DTSTART:20260521T180000
DTEND:20260521T190000
DESCRIPTION:
LOCATION:Virtual Meeting
SUMMARY:WG SEPTSA Meeting-Election
END:VEVENT
BEGIN:VEVENT
DTSTAMP:20260419T130046Z
UID:b6de828b-bc7b-4a64-8561-1d05747cc129
DTSTART;VALUE=DATE:20260525
DTEND;VALUE=DATE:20260526
DESCRIPTION:
LOCATION:
SUMMARY:No School-Memorial Day
END:VEVENT
BEGIN:VEVENT
DTSTAMP:20260419T130046Z
UID:27b07c05-d499-4cc8-b908-e389b26942e5
DTSTART:20260525T100000
DTEND:20260525T140000
DESCRIPTION:
LOCATION:Split Rock Elementary School
SUMMARY:SR Earth Day Bottle/Can Drive
END:VEVENT
BEGIN:VEVENT
DTSTAMP:20260419T130046Z
UID:eaa231f6-b4d1-4314-ae84-8601fc67d43b
DTSTART:20260528T080000
DTEND:20260528T123000
DESCRIPTION:
LOCATION:West Genesee High School
SUMMARY:WG Wildcat Olympics
END:VEVENT
BEGIN:VEVENT
DTSTAMP:20260419T130046Z
UID:a80e8162-55a8-4941-9a79-0f26d441071d
DTSTART:20260528T180000
DTEND:20260528T190000
DESCRIPTION:
LOCATION:Onondaga Road Elementary School
SUMMARY:SR Kindergarten Readiness Session
END:VEVENT
BEGIN:VEVENT
DTSTAMP:20260419T130046Z
UID:2c87d5e2-9b9c-4e0d-94fa-8b4ac89269b8
DTSTART:20260602T180000
DTEND:20260602T190000
DESCRIPTION:
LOCATION:Split Rock Elementary School Library
SUMMARY:SR PTO Meeting
END:VEVENT
BEGIN:VEVENT
DTSTAMP:20260419T130046Z
UID:6942341b-cb76-464d-988d-d4d20bc17816
DTSTART:20260603T180000
DTEND:20260603T190000
DESCRIPTION:
LOCATION:West Genesee High School Library
SUMMARY:BOE Meeting
END:VEVENT
BEGIN:VEVENT
DTSTAMP:20260419T130046Z
UID:435c9bbc-81b7-4a4e-b374-0024c12624d5
DTSTART:20260610T160000
DTEND:20260610T170000
DESCRIPTION:
LOCATION:Shove Park\n1 Shove Park Dr\, Camillus\, NY  13031\, United States
SUMMARY:WG SEPTSA End-of-Year Meeting 
END:VEVENT
BEGIN:VEVENT
DTSTAMP:20260419T130046Z
UID:e86e9e64-29dc-4fc3-ac47-620acae7973b
DTSTART:20260610T190000
DTEND:20260610T190000
DESCRIPTION:\n\n
LOCATION:West Genesee High School - Library Classroom
SUMMARY:Sports Booster Club Meeting
END:VEVENT
BEGIN:VEVENT
DTSTAMP:20260419T130046Z
UID:72f4c806-ce57-41c2-97ad-768a89dc7800
DTSTART;VALUE=DATE:20260611
DTEND;VALUE=DATE:20260612
DESCRIPTION:Split Rock Elementary School
LOCATION:Split Rock Elementary School
SUMMARY:SR Field Days 
END:VEVENT
BEGIN:VEVENT
DTSTAMP:20260419T130046Z
UID:a6a67b37-79a0-48c9-9683-324c337799e0
DTSTART;VALUE=DATE:20260612
DTEND;VALUE=DATE:20260613
DESCRIPTION:
LOCATION:Split Rock Elementary School
SUMMARY:SR Field Days (Rain Date) 
END:VEVENT
BEGIN:VEVENT
DTSTAMP:20260419T130046Z
UID:b9577f34-5edc-4dad-8ec8-f2ffdbdb387e
DTSTART:20260617T173000
DTEND:20260617T180000
DESCRIPTION:\n\nClassroom
LOCATION:High School Library Classroom
SUMMARY:BOE Claims Audit Sub-Committee Meeting
END:VEVENT
BEGIN:VEVENT
DTSTAMP:20260419T130046Z
UID:80a5bd11-d55d-4c4b-bd61-cc8b36725c47
DTSTART:20260617T180000
DTEND:20260617T190000
DESCRIPTION:\n
LOCATION:West Genesee High School Library
SUMMARY:BOE Meeting 
END:VEVENT
BEGIN:VEVENT
DTSTAMP:20260419T130046Z
UID:e24d5106-c5aa-4fce-a5c6-493c17cdd317
DTSTART;VALUE=DATE:20260619
DTEND;VALUE=DATE:20260620
DESCRIPTION:
LOCATION:
SUMMARY:No School-Juneteenth Day
END:VEVENT
BEGIN:VEVENT
DTSTAMP:20260419T130046Z
UID:f50318bf-d2b7-4916-92ff-0dd0c2657ca3
DTSTART;VALUE=DATE:20260623
DTEND;VALUE=DATE:20260624
DESCRIPTION:
LOCATION:
SUMMARY:K-8 Early Release Day
END:VEVENT
BEGIN:VEVENT
DTSTAMP:20260419T130046Z
UID:e21fd912-7e70-46ae-98f9-749be8bf38a0
DTSTART;VALUE=DATE:20260624
DTEND;VALUE=DATE:20260625
DESCRIPTION:
LOCATION:
SUMMARY:K-8 Early Release Day
END:VEVENT
BEGIN:VEVENT
DTSTAMP:20260419T130046Z
UID:ef9a8eed-93c6-4457-9a55-086025cdd82d
DTSTART:20260624T093000
DTEND:20260624T103000
DESCRIPTION:
LOCATION:Split Rock Elementary School
SUMMARY:SR 4th Grade Recognition Ceremony 
END:VEVENT
BEGIN:VEVENT
DTSTAMP:20260419T130046Z
UID:64cdff8d-ba58-445a-a831-e8b949ed429e
DTSTART;VALUE=DATE:20260625
DTEND;VALUE=DATE:20260626
DESCRIPTION:
LOCATION:
SUMMARY:K-8 Early Release Day
END:VEVENT
BEGIN:VEVENT
DTSTAMP:20260419T130046Z
UID:f5c4dc98-732c-4db0-90cb-f069fe3e8e8c
DTSTART;VALUE=DATE:20260625
DTEND;VALUE=DATE:20260626
DESCRIPTION:
LOCATION:
SUMMARY:Last Day of School for Elementary Students 
END:VEVENT
BEGIN:VEVENT
DTSTAMP:20260419T130046Z
UID:879ae040-24db-4f6b-b8d9-cb48f84cf33a
DTSTART;VALUE=DATE:20260626
DTEND;VALUE=DATE:20260627
DESCRIPTION:
LOCATION:
SUMMARY:Last Day of School for Staff
END:VEVENT
BEGIN:VEVENT
DTSTAMP:20260419T130046Z
UID:be111f42-4873-46dc-be5e-f0c14060d4ea
DTSTART;VALUE=DATE:20260626
DTEND;VALUE=DATE:20260627
DESCRIPTION:
LOCATION:
SUMMARY:Regents Rating Day
END:VEVENT
BEGIN:VEVENT
DTSTAMP:20260419T130046Z
UID:8bdb6070-325f-434c-9e77-b7cff4cfb126
DTSTART;VALUE=DATE:20260901
DTEND;VALUE=DATE:20260902
DESCRIPTION:
LOCATION:
SUMMARY:Superintendent's Conference Day
END:VEVENT
BEGIN:VEVENT
DTSTAMP:20260419T130046Z
UID:0866b485-8a94-43ab-ada1-db488adb72d7
DTSTART;VALUE=DATE:20260902
DTEND;VALUE=DATE:20260903
DESCRIPTION:
LOCATION:
SUMMARY:Superintendent's Conference Day
END:VEVENT
BEGIN:VEVENT
DTSTAMP:20260419T130046Z
UID:20ad870a-63bf-4143-80f3-6add099b4a53
DTSTART;VALUE=DATE:20260903
DTEND;VALUE=DATE:20260904
DESCRIPTION:
LOCATION:
SUMMARY:Superintendent's Conference Day
END:VEVENT
BEGIN:VEVENT
DTSTAMP:20260419T130046Z
UID:004487d0-958c-43cd-a30b-ce9bc0cae9dc
DTSTART;VALUE=DATE:20260908
DTEND;VALUE=DATE:20260909
DESCRIPTION:
LOCATION:
SUMMARY:School Begins
END:VEVENT
BEGIN:VEVENT
DTSTAMP:20260419T130046Z
UID:94246547-5895-4a53-9a63-8d2ef58cf9b1
DTSTART;VALUE=DATE:20260921
DTEND;VALUE=DATE:20260922
DESCRIPTION:
LOCATION:
SUMMARY:Yom Kippur/UPK-12 Early Release Day
END:VEVENT
BEGIN:VEVENT
DTSTAMP:20260419T130046Z
UID:de40cefb-79bf-43df-8a7f-cbcccdaf9486
DTSTART;VALUE=DATE:20261012
DTEND;VALUE=DATE:20261013
DESCRIPTION:
LOCATION:
SUMMARY:No School-Indigenous People’s/Columbus Day
END:VEVENT
BEGIN:VEVENT
DTSTAMP:20260419T130046Z
UID:e2e93125-b566-4cb2-b77a-6e4d7f49004a
DTSTART;VALUE=DATE:20261030
DTEND;VALUE=DATE:20261031
DESCRIPTION:
LOCATION:
SUMMARY:UPK-12 Early Release Day
END:VEVENT
BEGIN:VEVENT
DTSTAMP:20260419T130046Z
UID:0b73a544-3dbf-4eb2-a07b-aaccde166427
DTSTART;VALUE=DATE:20261111
DTEND;VALUE=DATE:20261112
DESCRIPTION:
LOCATION:
SUMMARY:No School-Veterans Day
END:VEVENT
BEGIN:VEVENT
DTSTAMP:20260419T130046Z
UID:760662b5-a969-4f6b-96a4-5b0097091ac3
DTSTART:20261117T160000
DTEND:20261117T180000
DESCRIPTION:
LOCATION:West Genesee High School LGI
SUMMARY:WGCSD Strategic Planning Meeting
END:VEVENT
BEGIN:VEVENT
DTSTAMP:20260419T130046Z
UID:546b70c3-be88-4d69-b802-4c738ddc843f
DTSTART;VALUE=DATE:20261120
DTEND;VALUE=DATE:20261121
DESCRIPTION:
LOCATION:
SUMMARY:UPK-12 Early Release Day
END:VEVENT
BEGIN:VEVENT
DTSTAMP:20260419T130046Z
UID:8ad693f0-935c-4969-b700-ad997e03bdab
DTSTART;VALUE=DATE:20261120
DTEND;VALUE=DATE:20261121
DESCRIPTION:\n\n
LOCATION:
SUMMARY:UPK-6 Parent-Teacher Conferences Early Release Day
END:VEVENT
BEGIN:VEVENT
DTSTAMP:20260419T130046Z
UID:9796c78a-3a93-47ef-ac7e-88085cc5ef93
DTSTART;VALUE=DATE:20261123
DTEND;VALUE=DATE:20261124
DESCRIPTION:\n\n
LOCATION:
SUMMARY:UPK-6 Parent-Teacher Conferences Early Release Day
END:VEVENT
BEGIN:VEVENT
DTSTAMP:20260419T130046Z
UID:a5bbd48c-c04a-4746-aa78-945d072fe725
DTSTART;VALUE=DATE:20261123
DTEND;VALUE=DATE:20261124
DESCRIPTION:\n\n
LOCATION:
SUMMARY:UPK-6 Parent-Teacher Conferences Early Release Day
END:VEVENT
BEGIN:VEVENT
DTSTAMP:20260419T130046Z
UID:25f46dd9-8794-4cb3-afd6-397754b98de1
DTSTART;VALUE=DATE:20261124
DTEND;VALUE=DATE:20261125
DESCRIPTION:\n\n
LOCATION:
SUMMARY:UPK-6 Parent-Teacher Conferences Early Release Day
END:VEVENT
BEGIN:VEVENT
DTSTAMP:20260419T130046Z
UID:0e37d6bf-9ea8-4f38-999f-0318526dc17e
DTSTART;VALUE=DATE:20261125
DTEND;VALUE=DATE:20261126
DESCRIPTION:\n\n
LOCATION:
SUMMARY:Thanksgiving Recess - No School
END:VEVENT
BEGIN:VEVENT
DTSTAMP:20260419T130046Z
UID:a53e570b-827d-4633-8787-8f38458d6ab5
DTSTART;VALUE=DATE:20261125
DTEND;VALUE=DATE:20261126
DESCRIPTION:\n\n
LOCATION:
SUMMARY:Thanksgiving Recess - No School
END:VEVENT
BEGIN:VEVENT
DTSTAMP:20260419T130046Z
UID:6141bba0-55d3-4894-9f8c-09debe525569
DTSTART;VALUE=DATE:20261126
DTEND;VALUE=DATE:20261127
DESCRIPTION:\n\n
LOCATION:
SUMMARY:Thanksgiving Recess - No School
END:VEVENT
BEGIN:VEVENT
DTSTAMP:20260419T130046Z
UID:202dd1b8-77eb-4c87-afe3-8164b6b053fd
DTSTART;VALUE=DATE:20261127
DTEND;VALUE=DATE:20261128
DESCRIPTION:\n\n
LOCATION:
SUMMARY:Thanksgiving Recess - No School
END:VEVENT
BEGIN:VEVENT
DTSTAMP:20260419T130046Z
UID:663b92ab-0745-4842-9188-7185413e0f6e
DTSTART;VALUE=DATE:20261223
DTEND;VALUE=DATE:20261224
DESCRIPTION:\n\n
LOCATION:
SUMMARY:Holiday Recess - No School
END:VEVENT
BEGIN:VEVENT
DTSTAMP:20260419T130046Z
UID:ac668471-5f76-4a0b-af11-c820f1f8ba52
DTSTART;VALUE=DATE:20261224
DTEND;VALUE=DATE:20261225
DESCRIPTION:\n\n
LOCATION:
SUMMARY:Holiday Recess - No School
END:VEVENT
BEGIN:VEVENT
DTSTAMP:20260419T130046Z
UID:045405ba-1f22-442c-8292-5fce63e1fce6
DTSTART;VALUE=DATE:20261225
DTEND;VALUE=DATE:20261226
DESCRIPTION:\n\n
LOCATION:
SUMMARY:Holiday Recess - No School
END:VEVENT
BEGIN:VEVENT
DTSTAMP:20260419T130046Z
UID:27ca3f96-b03a-477b-944e-d5dffa95700f
DTSTART;VALUE=DATE:20261228
DTEND;VALUE=DATE:20261229
DESCRIPTION:\n\n
LOCATION:
SUMMARY:Holiday Recess - No School
END:VEVENT
BEGIN:VEVENT
DTSTAMP:20260419T130046Z
UID:4532dffc-6c8c-4306-9fb7-d0c3d2311312
DTSTART;VALUE=DATE:20261229
DTEND;VALUE=DATE:20261230
DESCRIPTION:\n\n
LOCATION:
SUMMARY:Holiday Recess - No School
END:VEVENT
BEGIN:VEVENT
DTSTAMP:20260419T130046Z
UID:46619cfc-860d-471b-9a5f-817750f8f15f
DTSTART;VALUE=DATE:20261230
DTEND;VALUE=DATE:20261231
DESCRIPTION:\n\n
LOCATION:
SUMMARY:Holiday Recess - No School
END:VEVENT
BEGIN:VEVENT
DTSTAMP:20260419T130046Z
UID:9cb4710c-21a4-40c5-b2bd-30f94575190b
DTSTART;VALUE=DATE:20261231
DTEND;VALUE=DATE:20270101
DESCRIPTION:\n\n
LOCATION:
SUMMARY:Holiday Recess - No School
END:VEVENT
BEGIN:VEVENT
DTSTAMP:20260419T130046Z
UID:92d9b469-26dd-4572-bbfe-887a25be2b34
DTSTART;VALUE=DATE:20270101
DTEND;VALUE=DATE:20270102
DESCRIPTION:\n\n
LOCATION:
SUMMARY:Holiday Recess - No School
END:VEVENT
BEGIN:VEVENT
DTSTAMP:20260419T130046Z
UID:02f70f18-6da8-49c6-a749-a9e47cd1a917
DTSTART;VALUE=DATE:20270104
DTEND;VALUE=DATE:20270105
DESCRIPTION:
LOCATION:
SUMMARY:Students/Teachers Return to School
END:VEVENT
BEGIN:VEVENT
DTSTAMP:20260419T130046Z
UID:fc16bb48-ffce-4ec8-bde2-b5bad454877e
DTSTART;VALUE=DATE:20270118
DTEND;VALUE=DATE:20270119
DESCRIPTION:
LOCATION:
SUMMARY:No School-Martin Luther King Jr. Day
END:VEVENT
BEGIN:VEVENT
DTSTAMP:20260419T130046Z
UID:2392992d-a7af-4404-adb4-0271bdf8f7f6
DTSTART;VALUE=DATE:20270129
DTEND;VALUE=DATE:20270130
DESCRIPTION:
LOCATION:
SUMMARY:UPK-12 Early Release Day
END:VEVENT
BEGIN:VEVENT
DTSTAMP:20260419T130046Z
UID:bada45a4-d455-4869-8e8f-7deec9e02d32
DTSTART:20270208T160000
DTEND:20270208T190000
DESCRIPTION:
LOCATION:West Genesee High School LGI
SUMMARY:WGCSD Strategic Planning Meeting
END:VEVENT
BEGIN:VEVENT
DTSTAMP:20260419T130046Z
UID:82c501d0-fd65-4a4d-a9f4-b3a6ff5efbf2
DTSTART:20270209T080000
DTEND:20270209T150000
DESCRIPTION:
LOCATION:West Genesee High School Library
SUMMARY:WGCSD Strategic Planning Meeting
END:VEVENT
BEGIN:VEVENT
DTSTAMP:20260419T130046Z
UID:c66b7369-111e-4024-a47e-89679ebc51fb
DTSTART;VALUE=DATE:20270215
DTEND;VALUE=DATE:20270216
DESCRIPTION:
LOCATION:
SUMMARY:No School-Winter Recess
END:VEVENT
BEGIN:VEVENT
DTSTAMP:20260419T130046Z
UID:5a70273a-ee77-45b3-819c-0fe47c2ae657
DTSTART;VALUE=DATE:20270216
DTEND;VALUE=DATE:20270217
DESCRIPTION:
LOCATION:
SUMMARY:No School-Winter Recess
END:VEVENT
BEGIN:VEVENT
DTSTAMP:20260419T130046Z
UID:2646569b-d1ac-49cc-bc81-194084b7f8cc
DTSTART;VALUE=DATE:20270217
DTEND;VALUE=DATE:20270218
DESCRIPTION:
LOCATION:
SUMMARY:No School-Winter Recess
END:VEVENT
BEGIN:VEVENT
DTSTAMP:20260419T130046Z
UID:cfffb846-111d-40b0-8dbb-fd80622a5c03
DTSTART;VALUE=DATE:20270218
DTEND;VALUE=DATE:20270219
DESCRIPTION:
LOCATION:
SUMMARY:No School-Winter Recess
END:VEVENT
BEGIN:VEVENT
DTSTAMP:20260419T130046Z
UID:99611c43-3e28-4671-9818-492874012dc9
DTSTART;VALUE=DATE:20270219
DTEND;VALUE=DATE:20270220
DESCRIPTION:
LOCATION:
SUMMARY:No School-Winter Recess
END:VEVENT
BEGIN:VEVENT
DTSTAMP:20260419T130046Z
UID:acf6ef9a-9ff6-4589-a972-3595ae05c932
DTSTART;VALUE=DATE:20270309
DTEND;VALUE=DATE:20270310
DESCRIPTION:
LOCATION:
SUMMARY:Eid al-Fitr/Superintendent's Conference Day-No School for Students 
END:VEVENT
BEGIN:VEVENT
DTSTAMP:20260419T130046Z
UID:7990a9bc-e6a0-4c15-bc39-34086d40e101
DTSTART;VALUE=DATE:20270326
DTEND;VALUE=DATE:20270327
DESCRIPTION:
LOCATION:
SUMMARY:No School-Good Friday
END:VEVENT
BEGIN:VEVENT
DTSTAMP:20260419T130046Z
UID:e860bbdf-37df-4868-b134-189306f0e18c
DTSTART;VALUE=DATE:20270412
DTEND;VALUE=DATE:20270413
DESCRIPTION:
LOCATION:
SUMMARY:No School-Spring Recess
END:VEVENT
BEGIN:VEVENT
DTSTAMP:20260419T130046Z
UID:a4d358a6-b98d-436c-b5c9-ac8242a87d27
DTSTART;VALUE=DATE:20270413
DTEND;VALUE=DATE:20270414
DESCRIPTION:
LOCATION:
SUMMARY:No School-Spring Recess
END:VEVENT
BEGIN:VEVENT
DTSTAMP:20260419T130046Z
UID:c3d2183a-78d8-4951-9013-09bd85bb57a6
DTSTART;VALUE=DATE:20270414
DTEND;VALUE=DATE:20270415
DESCRIPTION:
LOCATION:
SUMMARY:No School-Spring Recess
END:VEVENT
BEGIN:VEVENT
DTSTAMP:20260419T130046Z
UID:eeea9726-4e28-4da8-8a3c-faf89b9b455b
DTSTART;VALUE=DATE:20270415
DTEND;VALUE=DATE:20270416
DESCRIPTION:
LOCATION:
SUMMARY:No School-Spring Recess
END:VEVENT
BEGIN:VEVENT
DTSTAMP:20260419T130046Z
UID:ae658e21-dd6c-4e60-b0b5-ff5ec11489b3
DTSTART;VALUE=DATE:20270416
DTEND;VALUE=DATE:20270417
DESCRIPTION:
LOCATION:
SUMMARY:No School-Spring Recess
END:VEVENT
BEGIN:VEVENT
DTSTAMP:20260419T130046Z
UID:69b30aae-d93d-44a8-ba5a-5c30fb300f30
DTSTART:20270420T160000
DTEND:20270420T180000
DESCRIPTION:
LOCATION:West Genesee High School LGI
SUMMARY:WGCSD Strategic Planning Meeting
END:VEVENT
BEGIN:VEVENT
DTSTAMP:20260419T130046Z
UID:9ea74745-ad7b-4f77-82db-f3bb0883c256
DTSTART;VALUE=DATE:20270531
DTEND;VALUE=DATE:20270601
DESCRIPTION:
LOCATION:
SUMMARY:No School-Memorial Day
END:VEVENT
BEGIN:VEVENT
DTSTAMP:20260419T130046Z
UID:6c5fd049-2724-4896-9ef8-74dd32097aff
DTSTART:20270601T160000
DTEND:20270601T180000
DESCRIPTION:
LOCATION:West Genesee High School Library
SUMMARY:WGCSD Strategic Planning Meeting
END:VEVENT
BEGIN:VEVENT
DTSTAMP:20260419T130046Z
UID:497e6ae9-5652-4fd8-8b9b-308285781bb1
DTSTART;VALUE=DATE:20270623
DTEND;VALUE=DATE:20270624
DESCRIPTION:
LOCATION:
SUMMARY:UPK-8 Early Release Day
END:VEVENT
BEGIN:VEVENT
DTSTAMP:20260419T130046Z
UID:55e54349-18b7-4269-8836-79d8989a33ef
DTSTART;VALUE=DATE:20270624
DTEND;VALUE=DATE:20270625
DESCRIPTION:
LOCATION:
SUMMARY:Last Day of School for UPK-8 Students
END:VEVENT
BEGIN:VEVENT
DTSTAMP:20260419T130046Z
UID:e2c9cf0d-6753-4723-b104-47935564c9bf
DTSTART;VALUE=DATE:20270624
DTEND;VALUE=DATE:20270625
DESCRIPTION:
LOCATION:
SUMMARY:UPK-8 Early Release Day
END:VEVENT
BEGIN:VEVENT
DTSTAMP:20260419T130046Z
UID:b920490b-fcef-4982-a378-d55f99ae9018
DTSTART;VALUE=DATE:20270625
DTEND;VALUE=DATE:20270626
DESCRIPTION:
LOCATION:
SUMMARY:Last Day of School for Staff
END:VEVENT
END:VCALENDAR
