BEGIN:VCALENDAR
VERSION:2.0
PRODID:icalendar-ruby
CALSCALE:GREGORIAN
BEGIN:VTIMEZONE
TZID:America/Chicago
BEGIN:DAYLIGHT
DTSTART:20260308T030000
TZOFFSETFROM:-0600
TZOFFSETTO:-0500
RRULE:FREQ=YEARLY;BYDAY=2SU;BYMONTH=3
TZNAME:CDT
END:DAYLIGHT
BEGIN:STANDARD
DTSTART:20261101T010000
TZOFFSETFROM:-0500
TZOFFSETTO:-0600
RRULE:FREQ=YEARLY;BYDAY=1SU;BYMONTH=11
TZNAME:CST
END:STANDARD
END:VTIMEZONE
BEGIN:VEVENT
DTSTAMP:20260422T170822Z
UID:4fff97ac-ead6-4ac5-9c43-12e4116abe37
DTSTART;VALUE=DATE:20260422
DTEND;VALUE=DATE:20260423
DESCRIPTION:
LOCATION:Magee Elementary\, Magee Elementary-1-Calendar (1)
SUMMARY:Administrative Assistants Day
END:VEVENT
BEGIN:VEVENT
DTSTAMP:20260422T170822Z
UID:ef57c68a-6b7c-485d-ae87-55b90d498f50
DTSTART;VALUE=DATE:20260422
DTEND;VALUE=DATE:20260423
DESCRIPTION:
LOCATION:Magee Elementary
SUMMARY:National Library Week
END:VEVENT
BEGIN:VEVENT
DTSTAMP:20260422T170822Z
UID:dde9c759-33de-4886-b9ef-4ef8910d999d
DTSTART;VALUE=DATE:20260423
DTEND;VALUE=DATE:20260424
DESCRIPTION:
LOCATION:Magee Elementary\, Magee Elementary-1-Calendar (1)
SUMMARY:National Library Week
END:VEVENT
BEGIN:VEVENT
DTSTAMP:20260422T170822Z
UID:2e2d02e4-5fe7-40db-945f-604328d0ffa1
DTSTART;VALUE=DATE:20260424
DTEND;VALUE=DATE:20260425
DESCRIPTION:
LOCATION:Magee Elementary\, Magee Elementary-1-Calendar (1)
SUMMARY:National Library Week
END:VEVENT
BEGIN:VEVENT
DTSTAMP:20260422T170822Z
UID:351883d4-e777-4d70-8d41-332627d152b3
DTSTART;VALUE=DATE:20260425
DTEND;VALUE=DATE:20260426
DESCRIPTION:
LOCATION:Magee Elementary\, Magee Elementary-1-Calendar (1)
SUMMARY:National Library Week
END:VEVENT
BEGIN:VEVENT
DTSTAMP:20260422T170822Z
UID:a8326b66-e9e3-4506-8b19-32b5c7554618
DTSTART:20260427T160000
DTEND:20260427T170000
DESCRIPTION:
LOCATION:
SUMMARY:S'more Fun with 4K
END:VEVENT
BEGIN:VEVENT
DTSTAMP:20260422T170822Z
UID:551f32a8-4144-4673-af41-9e85d3d8e80c
DTSTART:20260428T160000
DTEND:20260428T173000
DESCRIPTION:
LOCATION:Magee Elementary\, Magee Elementary-1-Calendar (1)
SUMMARY:Magee Staff Meeting
END:VEVENT
BEGIN:VEVENT
DTSTAMP:20260422T170822Z
UID:bd1c61d8-b3c1-442b-8c73-d97f060b2bd8
DTSTART:20260428T190000
DTEND:20260428T210000
DESCRIPTION:<p>This meeting will be held at:<br><br>Kettle Moraine High Sch
 ool - Library/Media Center<br>349 North Oak Crest Drive<br>Wales\, WI 5318
 3</p>
LOCATION:349 N Oak Crest Dr\, Wales\, WI 53183\, USA\, District Wide-1-Dist
 rict Calendar (5000)
SUMMARY:School Board Meeting
END:VEVENT
BEGIN:VEVENT
DTSTAMP:20260422T170822Z
UID:837ba10f-ac55-48e0-8955-c40b83024791
DTSTART;VALUE=DATE:20260429
DTEND;VALUE=DATE:20260430
DESCRIPTION:
LOCATION:Magee Elementary-1-Calendar (1)
SUMMARY:4th Grade to Poynette
END:VEVENT
BEGIN:VEVENT
DTSTAMP:20260422T170822Z
UID:fd4d7af4-f4f3-44c4-a20e-4f7d715fd0d3
DTSTART;VALUE=DATE:20260430
DTEND;VALUE=DATE:20260501
DESCRIPTION:
LOCATION:Magee Elementary-1-Calendar (1)
SUMMARY:4th Grade to Poynette
END:VEVENT
BEGIN:VEVENT
DTSTAMP:20260422T170822Z
UID:a58bc7a5-f68f-483a-923e-cbc56d1900c6
DTSTART:20260430T151500
DTEND:20260430T161500
DESCRIPTION:
LOCATION:
SUMMARY:TCT: Outdoor Learning Collaboration
END:VEVENT
BEGIN:VEVENT
DTSTAMP:20260422T170822Z
UID:565b3dc7-e07b-4ae2-8c48-94d73ef035f3
DTSTART;VALUE=DATE:20260501
DTEND;VALUE=DATE:20260502
DESCRIPTION:
LOCATION:
SUMMARY:4th Grade to Poynette
END:VEVENT
BEGIN:VEVENT
DTSTAMP:20260422T170822Z
UID:82673522-8f01-446a-88ba-eb04b6b39722
DTSTART;VALUE=DATE:20260501
DTEND;VALUE=DATE:20260502
DESCRIPTION:
LOCATION:Magee Elementary\, Magee Elementary-1-Calendar (1)
SUMMARY:School Lunchroom Staff Appreciation Day
END:VEVENT
BEGIN:VEVENT
DTSTAMP:20260422T170822Z
UID:4248faac-0307-41dc-be28-5d3b2647c0a2
DTSTART;VALUE=DATE:20260504
DTEND;VALUE=DATE:20260505
DESCRIPTION:
LOCATION:Magee Elementary\, Magee Elementary-1-Calendar (1)
SUMMARY:Teacher Appreciation Week
END:VEVENT
BEGIN:VEVENT
DTSTAMP:20260422T170822Z
UID:19564800-0b80-4364-8576-974e6b969f93
DTSTART;VALUE=DATE:20260505
DTEND;VALUE=DATE:20260506
DESCRIPTION:
LOCATION:Magee Elementary\, Magee Elementary-1-Calendar (1)
SUMMARY:Teacher Appreciation Week
END:VEVENT
BEGIN:VEVENT
DTSTAMP:20260422T170822Z
UID:54730ac7-544d-4cbc-b336-f324974015ea
DTSTART:20260505T085000
DTEND:20260505T090000
DESCRIPTION:
LOCATION:
SUMMARY:All School Assembly
END:VEVENT
BEGIN:VEVENT
DTSTAMP:20260422T170822Z
UID:1818ef42-283b-494a-8878-a365b5e7c255
DTSTART:20260505T160000
DTEND:20260505T173000
DESCRIPTION:
LOCATION:Magee Elementary
SUMMARY:Magee School Leadership Team Meeting
END:VEVENT
BEGIN:VEVENT
DTSTAMP:20260422T170822Z
UID:cdb56605-368d-4548-9417-4b16f3290def
DTSTART;VALUE=DATE:20260506
DTEND;VALUE=DATE:20260507
DESCRIPTION:
LOCATION:Magee Elementary
SUMMARY:School Nurses Day
END:VEVENT
BEGIN:VEVENT
DTSTAMP:20260422T170822Z
UID:68cc4ec1-77b0-4d7a-a687-9aabd8f8b961
DTSTART;VALUE=DATE:20260506
DTEND;VALUE=DATE:20260507
DESCRIPTION:
LOCATION:Magee Elementary\, Magee Elementary-1-Calendar (1)
SUMMARY:Teacher Appreciation Week
END:VEVENT
BEGIN:VEVENT
DTSTAMP:20260422T170822Z
UID:e87ae2d4-29d2-473c-855e-b2470416793a
DTSTART;VALUE=DATE:20260507
DTEND;VALUE=DATE:20260508
DESCRIPTION:
LOCATION:Magee Elementary\, Magee Elementary-1-Calendar (1)
SUMMARY:Teacher Appreciation Week
END:VEVENT
BEGIN:VEVENT
DTSTAMP:20260422T170822Z
UID:90cd3389-01ca-440b-a4b6-9c736f6ded5e
DTSTART:20260507T180000
DTEND:20260507T190000
DESCRIPTION:
LOCATION:Kettle Moraine High School Auditorium
SUMMARY:K-2 Concert: "The Day the Crayons Quit"
END:VEVENT
BEGIN:VEVENT
DTSTAMP:20260422T170822Z
UID:86664223-f533-49ae-b8f6-b52408f9c4d9
DTSTART;VALUE=DATE:20260508
DTEND;VALUE=DATE:20260509
DESCRIPTION:
LOCATION:Magee Elementary\, Magee Elementary-1-Calendar (1)
SUMMARY:Teacher Appreciation Week
END:VEVENT
BEGIN:VEVENT
DTSTAMP:20260422T170822Z
UID:f9250e74-3b6d-4dcb-839c-acf8d72095d8
DTSTART:20260512T160000
DTEND:20260512T173000
DESCRIPTION:
LOCATION:Magee Elementary\, Magee Elementary-1-Calendar (1)
SUMMARY:Citizen Magee Team Meeting
END:VEVENT
BEGIN:VEVENT
DTSTAMP:20260422T170822Z
UID:d512f539-e2aa-4919-bf8f-55e50b1a93ad
DTSTART:20260512T190000
DTEND:20260512T210000
DESCRIPTION:<p>This meeting will be held at:<br><br>Kettle Moraine High Sch
 ool - Library/Media Center<br>349 North Oak Crest Drive<br>Wales\, WI 5318
 3</p>
LOCATION:349 N Oak Crest Dr\, Wales\, WI 53183\, USA\, District Wide-1-Dist
 rict Calendar (5000)
SUMMARY:School Board Meeting
END:VEVENT
BEGIN:VEVENT
DTSTAMP:20260422T170822Z
UID:aab40883-b125-40f1-96a3-3143f9e54351
DTSTART;VALUE=DATE:20260515
DTEND;VALUE=DATE:20260516
DESCRIPTION:
LOCATION:Magee Elementary\, Magee Elementary-1-Calendar (1)
SUMMARY:Railway Buddies & Popcorn Friday
END:VEVENT
BEGIN:VEVENT
DTSTAMP:20260422T170822Z
UID:b97d5801-d1ae-4957-8448-57d2d2bee4d1
DTSTART:20260515T090000
DTEND:20260515T100000
DESCRIPTION:The Magee PTO meetings in the Depot (cafeteria)
LOCATION:Magee Elementary
SUMMARY:Magee PTO May Meeting
END:VEVENT
BEGIN:VEVENT
DTSTAMP:20260422T170822Z
UID:7c981f6e-bf85-4a69-856f-83c583dfa681
DTSTART;VALUE=DATE:20260518
DTEND;VALUE=DATE:20260519
DESCRIPTION:
LOCATION:Magee Elementary\, Magee Elementary-1-Calendar (1)
SUMMARY:School Speech and Language Pathologist Day
END:VEVENT
BEGIN:VEVENT
DTSTAMP:20260422T170822Z
UID:e7e09faf-55ef-41d3-95fc-23ed7c1e3d79
DTSTART:20260521T153000
DTEND:20260521T163000
DESCRIPTION:
LOCATION:Magee Elementary-1-Calendar (1)
SUMMARY:Magee Staff Meeting
END:VEVENT
BEGIN:VEVENT
DTSTAMP:20260422T170822Z
UID:aa9586e0-5893-4fa0-a453-e4fefadc37ee
DTSTART:20260522T120000
DTEND:20260522T153000
DESCRIPTION:
LOCATION:Magee Elementary\, Magee Elementary-1-Calendar (1)
SUMMARY:Magee Field Day
END:VEVENT
BEGIN:VEVENT
DTSTAMP:20260422T170822Z
UID:fc679747-64f2-422d-bffb-9ae7ac663b91
DTSTART;VALUE=DATE:20260525
DTEND;VALUE=DATE:20260526
DESCRIPTION:
LOCATION:District Wide-1-District Calendar (5000)
SUMMARY:NO SCHOOL ALL STUDENTS - Memorial Day
END:VEVENT
BEGIN:VEVENT
DTSTAMP:20260422T170822Z
UID:043135f8-0895-46ff-825b-c2ae1b01281d
DTSTART;VALUE=DATE:20260525
DTEND;VALUE=DATE:20260526
DESCRIPTION:
LOCATION:Magee Elementary-1-Calendar (1)
SUMMARY:Memorial Day - No School
END:VEVENT
BEGIN:VEVENT
DTSTAMP:20260422T170822Z
UID:2796a9ad-317c-444a-9f30-bc7867f555ba
DTSTART:20260526T120000
DTEND:20260526T153000
DESCRIPTION:
LOCATION:Magee Elementary-1-Calendar (1)
SUMMARY:Magee Field Day (Rain Date)
END:VEVENT
BEGIN:VEVENT
DTSTAMP:20260422T170822Z
UID:b3d92de9-e5d7-4bb2-ba37-3b11f436b6c4
DTSTART:20260527T133000
DTEND:20260527T150000
DESCRIPTION:
LOCATION:Magee Elementary\, Magee Elementary-1-Calendar (1)
SUMMARY:5th Grade Promotional Ceremony
END:VEVENT
BEGIN:VEVENT
DTSTAMP:20260422T170822Z
UID:b63a888b-9bcc-4954-a58f-95df06f37ee8
DTSTART:20260528T083500
DTEND:20260528T154000
DESCRIPTION:
LOCATION:Magee Elementary\, Magee Elementary-1-Calendar (1)
SUMMARY:Last Day of School 4K-5th (Full Day)
END:VEVENT
BEGIN:VEVENT
DTSTAMP:20260422T170822Z
UID:10bdf3bc-40a8-4a93-9add-40acd7c423bd
DTSTART:20260528T170000
DTEND:20260528T190000
DESCRIPTION:This is to celebrate the over 100 years of service that Magee E
 lementary School provided to the families and student in the Kettle Morain
 e School District. Magee will be closing it's doors for good after this sc
 hool year. Almuni\, current students\, current families\, current staff\, 
 and former staff join us as we celebrate the legacy of Magee!
LOCATION:Magee Elementary
SUMMARY:Magee End of Year and Legacy Celebration
END:VEVENT
BEGIN:VEVENT
DTSTAMP:20260422T170822Z
UID:d3b47306-33dc-4b0e-8d92-fb1dc933c7bd
DTSTART:20260528T170000
DTEND:20260528T190000
DESCRIPTION:This is to celebrate the over 100 years of service that Magee E
 lementary School provided to the families and student in the Kettle Morain
 e School District. Magee will be closing it&#39\;s doors for good after th
 is school year. Almuni\, current students\, current families\, current sta
 ff\, and former staff join us as we celebrate the legacy of Magee!
LOCATION:Magee Elementary\, Magee Elementary-1-Calendar (1)
SUMMARY:Magee End of Year and Legacy Celebration
END:VEVENT
BEGIN:VEVENT
DTSTAMP:20260422T170822Z
UID:bcc98223-4fec-41fd-a61a-9bad021b347a
DTSTART:20260529T090000
DTEND:20260529T140000
DESCRIPTION:
LOCATION:Magee Elementary\, Magee Elementary-1-Calendar (1)
SUMMARY:No School - Staff Work Day
END:VEVENT
BEGIN:VEVENT
DTSTAMP:20260422T170822Z
UID:9c55754e-c19a-4509-b03d-314f9d084317
DTSTART:20260529T170000
DTEND:20260529T190000
DESCRIPTION:This is to celebrate the over 100 years of service that Magee E
 lementary School provided to the families and student in the Kettle Morain
 e School District. Magee will be closing it's doors for good after this sc
 hool year. Almuni\, current students\, current families\, current staff\, 
 and former staff join us as we celebrate the legacy of Magee!
LOCATION:Magee Elementary\, Magee Elementary-1-Calendar (1)
SUMMARY:Magee End of Year and Legacy Celebration (Rain Date)
END:VEVENT
BEGIN:VEVENT
DTSTAMP:20260422T170822Z
UID:9ed4c974-b65c-4895-b3a7-afd56375bc15
DTSTART:20260530T193000
DTEND:20260530T210000
DESCRIPTION:
LOCATION:District Wide-1-District Calendar (5000)\, Magee Elementary-1-Cale
 ndar (1)
SUMMARY:Graduation Ceremony
END:VEVENT
BEGIN:VEVENT
DTSTAMP:20260422T170822Z
UID:30293b8a-1e3f-4482-a6a7-9906306ab6cb
DTSTART:20260616T180000
DTEND:20260616T190000
DESCRIPTION:<p>This meeting will be held at:<br><br>Kettle Moraine High Sch
 ool - Library/Media Center<br>349 North Oak Crest Drive<br>Wales\, WI 5318
 3</p>
LOCATION:349 N Oak Crest Dr\, Wales\, WI 53183\, USA\, District Wide-1-Dist
 rict Calendar (5000)\, Magee Elementary-1-Calendar (1)
SUMMARY:School Board Annual Meeting
END:VEVENT
BEGIN:VEVENT
DTSTAMP:20260422T170822Z
UID:69fe215b-8a0a-44a8-b561-487744663b1f
DTSTART:20260616T190000
DTEND:20260616T210000
DESCRIPTION:<p>This meeting will be held at:<br><br>Kettle Moraine High Sch
 ool - Library/Media Center<br>349 North Oak Crest Drive<br>Wales\, WI 5318
 3</p>
LOCATION:349 N Oak Crest Dr\, Wales\, WI 53183\, USA\, District Wide-1-Dist
 rict Calendar (5000)
SUMMARY:School Board Meeting
END:VEVENT
END:VCALENDAR
