BEGIN:VCALENDAR
VERSION:2.0
PRODID:icalendar-ruby
CALSCALE:GREGORIAN
BEGIN:VTIMEZONE
TZID:America/New_York
BEGIN:DAYLIGHT
DTSTART:20260308T030000
TZOFFSETFROM:-0500
TZOFFSETTO:-0400
RRULE:FREQ=YEARLY;BYDAY=2SU;BYMONTH=3
TZNAME:EDT
END:DAYLIGHT
BEGIN:STANDARD
DTSTART:20261101T010000
TZOFFSETFROM:-0400
TZOFFSETTO:-0500
RRULE:FREQ=YEARLY;BYDAY=1SU;BYMONTH=11
TZNAME:EST
END:STANDARD
END:VTIMEZONE
BEGIN:VEVENT
DTSTAMP:20260424T152329Z
UID:ae2f1ba0-62a1-4687-816a-ccd604962d17
DTSTART;VALUE=DATE:20260420
DTEND;VALUE=DATE:20260425
DESCRIPTION:
LOCATION:
SUMMARY:GMAS Week
END:VEVENT
BEGIN:VEVENT
DTSTAMP:20260424T152329Z
UID:3313fa3c-5ca8-4a10-b938-09b4aff766c7
DTSTART;VALUE=DATE:20260424
DTEND;VALUE=DATE:20260425
DESCRIPTION:
LOCATION:
SUMMARY:Kindergarten Farm Field Trip
END:VEVENT
BEGIN:VEVENT
DTSTAMP:20260424T152329Z
UID:9c4aee5d-ffee-4a53-920c-5bc8a759feb2
DTSTART:20260427T083000
DTEND:20260427T150000
DESCRIPTION:
LOCATION:
SUMMARY:2nd Grade-Braves 100 AR Trip
END:VEVENT
BEGIN:VEVENT
DTSTAMP:20260424T152329Z
UID:43474219-74d5-4bc0-835d-86615d1efe7a
DTSTART:20260428T070500
DTEND:20260428T075000
DESCRIPTION:
LOCATION:
SUMMARY:FCA K1 Gym
END:VEVENT
BEGIN:VEVENT
DTSTAMP:20260424T152329Z
UID:d6a96670-6575-4913-b449-c74d9c289d18
DTSTART:20260429T080000
DTEND:20260429T144500
DESCRIPTION:
LOCATION:
SUMMARY:3rd Grade Big Time AR 100 pts. 
END:VEVENT
BEGIN:VEVENT
DTSTAMP:20260424T152329Z
UID:c1c25946-922a-4981-b8a1-6151fbf55ef0
DTSTART:20260430T083000
DTEND:20260430T113000
DESCRIPTION:
LOCATION:
SUMMARY:3rd Gifted - Animal Shelter Field Trip
END:VEVENT
BEGIN:VEVENT
DTSTAMP:20260424T152329Z
UID:f69e8fe1-1e4a-4820-8125-d373ad619ce0
DTSTART:20260430T091500
DTEND:20260430T101500
DESCRIPTION:
LOCATION:
SUMMARY:PreK - QU Wedding
END:VEVENT
BEGIN:VEVENT
DTSTAMP:20260424T152329Z
UID:90554492-68ec-46c7-9af9-8fad2b9e5727
DTSTART;VALUE=DATE:20260501
DTEND;VALUE=DATE:20260502
DESCRIPTION:
LOCATION:
SUMMARY:First Grade Author's Tea
END:VEVENT
BEGIN:VEVENT
DTSTAMP:20260424T152329Z
UID:1a69a538-32ca-41a9-97fe-b7e5e360cd74
DTSTART;VALUE=DATE:20260501
DTEND;VALUE=DATE:20260502
DESCRIPTION:
LOCATION:
SUMMARY:K - Lemonade Stand
END:VEVENT
BEGIN:VEVENT
DTSTAMP:20260424T152329Z
UID:a7d734af-7a88-4be4-bc61-753c511ccb56
DTSTART;VALUE=DATE:20260501
DTEND;VALUE=DATE:20260502
DESCRIPTION:
LOCATION:
SUMMARY:PreK - Baseball Field Trip
END:VEVENT
BEGIN:VEVENT
DTSTAMP:20260424T152329Z
UID:37e9246e-f93e-4181-9915-28666e80750d
DTSTART:20260501T110000
DTEND:20260501T150000
DESCRIPTION:ASP will take ASP\, shuttle\, daycare\, and staff students\nLun
 chroom will have about 25 sack lunches for those students remaining.
LOCATION:
SUMMARY:3rd - Early Release @ 11 am
END:VEVENT
BEGIN:VEVENT
DTSTAMP:20260424T152329Z
UID:e19433f2-487c-462b-8e3d-1503ad434507
DTSTART;VALUE=DATE:20260504
DTEND;VALUE=DATE:20260505
DESCRIPTION:
LOCATION:
SUMMARY:Dental Van
END:VEVENT
BEGIN:VEVENT
DTSTAMP:20260424T152329Z
UID:e3dc6aa1-5d92-4d83-b0a4-49f0aa54b36b
DTSTART;VALUE=DATE:20260504
DTEND;VALUE=DATE:20260505
DESCRIPTION:
LOCATION:
SUMMARY:Hats Off to You - $10 EOY Hats
END:VEVENT
BEGIN:VEVENT
DTSTAMP:20260424T152329Z
UID:f53fd393-b6d8-467a-be14-551968c91615
DTSTART;VALUE=DATE:20260504
DTEND;VALUE=DATE:20260505
DESCRIPTION:
LOCATION:
SUMMARY:Third Grade Splish Splash Reading Bash AR Celebration
END:VEVENT
BEGIN:VEVENT
DTSTAMP:20260424T152329Z
UID:859e6f41-da8b-4611-8d9d-16fd5ef0c036
DTSTART;VALUE=DATE:20260505
DTEND;VALUE=DATE:20260506
DESCRIPTION:
LOCATION:
SUMMARY: Third Grade Nacho Average Mathematician Celebration Trip to Movie 
 Theater
END:VEVENT
BEGIN:VEVENT
DTSTAMP:20260424T152329Z
UID:f27b57f8-d349-4761-b7b1-494cba2f5bbb
DTSTART:20260507T114500
DTEND:20260508T114500
DESCRIPTION:
LOCATION:
SUMMARY:PreK - Early Release - Conferences
END:VEVENT
BEGIN:VEVENT
DTSTAMP:20260424T152329Z
UID:dfdcdc18-afe5-40c9-b177-caf43c013829
DTSTART:20260507T120000
DTEND:20260507T130000
DESCRIPTION:
LOCATION:
SUMMARY:Early Birds EOY Party at Patterson Park
END:VEVENT
BEGIN:VEVENT
DTSTAMP:20260424T152329Z
UID:f9d4978d-5b9c-4381-b5c3-1da5c6c7a154
DTSTART:20260507T150000
DTEND:20260507T153000
DESCRIPTION:
LOCATION:
SUMMARY:EOY Party - Student Council
END:VEVENT
BEGIN:VEVENT
DTSTAMP:20260424T152329Z
UID:c9875fb0-b271-4395-8209-5f9ecd3d3bf3
DTSTART;VALUE=DATE:20260511
DTEND;VALUE=DATE:20260516
DESCRIPTION:
LOCATION:
SUMMARY:3rd Gifted Field Trip
END:VEVENT
BEGIN:VEVENT
DTSTAMP:20260424T152329Z
UID:62c4ab79-6a18-4108-a2da-76477864d7c4
DTSTART;VALUE=DATE:20260511
DTEND;VALUE=DATE:20260512
DESCRIPTION:
LOCATION:
SUMMARY:Kindergarten Walking Library Field Trip
END:VEVENT
BEGIN:VEVENT
DTSTAMP:20260424T152329Z
UID:be7670c5-6b06-4950-90e2-752263344932
DTSTART;VALUE=DATE:20260513
DTEND;VALUE=DATE:20260514
DESCRIPTION:
LOCATION:
SUMMARY:Second Grade AR Rome Baseball Game
END:VEVENT
BEGIN:VEVENT
DTSTAMP:20260424T152329Z
UID:db6ae675-11ca-4026-ad07-f248749b461f
DTSTART;VALUE=DATE:20260514
DTEND;VALUE=DATE:20260515
DESCRIPTION:
LOCATION:
SUMMARY:3rd Grade Walk to Library
END:VEVENT
BEGIN:VEVENT
DTSTAMP:20260424T152329Z
UID:6ddb75ad-9506-428a-8418-1c022d471a95
DTSTART:20260514T090000
DTEND:20260514T100000
DESCRIPTION:
LOCATION:
SUMMARY:PreK - EOY Program
END:VEVENT
BEGIN:VEVENT
DTSTAMP:20260424T152329Z
UID:a1b97c57-9757-4489-81af-491056bc42c6
DTSTART;VALUE=DATE:20260515
DTEND;VALUE=DATE:20260516
DESCRIPTION:
LOCATION:
SUMMARY:1st to Cedartown Movies
END:VEVENT
BEGIN:VEVENT
DTSTAMP:20260424T152329Z
UID:e70e1d01-8801-4d9e-b87a-0c1295167919
DTSTART;VALUE=DATE:20260515
DTEND;VALUE=DATE:20260516
DESCRIPTION:
LOCATION:
SUMMARY:2nd - Walking Field Trip to Library
END:VEVENT
BEGIN:VEVENT
DTSTAMP:20260424T152329Z
UID:a4af479d-9eb4-4f2d-ac50-20b3786eed98
DTSTART:20260515T113000
DTEND:20260515T130000
DESCRIPTION:
LOCATION:
SUMMARY:PK Foam Party Upper Playground
END:VEVENT
BEGIN:VEVENT
DTSTAMP:20260424T152329Z
UID:c82e4617-7aa6-46c9-ad58-0d809ef4b826
DTSTART:20260515T120000
DTEND:20260515T130000
DESCRIPTION:
LOCATION:
SUMMARY:Kindergarten End of the Year Performance and Awards
END:VEVENT
BEGIN:VEVENT
DTSTAMP:20260424T152329Z
UID:fe9fea8a-8d09-402b-900c-863e53cd5716
DTSTART;VALUE=DATE:20260520
DTEND;VALUE=DATE:20260521
DESCRIPTION:
LOCATION:
SUMMARY:K - Luau Day
END:VEVENT
BEGIN:VEVENT
DTSTAMP:20260424T152329Z
UID:9f1df058-139f-467c-b5c7-fd8fb5200c62
DTSTART;VALUE=DATE:20260521
DTEND;VALUE=DATE:20260522
DESCRIPTION:
LOCATION:
SUMMARY:K - Inflatables & Kona Ice Day
END:VEVENT
BEGIN:VEVENT
DTSTAMP:20260424T152329Z
UID:880511e4-a378-49f7-af0d-ace9a10866bc
DTSTART;VALUE=DATE:20260521
DTEND;VALUE=DATE:20260522
DESCRIPTION:
LOCATION:
SUMMARY:PreK - Last Day of School
END:VEVENT
BEGIN:VEVENT
DTSTAMP:20260424T152329Z
UID:e199009f-1718-4036-b7aa-28265427cdbc
DTSTART;VALUE=DATE:20260522
DTEND;VALUE=DATE:20260523
DESCRIPTION:
LOCATION:
SUMMARY:K - Circus Day
END:VEVENT
BEGIN:VEVENT
DTSTAMP:20260424T152329Z
UID:dc1bb7f0-b5df-43a6-bba2-3990f355f1ae
DTSTART;VALUE=DATE:20260522
DTEND;VALUE=DATE:20260523
DESCRIPTION:
LOCATION:
SUMMARY:Last day of school
END:VEVENT
BEGIN:VEVENT
DTSTAMP:20260424T152329Z
UID:0cd05177-3cc0-469c-8398-cbd3b964ed62
DTSTART;VALUE=DATE:20260522
DTEND;VALUE=DATE:20260523
DESCRIPTION:
LOCATION:
SUMMARY:REPORT CARDS GO HOME
END:VEVENT
BEGIN:VEVENT
DTSTAMP:20260424T152329Z
UID:96985416-db86-4f12-b88a-f1a4eb1e1ae1
DTSTART;VALUE=DATE:20260731
DTEND;VALUE=DATE:20260801
DESCRIPTION:
LOCATION:
SUMMARY:First Day of School
END:VEVENT
BEGIN:VEVENT
DTSTAMP:20260424T152329Z
UID:dcfa19a4-f2be-4b24-93c0-bdf067d92cd4
DTSTART;VALUE=DATE:20260819
DTEND;VALUE=DATE:20260820
DESCRIPTION:
LOCATION:
SUMMARY:Picture Day
END:VEVENT
BEGIN:VEVENT
DTSTAMP:20260424T152329Z
UID:f0afb51f-10f4-4c7d-a78e-68481dc67ec5
DTSTART;VALUE=DATE:20260907
DTEND;VALUE=DATE:20260908
DESCRIPTION:
LOCATION:
SUMMARY:Labor Day Holiday\; No School
END:VEVENT
BEGIN:VEVENT
DTSTAMP:20260424T152329Z
UID:f18508a8-2e8f-4cba-9082-d36bdb83e892
DTSTART;VALUE=DATE:20260916
DTEND;VALUE=DATE:20260917
DESCRIPTION:
LOCATION:
SUMMARY:Parent Conferences/Virtual Learning Day
END:VEVENT
BEGIN:VEVENT
DTSTAMP:20260424T152329Z
UID:a0ed8e03-b8ab-4ae6-ad19-6ecf34909d47
DTSTART:20260928T100000
DTEND:20260928T110000
DESCRIPTION:
LOCATION:
SUMMARY:Make up Pics
END:VEVENT
BEGIN:VEVENT
DTSTAMP:20260424T152329Z
UID:e47c2ca5-b9f4-4b54-857c-eb5d240e0e93
DTSTART;VALUE=DATE:20261005
DTEND;VALUE=DATE:20261010
DESCRIPTION:
LOCATION:
SUMMARY:Fall Break\; No School
END:VEVENT
BEGIN:VEVENT
DTSTAMP:20260424T152329Z
UID:9c352cdc-fe33-4420-bd46-b6f6bae442e1
DTSTART;VALUE=DATE:20261112
DTEND;VALUE=DATE:20261113
DESCRIPTION:
LOCATION:
SUMMARY:Holiday Pics
END:VEVENT
BEGIN:VEVENT
DTSTAMP:20260424T152329Z
UID:2dffec50-f21f-405d-85a5-3a1eebae2357
DTSTART;VALUE=DATE:20261123
DTEND;VALUE=DATE:20261128
DESCRIPTION:
LOCATION:
SUMMARY:Thanksgiving Break\; No School
END:VEVENT
BEGIN:VEVENT
DTSTAMP:20260424T152329Z
UID:f0e4c669-015e-43d4-87ec-1bce7ff27fa0
DTSTART;VALUE=DATE:20261221
DTEND;VALUE=DATE:20270105
DESCRIPTION:
LOCATION:
SUMMARY:Christmas Break\; No School
END:VEVENT
BEGIN:VEVENT
DTSTAMP:20260424T152329Z
UID:a766625b-125b-4e53-bc90-9cbe7838940e
DTSTART;VALUE=DATE:20270118
DTEND;VALUE=DATE:20270119
DESCRIPTION:
LOCATION:
SUMMARY:MLK Holiday\; No School
END:VEVENT
BEGIN:VEVENT
DTSTAMP:20260424T152329Z
UID:a45fa0b1-4f9b-4fe3-8b43-08ed66df81f9
DTSTART;VALUE=DATE:20270210
DTEND;VALUE=DATE:20270211
DESCRIPTION:
LOCATION:
SUMMARY:Parent Conferences/Virtual Learning Day
END:VEVENT
BEGIN:VEVENT
DTSTAMP:20260424T152329Z
UID:f81582bb-e839-4580-a10b-2c08b2fe2c09
DTSTART;VALUE=DATE:20270215
DTEND;VALUE=DATE:20270220
DESCRIPTION:
LOCATION:
SUMMARY:Winter Break
END:VEVENT
BEGIN:VEVENT
DTSTAMP:20260424T152329Z
UID:57f2f424-8528-497b-8db6-a0f6d8e6fb1f
DTSTART;VALUE=DATE:20270324
DTEND;VALUE=DATE:20270325
DESCRIPTION:
LOCATION:
SUMMARY:Spring Pics
END:VEVENT
BEGIN:VEVENT
DTSTAMP:20260424T152329Z
UID:8aa26680-89c3-44c4-9914-cc6919319ef7
DTSTART;VALUE=DATE:20270405
DTEND;VALUE=DATE:20270410
DESCRIPTION:
LOCATION:
SUMMARY:Spring Break\; No School
END:VEVENT
BEGIN:VEVENT
DTSTAMP:20260424T152329Z
UID:0148d5ff-2a12-416f-81ed-0cb52e93c8db
DTSTART;VALUE=DATE:20270521
DTEND;VALUE=DATE:20270522
DESCRIPTION:
LOCATION:
SUMMARY:Last Day of School
END:VEVENT
BEGIN:VEVENT
DTSTAMP:20260424T152329Z
UID:89874424-4f44-4b7b-968b-b3eef27f62d8
DTSTART;VALUE=DATE:20270730
DTEND;VALUE=DATE:20270731
DESCRIPTION:
LOCATION:
SUMMARY:First Day of School
END:VEVENT
BEGIN:VEVENT
DTSTAMP:20260424T152329Z
UID:b2ed4888-0a17-4aba-9224-b6383770e17d
DTSTART;VALUE=DATE:20270906
DTEND;VALUE=DATE:20270907
DESCRIPTION:
LOCATION:
SUMMARY:Labor Day Holiday\; No School
END:VEVENT
BEGIN:VEVENT
DTSTAMP:20260424T152329Z
UID:f81cb3ac-bf7b-4107-b3fa-1a72e7770d97
DTSTART;VALUE=DATE:20270915
DTEND;VALUE=DATE:20270916
DESCRIPTION:
LOCATION:
SUMMARY:Parent Conferences/Virtual Learning Day
END:VEVENT
BEGIN:VEVENT
DTSTAMP:20260424T152329Z
UID:1dffed55-333f-48e6-9359-734fd1c159a3
DTSTART;VALUE=DATE:20271004
DTEND;VALUE=DATE:20271009
DESCRIPTION:
LOCATION:
SUMMARY:Fall Break\; No School
END:VEVENT
BEGIN:VEVENT
DTSTAMP:20260424T152329Z
UID:1a3d078b-9a10-48a4-a29e-33cda2834bad
DTSTART;VALUE=DATE:20271122
DTEND;VALUE=DATE:20271127
DESCRIPTION:
LOCATION:
SUMMARY:Thanksgiving Break\; No School
END:VEVENT
BEGIN:VEVENT
DTSTAMP:20260424T152329Z
UID:ca7031b1-d0b5-47d1-86f2-1be574e49f94
DTSTART;VALUE=DATE:20271220
DTEND;VALUE=DATE:20280104
DESCRIPTION:
LOCATION:
SUMMARY:Christmas Break\; No School
END:VEVENT
BEGIN:VEVENT
DTSTAMP:20260424T152329Z
UID:ff587459-8299-4ced-855b-a4ee3bedc69d
DTSTART;VALUE=DATE:20280117
DTEND;VALUE=DATE:20280118
DESCRIPTION:
LOCATION:
SUMMARY:MLK Holiday\; No School
END:VEVENT
BEGIN:VEVENT
DTSTAMP:20260424T152329Z
UID:97ef6c99-ac34-42ce-a57f-f7e0ae4d0153
DTSTART;VALUE=DATE:20280209
DTEND;VALUE=DATE:20280210
DESCRIPTION:
LOCATION:
SUMMARY:Parent Conferences/Virtual Learning Day
END:VEVENT
BEGIN:VEVENT
DTSTAMP:20260424T152329Z
UID:f36eb575-d3f9-4f11-a703-dcb9ce7f1e5d
DTSTART;VALUE=DATE:20280403
DTEND;VALUE=DATE:20280408
DESCRIPTION:
LOCATION:
SUMMARY:Spring Break\; No School
END:VEVENT
BEGIN:VEVENT
DTSTAMP:20260424T152329Z
UID:c19b149d-f7d4-4828-a176-2736a82009d2
DTSTART;VALUE=DATE:20280519
DTEND;VALUE=DATE:20280520
DESCRIPTION:
LOCATION:
SUMMARY:Last Day of School
END:VEVENT
END:VCALENDAR
