BEGIN:VCALENDAR
VERSION:2.0
PRODID:icalendar-ruby
CALSCALE:GREGORIAN
BEGIN:VTIMEZONE
TZID:America/Chicago
BEGIN:DAYLIGHT
DTSTART:20260308T030000
TZOFFSETFROM:-0600
TZOFFSETTO:-0500
RRULE:FREQ=YEARLY;BYDAY=2SU;BYMONTH=3
TZNAME:CDT
END:DAYLIGHT
BEGIN:STANDARD
DTSTART:20261101T010000
TZOFFSETFROM:-0500
TZOFFSETTO:-0600
RRULE:FREQ=YEARLY;BYDAY=1SU;BYMONTH=11
TZNAME:CST
END:STANDARD
END:VTIMEZONE
BEGIN:VEVENT
DTSTAMP:20260421T113927Z
UID:5466896b-a2ec-4d99-a8c7-c8327ca4b397
DTSTART;VALUE=DATE:20260421
DTEND;VALUE=DATE:20260422
DESCRIPTION:
LOCATION:
SUMMARY:Algebra I EOC
END:VEVENT
BEGIN:VEVENT
DTSTAMP:20260421T113927Z
UID:b6c8efca-3cc9-4e8f-bf0c-8d724dc725cd
DTSTART;VALUE=DATE:20260421
DTEND;VALUE=DATE:20260422
DESCRIPTION:
LOCATION:
SUMMARY:Math 7th & 8th STAAR
END:VEVENT
BEGIN:VEVENT
DTSTAMP:20260421T113927Z
UID:12ad1038-253a-4a51-8aea-bcc73c8ea074
DTSTART:20260421T180000
DTEND:20260421T190000
DESCRIPTION:
LOCATION:
SUMMARY:BB vs Fayetteville
END:VEVENT
BEGIN:VEVENT
DTSTAMP:20260421T113927Z
UID:25f80d8b-bef7-45a8-9aa5-df1ce7728eff
DTSTART;VALUE=DATE:20260422
DTEND;VALUE=DATE:20260423
DESCRIPTION:
LOCATION:
SUMMARY:6th six weeks progress reports mailed home
END:VEVENT
BEGIN:VEVENT
DTSTAMP:20260421T113927Z
UID:b582288d-b49f-4ff9-bc2e-bf0713853d5c
DTSTART;VALUE=DATE:20260422
DTEND;VALUE=DATE:20260423
DESCRIPTION:
LOCATION:
SUMMARY:Administrative Professional Day
END:VEVENT
BEGIN:VEVENT
DTSTAMP:20260421T113927Z
UID:bb4dac84-47a6-4b19-b182-0eaa52a652a0
DTSTART;VALUE=DATE:20260422
DTEND;VALUE=DATE:20260423
DESCRIPTION:
LOCATION:
SUMMARY:Math 3rd-6th STAAR
END:VEVENT
BEGIN:VEVENT
DTSTAMP:20260421T113927Z
UID:c0bc669b-e191-4cdc-a9ff-93cc609b7461
DTSTART;VALUE=DATE:20260422
DTEND;VALUE=DATE:20260423
DESCRIPTION:
LOCATION:
SUMMARY:Secretary Appreciation Day
END:VEVENT
BEGIN:VEVENT
DTSTAMP:20260421T113927Z
UID:ab562aad-2fec-4ce9-90bb-390d390f9cb6
DTSTART:20260422T153000
DTEND:20260422T163000
DESCRIPTION:
LOCATION:
SUMMARY:FFA Officer Interviews
END:VEVENT
BEGIN:VEVENT
DTSTAMP:20260421T113927Z
UID:9944021c-9b30-4d53-9bf1-c619fc72a01d
DTSTART:20260422T180000
DTEND:20260422T190000
DESCRIPTION:
LOCATION:
SUMMARY:Parent Meeting for Cheer Tryouts
END:VEVENT
BEGIN:VEVENT
DTSTAMP:20260421T113927Z
UID:a61d93c4-9de2-4a73-8320-9980cdb4a97c
DTSTART;VALUE=DATE:20260423
DTEND;VALUE=DATE:20260424
DESCRIPTION:
LOCATION:
SUMMARY:PM Homeroom
END:VEVENT
BEGIN:VEVENT
DTSTAMP:20260421T113927Z
UID:6c0176c7-7804-4e27-9c5a-ae0bc013d53b
DTSTART:20260423T134000
DTEND:20260423T140000
DESCRIPTION:
LOCATION:
SUMMARY:Regional HS Academic Send Off
END:VEVENT
BEGIN:VEVENT
DTSTAMP:20260421T113927Z
UID:07ef4e9a-0170-4033-94c7-67a09d93956f
DTSTART;VALUE=DATE:20260424
DTEND;VALUE=DATE:20260425
DESCRIPTION:
LOCATION:
SUMMARY:Regional HS Academic Meet
END:VEVENT
BEGIN:VEVENT
DTSTAMP:20260421T113927Z
UID:7627ed88-7142-4842-8ddd-e5706b5b315b
DTSTART;VALUE=DATE:20260425
DTEND;VALUE=DATE:20260426
DESCRIPTION:
LOCATION:
SUMMARY:SB B-District deadline
END:VEVENT
BEGIN:VEVENT
DTSTAMP:20260421T113927Z
UID:9f9816ce-38a7-40bf-a27a-07e305361388
DTSTART;VALUE=DATE:20260427
DTEND;VALUE=DATE:20260428
DESCRIPTION:
LOCATION:
SUMMARY:JH District Tennis @ Shiner
END:VEVENT
BEGIN:VEVENT
DTSTAMP:20260421T113927Z
UID:d6bff9bf-287c-4884-a471-44bbb6e80331
DTSTART;VALUE=DATE:20260427
DTEND;VALUE=DATE:20260430
DESCRIPTION:
LOCATION:
SUMMARY:PM Homeroom
END:VEVENT
BEGIN:VEVENT
DTSTAMP:20260421T113927Z
UID:707112d8-9925-4713-996c-dcbdbc66683d
DTSTART;VALUE=DATE:20260427
DTEND;VALUE=DATE:20260502
DESCRIPTION:
LOCATION:
SUMMARY:StuCo officer campaigning
END:VEVENT
BEGIN:VEVENT
DTSTAMP:20260421T113927Z
UID:93a4de63-4c05-437e-9363-7b13304c3f10
DTSTART;VALUE=DATE:20260427
DTEND;VALUE=DATE:20260502
DESCRIPTION:
LOCATION:
SUMMARY:StuCo officer campaigning
END:VEVENT
BEGIN:VEVENT
DTSTAMP:20260421T113927Z
UID:38c180d7-2a06-416d-8c81-52e9fb7f6332
DTSTART:20260427T143100
DTEND:20260427T153000
DESCRIPTION:
LOCATION:
SUMMARY:SHARE Program- HS ONLY
END:VEVENT
BEGIN:VEVENT
DTSTAMP:20260421T113927Z
UID:82e7fca9-c42a-408c-80cd-3f39090e0501
DTSTART:20260427T160000
DTEND:20260427T180000
DESCRIPTION:
LOCATION:
SUMMARY:Cheer Tryouts Practice
END:VEVENT
BEGIN:VEVENT
DTSTAMP:20260421T113927Z
UID:3447cf72-74e2-410b-be1d-2654875c70d0
DTSTART:20260428T143100
DTEND:20260428T153000
DESCRIPTION:
LOCATION:
SUMMARY:SHARE Program- HS ONLY
END:VEVENT
BEGIN:VEVENT
DTSTAMP:20260421T113927Z
UID:4c002c1b-7400-4875-bfd6-8c4495f3b940
DTSTART:20260428T160000
DTEND:20260428T180000
DESCRIPTION:
LOCATION:
SUMMARY:Cheer Tryouts Practice
END:VEVENT
BEGIN:VEVENT
DTSTAMP:20260421T113927Z
UID:eccbda0a-e2b0-45a8-a378-dedd73ef6dee
DTSTART:20260429T080000
DTEND:20260429T120000
DESCRIPTION:
LOCATION:
SUMMARY:SAT testing - Juniors
END:VEVENT
BEGIN:VEVENT
DTSTAMP:20260421T113927Z
UID:d1a71d14-62da-4d6d-b5a2-e99ff579147d
DTSTART:20260429T143100
DTEND:20260429T153000
DESCRIPTION:
LOCATION:
SUMMARY:SHARE Program- HS ONLY
END:VEVENT
BEGIN:VEVENT
DTSTAMP:20260421T113927Z
UID:840e25b6-0be9-4cfc-95af-2f490727bc52
DTSTART:20260429T160000
DTEND:20260429T180000
DESCRIPTION:
LOCATION:
SUMMARY:Cheer Tryouts Practice
END:VEVENT
BEGIN:VEVENT
DTSTAMP:20260421T113927Z
UID:8019b605-2f94-47da-a5ee-c22c017143f4
DTSTART;VALUE=DATE:20260430
DTEND;VALUE=DATE:20260501
DESCRIPTION:
LOCATION:
SUMMARY:StuCo officer speeches\, voting
END:VEVENT
BEGIN:VEVENT
DTSTAMP:20260421T113927Z
UID:aa01da74-98cb-4b6b-afdf-bd2625caa371
DTSTART:20260430T113600
DTEND:20260430T121700
DESCRIPTION:
LOCATION:
SUMMARY:StuCo officer speeches & voting
END:VEVENT
BEGIN:VEVENT
DTSTAMP:20260421T113927Z
UID:63192d64-3a5d-4780-bd2f-e5852629c24c
DTSTART:20260430T170000
DTEND:20260430T180000
DESCRIPTION:
LOCATION:
SUMMARY:Cheer Tryouts 
END:VEVENT
BEGIN:VEVENT
DTSTAMP:20260421T113927Z
UID:e719ab97-7687-47bc-9ddb-40381f05f2ec
DTSTART;VALUE=DATE:20260501
DTEND;VALUE=DATE:20260502
DESCRIPTION:
LOCATION:
SUMMARY:Cafeteria Appreciation Day
END:VEVENT
BEGIN:VEVENT
DTSTAMP:20260421T113927Z
UID:db3eb9d0-81ad-4d1d-bdad-70e4b07b5bf1
DTSTART;VALUE=DATE:20260501
DTEND;VALUE=DATE:20260502
DESCRIPTION:
LOCATION:
SUMMARY:HS Regional Track @ Seguin
END:VEVENT
BEGIN:VEVENT
DTSTAMP:20260421T113927Z
UID:7f5cebd6-2773-4f6d-945f-7911a07ec534
DTSTART;VALUE=DATE:20260501
DTEND;VALUE=DATE:20260502
DESCRIPTION:
LOCATION:
SUMMARY:Kinder Field Trip- Jersey Barnyard
END:VEVENT
BEGIN:VEVENT
DTSTAMP:20260421T113927Z
UID:f398a539-54c1-4584-81a6-1cd5d8e3ad8b
DTSTART;VALUE=DATE:20260502
DTEND;VALUE=DATE:20260503
DESCRIPTION:
LOCATION:
SUMMARY:SB Area Deadline
END:VEVENT
BEGIN:VEVENT
DTSTAMP:20260421T113927Z
UID:984bc843-09cb-4345-943a-62b5ee0d7186
DTSTART;VALUE=DATE:20260504
DTEND;VALUE=DATE:20260505
DESCRIPTION:
LOCATION:
SUMMARY:StuCo banquet
END:VEVENT
BEGIN:VEVENT
DTSTAMP:20260421T113927Z
UID:350e6a83-73ca-4b15-9216-9648837eca5c
DTSTART;VALUE=DATE:20260504
DTEND;VALUE=DATE:20260505
DESCRIPTION:
LOCATION:
SUMMARY:StuCo Banquet
END:VEVENT
BEGIN:VEVENT
DTSTAMP:20260421T113927Z
UID:a26f0b1c-0b3e-4165-af4c-8e8564d2cbb6
DTSTART;VALUE=DATE:20260504
DTEND;VALUE=DATE:20260509
DESCRIPTION:
LOCATION:
SUMMARY:Teacher Appreciation Week
END:VEVENT
BEGIN:VEVENT
DTSTAMP:20260421T113927Z
UID:47c16815-004c-4250-8ef6-59fbc9629b00
DTSTART;VALUE=DATE:20260504
DTEND;VALUE=DATE:20260509
DESCRIPTION:
LOCATION:
SUMMARY:Teacher Appreciation Week
END:VEVENT
BEGIN:VEVENT
DTSTAMP:20260421T113927Z
UID:994fc5dd-c524-4af8-acae-a99074b0aac4
DTSTART;VALUE=DATE:20260505
DTEND;VALUE=DATE:20260506
DESCRIPTION:
LOCATION:
SUMMARY:Teacher Appreciation Day
END:VEVENT
BEGIN:VEVENT
DTSTAMP:20260421T113927Z
UID:525ca4b2-18a8-487d-885a-8fdab13bd46a
DTSTART:20260505T080000
DTEND:20260505T113000
DESCRIPTION:
LOCATION:
SUMMARY:TSI make-up day - JUNIORS
END:VEVENT
BEGIN:VEVENT
DTSTAMP:20260421T113927Z
UID:b0c64d31-964b-41a9-a732-6d9a30c1d4ed
DTSTART:20260506T113000
DTEND:20260506T121500
DESCRIPTION:
LOCATION:
SUMMARY:Balfour - Letterman jacket measuring
END:VEVENT
BEGIN:VEVENT
DTSTAMP:20260421T113927Z
UID:b3e74372-3526-436d-9868-8d66fd426b3a
DTSTART;VALUE=DATE:20260507
DTEND;VALUE=DATE:20260508
DESCRIPTION:
LOCATION:
SUMMARY:FFA Banquet
END:VEVENT
BEGIN:VEVENT
DTSTAMP:20260421T113927Z
UID:22ccb7ce-ec85-43c5-ae7d-5ed621b05c74
DTSTART;VALUE=DATE:20260507
DTEND;VALUE=DATE:20260509
DESCRIPTION:
LOCATION:
SUMMARY:State Tennis
END:VEVENT
BEGIN:VEVENT
DTSTAMP:20260421T113927Z
UID:15261623-d4c1-4ca4-a5d9-a646c0a83cfd
DTSTART;VALUE=DATE:20260508
DTEND;VALUE=DATE:20260509
DESCRIPTION:
LOCATION:
SUMMARY:Elementary Field Day
END:VEVENT
BEGIN:VEVENT
DTSTAMP:20260421T113927Z
UID:65f2a105-023e-475a-85be-35268dafbfb4
DTSTART;VALUE=DATE:20260509
DTEND;VALUE=DATE:20260510
DESCRIPTION:
LOCATION:
SUMMARY:SB Regional Semi-Final Deadline
END:VEVENT
BEGIN:VEVENT
DTSTAMP:20260421T113927Z
UID:cd4a7b08-aef1-49a2-ae86-3ee7786a4fa2
DTSTART;VALUE=DATE:20260511
DTEND;VALUE=DATE:20260512
DESCRIPTION:
LOCATION:
SUMMARY:Senior Trip - Tentative Date
END:VEVENT
BEGIN:VEVENT
DTSTAMP:20260421T113927Z
UID:209d361f-d2eb-4c68-bcff-87b2c8b1f799
DTSTART:20260511T113000
DTEND:20260511T123000
DESCRIPTION:
LOCATION:New Gym
SUMMARY:Stop the Bleed/AED Training- JH/HS (not SRS) -Homeroom
END:VEVENT
BEGIN:VEVENT
DTSTAMP:20260421T113927Z
UID:2b1e057c-2c77-41fb-abd9-99fd89e883bb
DTSTART;VALUE=DATE:20260512
DTEND;VALUE=DATE:20260513
DESCRIPTION:
LOCATION:
SUMMARY:Awards Banquet - Tentative Date
END:VEVENT
BEGIN:VEVENT
DTSTAMP:20260421T113927Z
UID:91b8f49f-3209-4521-80e8-f061652a443c
DTSTART;VALUE=DATE:20260512
DTEND;VALUE=DATE:20260513
DESCRIPTION:
LOCATION:
SUMMARY:Nurse Appreciation Day
END:VEVENT
BEGIN:VEVENT
DTSTAMP:20260421T113927Z
UID:6678f403-b92f-4164-a3de-c9063dd26e14
DTSTART;VALUE=DATE:20260512
DTEND;VALUE=DATE:20260513
DESCRIPTION:
LOCATION:
SUMMARY:Senior Walk
END:VEVENT
BEGIN:VEVENT
DTSTAMP:20260421T113927Z
UID:f1a9ced9-ef4f-4e6b-a4a0-94b1232831d6
DTSTART;VALUE=DATE:20260513
DTEND;VALUE=DATE:20260514
DESCRIPTION:
LOCATION:
SUMMARY:JH/HS Field Day
END:VEVENT
BEGIN:VEVENT
DTSTAMP:20260421T113927Z
UID:ea1b264d-f568-4b48-86b1-0c1617bc5696
DTSTART:20260513T183000
DTEND:20260513T193000
DESCRIPTION:
LOCATION:Moulton ISD Cafeteria Building\, 101 Church St\, Moulton\, TX 7797
 5\, USA
SUMMARY:Board Meeting
END:VEVENT
BEGIN:VEVENT
DTSTAMP:20260421T113927Z
UID:6851a3ee-cabf-4253-ae48-eaf892a00373
DTSTART;VALUE=DATE:20260514
DTEND;VALUE=DATE:20260515
DESCRIPTION:
LOCATION:
SUMMARY:End of the 6th six weeks
END:VEVENT
BEGIN:VEVENT
DTSTAMP:20260421T113927Z
UID:04f273ea-8cbe-4648-8d7f-f52222710235
DTSTART;VALUE=DATE:20260514
DTEND;VALUE=DATE:20260515
DESCRIPTION:
LOCATION:
SUMMARY:HS StateTrack @ Austin
END:VEVENT
BEGIN:VEVENT
DTSTAMP:20260421T113927Z
UID:c1d9b0dc-aa8e-47ba-89e1-59d1222e5a47
DTSTART;VALUE=DATE:20260514
DTEND;VALUE=DATE:20260515
DESCRIPTION:
LOCATION:
SUMMARY:Last Day of School - Early Release
END:VEVENT
BEGIN:VEVENT
DTSTAMP:20260421T113927Z
UID:590e9dac-4de3-414d-87cf-dcd2ad558fbb
DTSTART:20260515T183000
DTEND:20260515T193000
DESCRIPTION:
LOCATION:
SUMMARY:Graduation
END:VEVENT
BEGIN:VEVENT
DTSTAMP:20260421T113927Z
UID:984d6478-1c76-4b2f-94b0-be40b69c9d80
DTSTART;VALUE=DATE:20260516
DTEND;VALUE=DATE:20260517
DESCRIPTION:
LOCATION:
SUMMARY:SB Regional Final Deadline
END:VEVENT
BEGIN:VEVENT
DTSTAMP:20260421T113927Z
UID:b05e24b6-2ef5-4f1c-8241-9d2fff4af963
DTSTART;VALUE=DATE:20260518
DTEND;VALUE=DATE:20260520
DESCRIPTION:
LOCATION:Austin\, TX\, USA
SUMMARY:State HS Academic Meet
END:VEVENT
BEGIN:VEVENT
DTSTAMP:20260421T113927Z
UID:d0ee5563-84e9-4bb1-a3ed-2d77b50f911f
DTSTART;VALUE=DATE:20260523
DTEND;VALUE=DATE:20260524
DESCRIPTION:
LOCATION:
SUMMARY:SB State Semi-Final Deadline
END:VEVENT
BEGIN:VEVENT
DTSTAMP:20260421T113927Z
UID:dc28cb90-175c-44a6-9f43-2a18e9f2cace
DTSTART;VALUE=DATE:20260530
DTEND;VALUE=DATE:20260531
DESCRIPTION:
LOCATION:
SUMMARY:SB State Final 
END:VEVENT
BEGIN:VEVENT
DTSTAMP:20260421T113927Z
UID:bffb19d4-5d09-49ea-9ef8-f4ab3191cf3d
DTSTART:20260608T083000
DTEND:20260608T113000
DESCRIPTION:
LOCATION:
SUMMARY:Mini Cheer Camp
END:VEVENT
BEGIN:VEVENT
DTSTAMP:20260421T113927Z
UID:2e69eea1-528b-4dfb-bda8-740aab22326b
DTSTART:20260609T083000
DTEND:20260609T113000
DESCRIPTION:
LOCATION:
SUMMARY:Mini Cheer Camp
END:VEVENT
BEGIN:VEVENT
DTSTAMP:20260421T113927Z
UID:55e90d3e-d4f8-4455-899b-3938405ab1e9
DTSTART:20260610T083000
DTEND:20260610T120000
DESCRIPTION:
LOCATION:
SUMMARY:Mini Cheer Camp
END:VEVENT
BEGIN:VEVENT
DTSTAMP:20260421T113927Z
UID:9f30a6df-edd8-4d84-93af-b6134a9d129c
DTSTART:20260804T090000
DTEND:20260804T150000
DESCRIPTION:
LOCATION:Computer Lab in Main
SUMMARY:Insurance Man Here For Staff Sign Ups
END:VEVENT
BEGIN:VEVENT
DTSTAMP:20260421T113927Z
UID:b5f26509-afcb-4795-b03e-b323bf19a589
DTSTART;VALUE=DATE:20270129
DTEND;VALUE=DATE:20270130
DESCRIPTION:
LOCATION:
SUMMARY:Homecoming
END:VEVENT
END:VCALENDAR
