BEGIN:VCALENDAR
VERSION:2.0
PRODID:icalendar-ruby
CALSCALE:GREGORIAN
BEGIN:VTIMEZONE
TZID:America/New_York
BEGIN:DAYLIGHT
DTSTART:20260308T030000
TZOFFSETFROM:-0500
TZOFFSETTO:-0400
RRULE:FREQ=YEARLY;BYDAY=2SU;BYMONTH=3
TZNAME:EDT
END:DAYLIGHT
BEGIN:STANDARD
DTSTART:20261101T010000
TZOFFSETFROM:-0400
TZOFFSETTO:-0500
RRULE:FREQ=YEARLY;BYDAY=1SU;BYMONTH=11
TZNAME:EST
END:STANDARD
END:VTIMEZONE
BEGIN:VEVENT
DTSTAMP:20260423T112320Z
UID:5d29447c-2e67-44ff-8301-c9603816888e
DTSTART;VALUE=DATE:20260420
DTEND;VALUE=DATE:20260425
DESCRIPTION:<p>School is closed for April Break</p>
LOCATION:262 White St\, South Burlington\, VT 05403\, USA
SUMMARY:No School - April Break
END:VEVENT
BEGIN:VEVENT
DTSTAMP:20260423T112320Z
UID:8431f7d7-8a76-4115-8dce-f1f22757abd2
DTSTART:20260512T180000
DTEND:20260512T190000
DESCRIPTION:<p>2027 School Year Board Elections</p><p>Come join our PTO mee
 ting in the school library</p>
LOCATION:262 White St\, South Burlington\, VT 05403\, USA
SUMMARY:Chamberlin PTO Meeting
END:VEVENT
BEGIN:VEVENT
DTSTAMP:20260423T112320Z
UID:ef51dcb0-21ce-42e4-b3ab-86fbd9208961
DTSTART:20260513T123000
DTEND:20260513T143000
DESCRIPTION:<p><span>Students will be dismissed at 12:30 pm so that staff c
 an participate in Professional Development.</span></p>
LOCATION:262 White St\, South Burlington\, VT 05403\, USA
SUMMARY:Early Release Day
END:VEVENT
BEGIN:VEVENT
DTSTAMP:20260423T112320Z
UID:646d19e1-07a1-4ccb-a37c-15ef892ef51e
DTSTART;VALUE=DATE:20260525
DTEND;VALUE=DATE:20260526
DESCRIPTION:<p>School is closed in observance of Memorial Day</p>
LOCATION:262 White St\, South Burlington\, VT 05403\, USA
SUMMARY:No School - Memorial Day
END:VEVENT
BEGIN:VEVENT
DTSTAMP:20260423T112320Z
UID:46f0dfff-bb34-4e01-8ae8-2e8ec5ce80c8
DTSTART:20260618T113000
DTEND:20260618T143000
DESCRIPTION:<p>Students will be dismissed at <strong>11:30 am.</strong></p>
LOCATION:262 White St\, South Burlington\, VT 05403\, USA
SUMMARY:Last Day of School
END:VEVENT
END:VCALENDAR
