BEGIN:VCALENDAR
VERSION:2.0
PRODID:icalendar-ruby
CALSCALE:GREGORIAN
BEGIN:VTIMEZONE
TZID:America/New_York
BEGIN:DAYLIGHT
DTSTART:20260308T030000
TZOFFSETFROM:-0500
TZOFFSETTO:-0400
RRULE:FREQ=YEARLY;BYDAY=2SU;BYMONTH=3
TZNAME:EDT
END:DAYLIGHT
BEGIN:STANDARD
DTSTART:20261101T010000
TZOFFSETFROM:-0400
TZOFFSETTO:-0500
RRULE:FREQ=YEARLY;BYDAY=1SU;BYMONTH=11
TZNAME:EST
END:STANDARD
END:VTIMEZONE
BEGIN:VEVENT
DTSTAMP:20260420T025709Z
UID:b485d4ca-eb04-4044-8d41-2735a01424fa
DTSTART;VALUE=DATE:20260430
DTEND;VALUE=DATE:20260508
DESCRIPTION:
LOCATION:
SUMMARY:Book Fair
END:VEVENT
BEGIN:VEVENT
DTSTAMP:20260420T025709Z
UID:ca30f631-d705-43c2-9d50-42475f6d9015
DTSTART:20260504T170000
DTEND:20260504T180000
DESCRIPTION:
LOCATION:
SUMMARY:WJMS SBDM Meeting
END:VEVENT
BEGIN:VEVENT
DTSTAMP:20260420T025709Z
UID:b9b44cc0-a2ce-4e44-84aa-6b05aa2f9c05
DTSTART;VALUE=DATE:20260507
DTEND;VALUE=DATE:20260508
DESCRIPTION:
LOCATION:
SUMMARY:Family Fun Night Luau
END:VEVENT
BEGIN:VEVENT
DTSTAMP:20260420T025709Z
UID:e02c2234-832e-47b2-86c3-1739c9e002d7
DTSTART;VALUE=DATE:20260515
DTEND;VALUE=DATE:20260516
DESCRIPTION:
LOCATION:
SUMMARY:WJMS Finals All Grades: ELA\, Science\, Alg/Geo
END:VEVENT
BEGIN:VEVENT
DTSTAMP:20260420T025709Z
UID:366652ff-42af-479f-bcdb-edb0ac7f2cdd
DTSTART;VALUE=DATE:20260518
DTEND;VALUE=DATE:20260519
DESCRIPTION:
LOCATION:
SUMMARY:WJMS Finals All Grades: Workshop\, 1st Elective
END:VEVENT
BEGIN:VEVENT
DTSTAMP:20260420T025709Z
UID:60291d2f-7d0b-4d46-bc99-116226a26780
DTSTART;VALUE=DATE:20260519
DTEND;VALUE=DATE:20260520
DESCRIPTION:
LOCATION:
SUMMARY:Primary Election Day - No School
END:VEVENT
BEGIN:VEVENT
DTSTAMP:20260420T025709Z
UID:d1a324bc-cd41-4428-bf71-eb8265266233
DTSTART;VALUE=DATE:20260519
DTEND;VALUE=DATE:20260520
DESCRIPTION:
LOCATION:
SUMMARY:WJMS No School for Students
END:VEVENT
BEGIN:VEVENT
DTSTAMP:20260420T025709Z
UID:5518bbac-4aee-4b4a-bd74-3c2a480fb0a1
DTSTART;VALUE=DATE:20260520
DTEND;VALUE=DATE:20260521
DESCRIPTION:
LOCATION:
SUMMARY:WJMS Finals All Grades: Social Studies\, Math\, 2nd Elective
END:VEVENT
BEGIN:VEVENT
DTSTAMP:20260420T025709Z
UID:82cf3e3f-2471-40c3-b45e-e664c5cb6d31
DTSTART;VALUE=DATE:20260521
DTEND;VALUE=DATE:20260522
DESCRIPTION:
LOCATION:
SUMMARY:WJMS All Grades: Finals Make-Ups
END:VEVENT
BEGIN:VEVENT
DTSTAMP:20260420T025709Z
UID:2a847998-71dd-471d-b8ac-81d46b68681a
DTSTART;VALUE=DATE:20260521
DTEND;VALUE=DATE:20260522
DESCRIPTION:
LOCATION:
SUMMARY:WJMS Last Day of School
END:VEVENT
BEGIN:VEVENT
DTSTAMP:20260420T025709Z
UID:62976805-fc91-481d-b4b8-458c73a94fa9
DTSTART;VALUE=DATE:20260601
DTEND;VALUE=DATE:20260602
DESCRIPTION:
LOCATION:
SUMMARY:Last Day of School for Students 
END:VEVENT
BEGIN:VEVENT
DTSTAMP:20260420T025709Z
UID:5d5d9702-bbfa-4bbf-923c-b14f68caf40a
DTSTART:20260601T170000
DTEND:20260601T180000
DESCRIPTION:
LOCATION:
SUMMARY:WJMS SBDM Meeting
END:VEVENT
BEGIN:VEVENT
DTSTAMP:20260420T025709Z
UID:88824864-71c4-4d74-92ea-7d7e8365c646
DTSTART:20260706T170000
DTEND:20260706T180000
DESCRIPTION:
LOCATION:
SUMMARY:WJMS SBDM Meeting
END:VEVENT
END:VCALENDAR
