BEGIN:VCALENDAR
VERSION:2.0
PRODID:icalendar-ruby
CALSCALE:GREGORIAN
BEGIN:VTIMEZONE
TZID:America/Chicago
BEGIN:DAYLIGHT
DTSTART:20260308T030000
TZOFFSETFROM:-0600
TZOFFSETTO:-0500
RRULE:FREQ=YEARLY;BYDAY=2SU;BYMONTH=3
TZNAME:CDT
END:DAYLIGHT
BEGIN:STANDARD
DTSTART:20261101T010000
TZOFFSETFROM:-0500
TZOFFSETTO:-0600
RRULE:FREQ=YEARLY;BYDAY=1SU;BYMONTH=11
TZNAME:CST
END:STANDARD
END:VTIMEZONE
BEGIN:VEVENT
DTSTAMP:20260423T204232Z
UID:a7cb32ea-7098-42ef-9b37-c9806e6e4f0b
DTSTART;VALUE=DATE:20260420
DTEND;VALUE=DATE:20260425
DESCRIPTION:
LOCATION:
SUMMARY:6-12 ISASP
END:VEVENT
BEGIN:VEVENT
DTSTAMP:20260423T204232Z
UID:62a98613-19f2-4415-80b3-0a36158e14ef
DTSTART;VALUE=DATE:20260425
DTEND;VALUE=DATE:20260426
DESCRIPTION:
LOCATION:
SUMMARY:Prom
END:VEVENT
BEGIN:VEVENT
DTSTAMP:20260423T204232Z
UID:2c96d271-a803-4458-9194-cfa9a64894d3
DTSTART;VALUE=DATE:20260427
DTEND;VALUE=DATE:20260428
DESCRIPTION:
LOCATION:
SUMMARY:NO SCHOOL - STAFF PD
END:VEVENT
BEGIN:VEVENT
DTSTAMP:20260423T204232Z
UID:eb9bbf62-432f-48f8-98c1-6516c78f1773
DTSTART:20260501T103600
DTEND:20260501T103600
DESCRIPTION:
LOCATION:
SUMMARY:Senior Graduation photos
END:VEVENT
BEGIN:VEVENT
DTSTAMP:20260423T204232Z
UID:78be89c8-c9b7-4c0c-b1b8-0abdb4d9de8a
DTSTART;VALUE=DATE:20260513
DTEND;VALUE=DATE:20260514
DESCRIPTION:
LOCATION:
SUMMARY:Senior Last Day 
END:VEVENT
BEGIN:VEVENT
DTSTAMP:20260423T204232Z
UID:b8a271d6-a4e4-4ac1-9849-83bf4d44e7ed
DTSTART:20260513T180000
DTEND:20260513T180000
DESCRIPTION:
LOCATION:
SUMMARY:Baccalaureate/Awards Night
END:VEVENT
BEGIN:VEVENT
DTSTAMP:20260423T204232Z
UID:c8eb35c6-2bff-41b5-906e-6c7517b2aaf5
DTSTART;VALUE=DATE:20260514
DTEND;VALUE=DATE:20260515
DESCRIPTION:
LOCATION:
SUMMARY:Senior Graduation Practice
END:VEVENT
BEGIN:VEVENT
DTSTAMP:20260423T204232Z
UID:98daa121-7b08-43e0-89b9-5c149e6799dd
DTSTART:20260517T150000
DTEND:20260517T150000
DESCRIPTION:
LOCATION:
SUMMARY:Graduation
END:VEVENT
BEGIN:VEVENT
DTSTAMP:20260423T204232Z
UID:597cb10c-6289-4ef4-8687-0652b11d2f3a
DTSTART:20260521T124500
DTEND:20260521T124500
DESCRIPTION:
LOCATION:
SUMMARY:Tentative Last Day of School - Dismissal
END:VEVENT
BEGIN:VEVENT
DTSTAMP:20260423T204232Z
UID:d3e2d52d-5e1b-4d35-a9c9-452ce98ee180
DTSTART;VALUE=DATE:20260522
DTEND;VALUE=DATE:20260523
DESCRIPTION:
LOCATION:
SUMMARY:Staff PD 
END:VEVENT
BEGIN:VEVENT
DTSTAMP:20260423T204232Z
UID:7f754eb1-18e0-47dc-bea5-abd85142eb57
DTSTART;VALUE=DATE:20260918
DTEND;VALUE=DATE:20260919
DESCRIPTION:
LOCATION:
SUMMARY:HOMECOMING 
END:VEVENT
BEGIN:VEVENT
DTSTAMP:20260423T204232Z
UID:9f93b89d-b0ae-4ed7-accd-35c23c117efe
DTSTART;VALUE=DATE:20260929
DTEND;VALUE=DATE:20260930
DESCRIPTION:
LOCATION:
SUMMARY:PICTURE DAY
END:VEVENT
BEGIN:VEVENT
DTSTAMP:20260423T204232Z
UID:e3c548e1-47f6-4d89-b1eb-ea450d79a95b
DTSTART;VALUE=DATE:20261027
DTEND;VALUE=DATE:20261028
DESCRIPTION:
LOCATION:
SUMMARY:PICTURE RETAKE DAY
END:VEVENT
END:VCALENDAR
