BEGIN:VCALENDAR
VERSION:2.0
PRODID:icalendar-ruby
CALSCALE:GREGORIAN
BEGIN:VTIMEZONE
TZID:America/Denver
BEGIN:DAYLIGHT
DTSTART:20260308T030000
TZOFFSETFROM:-0700
TZOFFSETTO:-0600
RRULE:FREQ=YEARLY;BYDAY=2SU;BYMONTH=3
TZNAME:MDT
END:DAYLIGHT
BEGIN:STANDARD
DTSTART:20261101T010000
TZOFFSETFROM:-0600
TZOFFSETTO:-0700
RRULE:FREQ=YEARLY;BYDAY=1SU;BYMONTH=11
TZNAME:MST
END:STANDARD
END:VTIMEZONE
BEGIN:VEVENT
DTSTAMP:20260419T125811Z
UID:3397596e-e17e-4986-85d0-765d5d11772e
DTSTART;VALUE=DATE:20260416
DTEND;VALUE=DATE:20260501
DESCRIPTION:
LOCATION:
SUMMARY:HS Spring Play - Stage Setup
END:VEVENT
BEGIN:VEVENT
DTSTAMP:20260419T125811Z
UID:af1db534-0b83-4b9d-977e-21f7af16509a
DTSTART:20260420T080000
DTEND:20260420T084500
DESCRIPTION:
LOCATION:
SUMMARY:6th Grade Band Class
END:VEVENT
BEGIN:VEVENT
DTSTAMP:20260419T125811Z
UID:4647331c-a9ec-4ffc-ab92-46284842b724
DTSTART:20260420T080000
DTEND:20260420T153000
DESCRIPTION:
LOCATION:
SUMMARY:WMS History Days
END:VEVENT
BEGIN:VEVENT
DTSTAMP:20260419T125811Z
UID:b1e3506a-d373-4952-8d76-db6fd3a482d3
DTSTART:20260421T074500
DTEND:20260421T121500
DESCRIPTION:
LOCATION:
SUMMARY:WYTOPP 8th ELA/AG Classroom
END:VEVENT
BEGIN:VEVENT
DTSTAMP:20260419T125811Z
UID:4558c16e-06e8-4db6-a208-fb3617ff8305
DTSTART:20260421T080000
DTEND:20260421T120000
DESCRIPTION:
LOCATION:
SUMMARY:WMS WYTOPP Testing- 6th Grade ELA
END:VEVENT
BEGIN:VEVENT
DTSTAMP:20260419T125811Z
UID:c44c6a9d-8c3f-4f9a-99b8-58020e5b712b
DTSTART:20260422T074500
DTEND:20260422T121500
DESCRIPTION:
LOCATION:
SUMMARY:WYTOPP 6th ELA/AG Classroom
END:VEVENT
BEGIN:VEVENT
DTSTAMP:20260419T125811Z
UID:366ed161-f971-4bfd-a379-b12a5423d597
DTSTART:20260422T080000
DTEND:20260422T120000
DESCRIPTION:
LOCATION:
SUMMARY:WMS WYTOPP Testing- 7th Grade Writing
END:VEVENT
BEGIN:VEVENT
DTSTAMP:20260419T125811Z
UID:8a276cac-2296-433f-b9a5-47414b9151f7
DTSTART:20260423T074500
DTEND:20260423T121500
DESCRIPTION:
LOCATION:
SUMMARY:WYTOPP 7th Writing/AG Classroom
END:VEVENT
BEGIN:VEVENT
DTSTAMP:20260419T125811Z
UID:68624ff3-dcfd-4e51-8885-bba8dab5ba16
DTSTART:20260423T080000
DTEND:20260423T120000
DESCRIPTION:
LOCATION:
SUMMARY:WMS WYTOPP Testing- 8th Grade Math
END:VEVENT
BEGIN:VEVENT
DTSTAMP:20260419T125811Z
UID:bf4774e4-a059-45ae-bc02-c1feea66920d
DTSTART:20260424T080000
DTEND:20260424T140000
DESCRIPTION:
LOCATION:
SUMMARY:WMS Friday Classes
END:VEVENT
BEGIN:VEVENT
DTSTAMP:20260419T125811Z
UID:06897e56-3e15-49f2-a81e-5c6e7fd4b687
DTSTART:20260424T143000
DTEND:20260424T183000
DESCRIPTION:
LOCATION:
SUMMARY:Girls/Boys Soccer Vs. Buffalo/Powell @ Home
END:VEVENT
BEGIN:VEVENT
DTSTAMP:20260419T125811Z
UID:7e46987b-bd31-4d1b-b37a-739ba451b399
DTSTART:20260425T100000
DTEND:20260425T140000
DESCRIPTION:
LOCATION:
SUMMARY:Track @ Powell
END:VEVENT
BEGIN:VEVENT
DTSTAMP:20260419T125811Z
UID:cf05a1e7-3347-45f0-a50f-5414b45afe99
DTSTART:20260427T080000
DTEND:20260427T084500
DESCRIPTION:
LOCATION:
SUMMARY:6th Grade Band Class
END:VEVENT
BEGIN:VEVENT
DTSTAMP:20260419T125811Z
UID:43bb39cf-fa1b-47a9-ad2e-ca408823220e
DTSTART:20260428T074500
DTEND:20260428T121500
DESCRIPTION:
LOCATION:
SUMMARY:WYTOPP 8th Math/AG Classroom
END:VEVENT
BEGIN:VEVENT
DTSTAMP:20260419T125811Z
UID:66ce1851-065e-48d7-b18b-197a2a1daf20
DTSTART:20260428T080000
DTEND:20260428T120000
DESCRIPTION:
LOCATION:
SUMMARY:WMS WYTOPP Testing- 7th Grade Math
END:VEVENT
BEGIN:VEVENT
DTSTAMP:20260419T125811Z
UID:ca7cbcb9-aec1-406a-9bc5-817a34529ee7
DTSTART:20260428T160000
DTEND:20260428T190000
DESCRIPTION:
LOCATION:
SUMMARY:Girls/Boys Soccer Vs. Lander @ Home 
END:VEVENT
BEGIN:VEVENT
DTSTAMP:20260419T125811Z
UID:c11295fa-1be8-45f2-9ba8-99f71ba47ef3
DTSTART:20260429T074500
DTEND:20260429T121500
DESCRIPTION:
LOCATION:
SUMMARY:WYTOPP 7th Math/AG Classroom
END:VEVENT
BEGIN:VEVENT
DTSTAMP:20260419T125811Z
UID:cb773974-7c8b-4a42-b8d9-cb0fc0540510
DTSTART:20260429T080000
DTEND:20260429T120000
DESCRIPTION:
LOCATION:
SUMMARY:WMS WYTOPP Testing- 6th Grade Math
END:VEVENT
BEGIN:VEVENT
DTSTAMP:20260419T125811Z
UID:feb73ad1-e086-432b-8149-ca8866a89118
DTSTART:20260429T180000
DTEND:20260429T210000
DESCRIPTION:
LOCATION:
SUMMARY:Lip Sync Battle
END:VEVENT
BEGIN:VEVENT
DTSTAMP:20260419T125811Z
UID:8a607e4d-5949-40c2-8906-60cee09c20b6
DTSTART:20260430T074500
DTEND:20260430T121500
DESCRIPTION:
LOCATION:
SUMMARY:WYTOPP 6th Math/AG Classroom
END:VEVENT
BEGIN:VEVENT
DTSTAMP:20260419T125811Z
UID:8cdbe284-8cb1-4bc3-a483-e007860da660
DTSTART:20260430T080000
DTEND:20260430T120000
DESCRIPTION:
LOCATION:
SUMMARY:WMS WYTOPP Testing- 8th Grade Science
END:VEVENT
BEGIN:VEVENT
DTSTAMP:20260419T125811Z
UID:164df55d-28af-43a3-bc4d-46239bbd0c38
DTSTART:20260430T160000
DTEND:20260430T190000
DESCRIPTION:
LOCATION:
SUMMARY:Girls/Boys Soccer Vs. Riverton @ Home
END:VEVENT
BEGIN:VEVENT
DTSTAMP:20260419T125811Z
UID:70fb356f-976d-4f74-bed6-b862d6a61bd4
DTSTART;VALUE=DATE:20260501
DTEND;VALUE=DATE:20260503
DESCRIPTION:
LOCATION:
SUMMARY:HS Spring Play
END:VEVENT
BEGIN:VEVENT
DTSTAMP:20260419T125811Z
UID:55301ff7-c5e4-4462-a577-0d6288711836
DTSTART:20260501T080000
DTEND:20260501T140000
DESCRIPTION:
LOCATION:
SUMMARY:WMS Friday Classes
END:VEVENT
BEGIN:VEVENT
DTSTAMP:20260419T125811Z
UID:4e035be4-e0f1-4b3c-adb0-cba4722d839e
DTSTART:20260501T170000
DTEND:20260501T210000
DESCRIPTION:
LOCATION:
SUMMARY:CAFETERIA-WMS DANCE
END:VEVENT
BEGIN:VEVENT
DTSTAMP:20260419T125811Z
UID:f362b618-07aa-454a-bc19-671c87ac01a8
DTSTART:20260502T100000
DTEND:20260502T140000
DESCRIPTION:
LOCATION:
SUMMARY:Track @ Lovell
END:VEVENT
BEGIN:VEVENT
DTSTAMP:20260419T125811Z
UID:a4884ac8-43b1-48ee-81a4-fc9fed2b127f
DTSTART:20260502T110000
DTEND:20260502T174500
DESCRIPTION:
LOCATION:
SUMMARY:Girls/Boys Soccer @ Gillette
END:VEVENT
BEGIN:VEVENT
DTSTAMP:20260419T125811Z
UID:c38c2ce5-925a-45c4-ac7c-f04ea2f23228
DTSTART:20260504T080000
DTEND:20260504T084500
DESCRIPTION:
LOCATION:
SUMMARY:6th Grade Band Class
END:VEVENT
BEGIN:VEVENT
DTSTAMP:20260419T125811Z
UID:5466e53f-d2b2-4a89-bb1b-df36180954cc
DTSTART:20260504T080000
DTEND:20260504T170000
DESCRIPTION:
LOCATION:
SUMMARY:WHS Final Band Concert -Rehearsal
END:VEVENT
BEGIN:VEVENT
DTSTAMP:20260419T125811Z
UID:05596a60-d229-4c98-81a0-518f8d1299bb
DTSTART:20260505T080000
DTEND:20260505T084500
DESCRIPTION:
LOCATION:
SUMMARY:6th Grade Band Class
END:VEVENT
BEGIN:VEVENT
DTSTAMP:20260419T125811Z
UID:43f6f86a-3fa1-4018-b8f6-7d0d29ea0c1e
DTSTART:20260505T080000
DTEND:20260505T170000
DESCRIPTION:
LOCATION:
SUMMARY:WHS Final Band Concert -Rehearsal
END:VEVENT
BEGIN:VEVENT
DTSTAMP:20260419T125811Z
UID:7ef20339-fc11-4196-9fcc-d101b02fa83d
DTSTART:20260506T074500
DTEND:20260506T083000
DESCRIPTION:
LOCATION:
SUMMARY:WMS Counselor
END:VEVENT
BEGIN:VEVENT
DTSTAMP:20260419T125811Z
UID:e59f7b6c-cdca-4992-a7aa-d2eac6e94818
DTSTART:20260506T080000
DTEND:20260506T084500
DESCRIPTION:
LOCATION:
SUMMARY:6th Grade Band Class
END:VEVENT
BEGIN:VEVENT
DTSTAMP:20260419T125811Z
UID:e287acb2-dd4d-496a-9912-bb34213eadb6
DTSTART:20260506T080000
DTEND:20260506T153000
DESCRIPTION:
LOCATION:
SUMMARY:8th Grade Choices that Matter
END:VEVENT
BEGIN:VEVENT
DTSTAMP:20260419T125811Z
UID:a8855d5d-c709-4f95-a663-bfc06917709b
DTSTART:20260506T080000
DTEND:20260506T170000
DESCRIPTION:
LOCATION:
SUMMARY:WHS Final Band Concert -Rehearsal
END:VEVENT
BEGIN:VEVENT
DTSTAMP:20260419T125811Z
UID:32ab30a1-d27d-4f96-bfd3-29e295ca8ac6
DTSTART:20260506T150000
DTEND:20260506T154500
DESCRIPTION:
LOCATION:
SUMMARY:WMS Counselor
END:VEVENT
BEGIN:VEVENT
DTSTAMP:20260419T125811Z
UID:3c9c1753-da35-4807-a0a3-a6779ea0adc5
DTSTART:20260507T080000
DTEND:20260507T084500
DESCRIPTION:
LOCATION:
SUMMARY:6th Grade Band Class
END:VEVENT
BEGIN:VEVENT
DTSTAMP:20260419T125811Z
UID:c5480431-012f-4410-92c6-f0b23e921811
DTSTART:20260507T080000
DTEND:20260507T213000
DESCRIPTION:
LOCATION:
SUMMARY:WHS Final Band Concert 7pm
END:VEVENT
BEGIN:VEVENT
DTSTAMP:20260419T125811Z
UID:86d3bb1d-6653-4237-8b1a-62545af9cad5
DTSTART:20260508T080000
DTEND:20260508T140000
DESCRIPTION:
LOCATION:
SUMMARY:WMS Friday Classes
END:VEVENT
BEGIN:VEVENT
DTSTAMP:20260419T125811Z
UID:422c9be1-4e77-4d87-b8c2-d6306a94daaa
DTSTART:20260509T093000
DTEND:20260509T140000
DESCRIPTION:
LOCATION:
SUMMARY:Track Conference @ Home
END:VEVENT
BEGIN:VEVENT
DTSTAMP:20260419T125811Z
UID:957a53b9-d38d-44a5-b4cd-e57cd58b71fe
DTSTART:20260511T080000
DTEND:20260511T084500
DESCRIPTION:
LOCATION:
SUMMARY:6th Grade Band Class
END:VEVENT
BEGIN:VEVENT
DTSTAMP:20260419T125811Z
UID:a0369101-e698-4c3d-8189-dc98b67be5dd
DTSTART:20260511T080000
DTEND:20260511T153000
DESCRIPTION:
LOCATION:
SUMMARY:6th Grade Field Trip
END:VEVENT
BEGIN:VEVENT
DTSTAMP:20260419T125811Z
UID:a037c49c-ea70-49a3-9f75-748035f05761
DTSTART:20260511T080000
DTEND:20260511T213000
DESCRIPTION:
LOCATION:
SUMMARY:HS Gym-HS/MS Final Choir Concert 7pm
END:VEVENT
BEGIN:VEVENT
DTSTAMP:20260419T125811Z
UID:265f025b-aa74-4000-b8b3-e709a3cd1c20
DTSTART:20260512T080000
DTEND:20260512T084500
DESCRIPTION:
LOCATION:
SUMMARY:6th Grade Band Class
END:VEVENT
BEGIN:VEVENT
DTSTAMP:20260419T125811Z
UID:eadb2a68-f93b-4b6a-8c68-f7e3014015c9
DTSTART:20260512T100000
DTEND:20260512T140000
DESCRIPTION:
LOCATION:
SUMMARY:Track Best of the Best @ Lander
END:VEVENT
BEGIN:VEVENT
DTSTAMP:20260419T125811Z
UID:f5ec83ea-59f4-4040-aea3-ec4e1e50bb20
DTSTART:20260512T183000
DTEND:20260512T220000
DESCRIPTION:
LOCATION:
SUMMARY:Senior Awards Night 7pm
END:VEVENT
BEGIN:VEVENT
DTSTAMP:20260419T125811Z
UID:1e4cff16-87d9-4a77-9f71-26018a295ec7
DTSTART:20260513T080000
DTEND:20260513T084500
DESCRIPTION:
LOCATION:
SUMMARY:6th Grade Band Class
END:VEVENT
BEGIN:VEVENT
DTSTAMP:20260419T125811Z
UID:6057f2cb-4080-45d3-9624-e7f1c08e49eb
DTSTART:20260513T080000
DTEND:20260513T153000
DESCRIPTION:
LOCATION:
SUMMARY:7th Grade Field Trip
END:VEVENT
BEGIN:VEVENT
DTSTAMP:20260419T125811Z
UID:596c7cc0-d14f-4d6e-975d-bb40bb4210e4
DTSTART:20260513T080000
DTEND:20260513T170000
DESCRIPTION:
LOCATION:
SUMMARY:WMS Final Band Concert -Rehearsal
END:VEVENT
BEGIN:VEVENT
DTSTAMP:20260419T125811Z
UID:c1d594fc-f7cb-4df5-bdb2-124dd39fdc4a
DTSTART:20260514T080000
DTEND:20260514T084500
DESCRIPTION:
LOCATION:
SUMMARY:6th Grade Band Class
END:VEVENT
BEGIN:VEVENT
DTSTAMP:20260419T125811Z
UID:1a12098b-d9d8-4550-98df-3b1bfae04406
DTSTART:20260514T080000
DTEND:20260514T153000
DESCRIPTION:
LOCATION:
SUMMARY:8th Grade  Job Shadow
END:VEVENT
BEGIN:VEVENT
DTSTAMP:20260419T125811Z
UID:a26f02da-71d1-4d9a-9528-c04baa35af71
DTSTART:20260514T080000
DTEND:20260514T170000
DESCRIPTION:
LOCATION:
SUMMARY:WMS Final Band Concert -Rehearsal
END:VEVENT
BEGIN:VEVENT
DTSTAMP:20260419T125811Z
UID:94a6c904-499d-462c-90cf-d21484e8fe71
DTSTART:20260514T171500
DTEND:20260514T204500
DESCRIPTION:
LOCATION:
SUMMARY:HS Pavilion-White Hawk Senior Graduation 6pm
END:VEVENT
BEGIN:VEVENT
DTSTAMP:20260419T125811Z
UID:9d26df89-9fc0-4233-9f81-b1ec1a250bfc
DTSTART:20260515T074500
DTEND:20260515T114500
DESCRIPTION:
LOCATION:
SUMMARY:5th Grade Orientation
END:VEVENT
BEGIN:VEVENT
DTSTAMP:20260419T125811Z
UID:45a30f07-eae1-44f9-881e-67d4ff689e89
DTSTART:20260515T080000
DTEND:20260515T140000
DESCRIPTION:
LOCATION:
SUMMARY:WMS Friday Classes
END:VEVENT
BEGIN:VEVENT
DTSTAMP:20260419T125811Z
UID:552d9c62-30c2-4c79-aa1b-78ff2d8c0c86
DTSTART:20260518T080000
DTEND:20260518T170000
DESCRIPTION:
LOCATION:
SUMMARY:WMS Final Band Concert -Rehearsal
END:VEVENT
BEGIN:VEVENT
DTSTAMP:20260419T125811Z
UID:421bb438-8c10-4b49-a8c7-2d8be18dc737
DTSTART:20260519T080000
DTEND:20260519T213000
DESCRIPTION:
LOCATION:
SUMMARY:WMS Final Band Concert 7pm
END:VEVENT
BEGIN:VEVENT
DTSTAMP:20260419T125811Z
UID:7495f898-cf17-4eea-b3dd-5ebf3136341e
DTSTART:20260520T080000
DTEND:20260520T153000
DESCRIPTION:
LOCATION:
SUMMARY:8th Grade Field Trip
END:VEVENT
BEGIN:VEVENT
DTSTAMP:20260419T125811Z
UID:ced9c3b1-60b9-4e6b-b0d9-95a6200cc368
DTSTART:20260520T120000
DTEND:20260520T140000
DESCRIPTION:
LOCATION:
SUMMARY:Kindergarten Celebration
END:VEVENT
BEGIN:VEVENT
DTSTAMP:20260419T125811Z
UID:933b3c85-45d8-40d9-9837-9a827ec13786
DTSTART:20260521T080000
DTEND:20260521T150000
DESCRIPTION:
LOCATION:
SUMMARY:Kindergarten Celebration
END:VEVENT
BEGIN:VEVENT
DTSTAMP:20260419T125811Z
UID:0575608d-ff5f-457c-b806-466abc8d7e5b
DTSTART:20260521T183000
DTEND:20260521T193000
DESCRIPTION:
LOCATION:
SUMMARY:8th Grade Honors Night
END:VEVENT
BEGIN:VEVENT
DTSTAMP:20260419T125811Z
UID:ed3dc9f4-e61f-47cf-be18-9436dfcaa2b9
DTSTART:20260522T080000
DTEND:20260522T130000
DESCRIPTION:
LOCATION:
SUMMARY:Last Day of School-Early Release
END:VEVENT
BEGIN:VEVENT
DTSTAMP:20260419T125811Z
UID:fd4fb3ff-52bf-485e-9eb1-2f968da62836
DTSTART:20260522T080000
DTEND:20260522T140000
DESCRIPTION:
LOCATION:
SUMMARY:WMS Friday Classes
END:VEVENT
BEGIN:VEVENT
DTSTAMP:20260419T125811Z
UID:e6cf2e38-c19e-4f9f-89f0-4f0803fd84ac
DTSTART;VALUE=DATE:20260528
DTEND;VALUE=DATE:20260529
DESCRIPTION:
LOCATION:
SUMMARY:Curtain Call Academy
END:VEVENT
BEGIN:VEVENT
DTSTAMP:20260419T125811Z
UID:e114d05b-10da-4af4-9fc0-56b5148602e8
DTSTART;VALUE=DATE:20260529
DTEND;VALUE=DATE:20260530
DESCRIPTION:
LOCATION:
SUMMARY:Curtain Call Academy
END:VEVENT
BEGIN:VEVENT
DTSTAMP:20260419T125811Z
UID:9a0581d5-608b-4cd6-ab2d-b2a34cd12a5b
DTSTART;VALUE=DATE:20260530
DTEND;VALUE=DATE:20260531
DESCRIPTION:
LOCATION:
SUMMARY:Curtain Call Academy
END:VEVENT
BEGIN:VEVENT
DTSTAMP:20260419T125811Z
UID:4c6e4ef0-052e-46cd-901a-99a724284e7c
DTSTART:20261202T100000
DTEND:20261202T210000
DESCRIPTION:
LOCATION:
SUMMARY:World Ballet Company Event
END:VEVENT
END:VCALENDAR
