BEGIN:VCALENDAR
VERSION:2.0
PRODID:icalendar-ruby
CALSCALE:GREGORIAN
BEGIN:VTIMEZONE
TZID:America/New_York
BEGIN:DAYLIGHT
DTSTART:20260308T030000
TZOFFSETFROM:-0500
TZOFFSETTO:-0400
RRULE:FREQ=YEARLY;BYDAY=2SU;BYMONTH=3
TZNAME:EDT
END:DAYLIGHT
BEGIN:STANDARD
DTSTART:20261101T010000
TZOFFSETFROM:-0400
TZOFFSETTO:-0500
RRULE:FREQ=YEARLY;BYDAY=1SU;BYMONTH=11
TZNAME:EST
END:STANDARD
END:VTIMEZONE
BEGIN:VEVENT
DTSTAMP:20260419T125908Z
UID:a37791ac-9837-4157-8135-e2dffc199a67
DTSTART;VALUE=DATE:20260420
DTEND;VALUE=DATE:20260421
DESCRIPTION:
LOCATION:
SUMMARY:A-Day
END:VEVENT
BEGIN:VEVENT
DTSTAMP:20260419T125908Z
UID:b6bbc814-1bd0-4821-b188-76656b25cc49
DTSTART;VALUE=DATE:20260421
DTEND;VALUE=DATE:20260422
DESCRIPTION:
LOCATION:
SUMMARY:B-Day
END:VEVENT
BEGIN:VEVENT
DTSTAMP:20260419T125908Z
UID:660d15b6-9a37-4030-af65-a26fc7337bca
DTSTART;VALUE=DATE:20260422
DTEND;VALUE=DATE:20260423
DESCRIPTION:
LOCATION:
SUMMARY:A-Day
END:VEVENT
BEGIN:VEVENT
DTSTAMP:20260419T125908Z
UID:bc319171-f3f9-4c7b-9f5f-bb6cbfced214
DTSTART;VALUE=DATE:20260423
DTEND;VALUE=DATE:20260424
DESCRIPTION:
LOCATION:
SUMMARY:B-Day
END:VEVENT
BEGIN:VEVENT
DTSTAMP:20260419T125908Z
UID:296735d6-b0e4-43fb-a4b3-fa410786de30
DTSTART:20260423T180000
DTEND:20260423T200000
DESCRIPTION:
LOCATION:
SUMMARY:Multicultural Celebration Event @ UHS
END:VEVENT
BEGIN:VEVENT
DTSTAMP:20260419T125908Z
UID:827b2dcc-9884-4032-87bb-17a6182cd362
DTSTART;VALUE=DATE:20260424
DTEND;VALUE=DATE:20260425
DESCRIPTION:
LOCATION:
SUMMARY:A-Day
END:VEVENT
BEGIN:VEVENT
DTSTAMP:20260419T125908Z
UID:306a5b23-2d33-4ddc-b391-cbf46012d592
DTSTART:20260509T190000
DTEND:20260509T210000
DESCRIPTION:
LOCATION:
SUMMARY:ROTK Show Choir Benefit Concert
END:VEVENT
END:VCALENDAR
