BEGIN:VCALENDAR
VERSION:2.0
PRODID:icalendar-ruby
CALSCALE:GREGORIAN
BEGIN:VTIMEZONE
TZID:America/New_York
BEGIN:DAYLIGHT
DTSTART:20260308T030000
TZOFFSETFROM:-0500
TZOFFSETTO:-0400
RRULE:FREQ=YEARLY;BYDAY=2SU;BYMONTH=3
TZNAME:EDT
END:DAYLIGHT
BEGIN:STANDARD
DTSTART:20261101T010000
TZOFFSETFROM:-0400
TZOFFSETTO:-0500
RRULE:FREQ=YEARLY;BYDAY=1SU;BYMONTH=11
TZNAME:EST
END:STANDARD
END:VTIMEZONE
BEGIN:VEVENT
DTSTAMP:20260423T101506Z
UID:b10ec502-704a-4d37-8980-925f0b881cfd
DTSTART;VALUE=DATE:20260501
DTEND;VALUE=DATE:20260502
DESCRIPTION:
LOCATION:
SUMMARY:Early Dismissal  @ 12:15 pm for SECHSD Students
END:VEVENT
BEGIN:VEVENT
DTSTAMP:20260423T101506Z
UID:aeaefa12-4534-45f6-bc0c-00baf006574c
DTSTART;VALUE=DATE:20260519
DTEND;VALUE=DATE:20260520
DESCRIPTION:
LOCATION:
SUMMARY:Graduation 
END:VEVENT
BEGIN:VEVENT
DTSTAMP:20260423T101506Z
UID:a573cc24-820d-4e91-b735-76eca3b09e15
DTSTART;VALUE=DATE:20260522
DTEND;VALUE=DATE:20260523
DESCRIPTION:
LOCATION:
SUMMARY:Last Day of School
END:VEVENT
BEGIN:VEVENT
DTSTAMP:20260423T101506Z
UID:40020466-ddc1-4a7b-b888-a4426c9c90a1
DTSTART;VALUE=DATE:20260525
DTEND;VALUE=DATE:20260526
DESCRIPTION:
LOCATION:
SUMMARY:Holiday
END:VEVENT
BEGIN:VEVENT
DTSTAMP:20260423T101506Z
UID:5eb7e2ee-92d5-4bf4-bba7-24e6f89ef1f7
DTSTART;VALUE=DATE:20260526
DTEND;VALUE=DATE:20260527
DESCRIPTION:
LOCATION:
SUMMARY:Required Staff Development Day
END:VEVENT
BEGIN:VEVENT
DTSTAMP:20260423T101506Z
UID:539e558b-a126-42d5-b842-10abbb247569
DTSTART;VALUE=DATE:20260527
DTEND;VALUE=DATE:20260530
DESCRIPTION:
LOCATION:
SUMMARY:Staff Development
END:VEVENT
BEGIN:VEVENT
DTSTAMP:20260423T101506Z
UID:eb634413-af16-41cb-b281-5251962a5b85
DTSTART;VALUE=DATE:20260528
DTEND;VALUE=DATE:20260529
DESCRIPTION:
LOCATION:
SUMMARY:Staff Development
END:VEVENT
BEGIN:VEVENT
DTSTAMP:20260423T101506Z
UID:1cb5a3cb-b53f-4ea5-a09e-34c56545d5e5
DTSTART;VALUE=DATE:20260529
DTEND;VALUE=DATE:20260530
DESCRIPTION:
LOCATION:
SUMMARY:Staff Development
END:VEVENT
BEGIN:VEVENT
DTSTAMP:20260423T101506Z
UID:8498932e-f679-400a-94bc-8d9f997772bf
DTSTART;VALUE=DATE:20260601
DTEND;VALUE=DATE:20260603
DESCRIPTION:
LOCATION:
SUMMARY:Staff Development
END:VEVENT
BEGIN:VEVENT
DTSTAMP:20260423T101506Z
UID:831938d0-acf3-42a0-9c08-cd9185642b6c
DTSTART;VALUE=DATE:20260602
DTEND;VALUE=DATE:20260603
DESCRIPTION:
LOCATION:
SUMMARY:Staff Development
END:VEVENT
BEGIN:VEVENT
DTSTAMP:20260423T101506Z
UID:3fa093d0-2d02-4b5a-9662-a8ca744f55d7
DTSTART;VALUE=DATE:20260603
DTEND;VALUE=DATE:20260604
DESCRIPTION:
LOCATION:
SUMMARY:Optional Vacation Leave
END:VEVENT
BEGIN:VEVENT
DTSTAMP:20260423T101506Z
UID:f2a407f1-f380-454a-90cf-23b54272aa37
DTSTART;VALUE=DATE:20260604
DTEND;VALUE=DATE:20260605
DESCRIPTION:
LOCATION:
SUMMARY:Staff Development
END:VEVENT
BEGIN:VEVENT
DTSTAMP:20260423T101506Z
UID:c6ec5f3e-23f0-413a-b2fc-9607534cffc6
DTSTART;VALUE=DATE:20260605
DTEND;VALUE=DATE:20260606
DESCRIPTION:
LOCATION:
SUMMARY:Optional Vacation Leave
END:VEVENT
END:VCALENDAR
