BEGIN:VCALENDAR
VERSION:2.0
PRODID:icalendar-ruby
CALSCALE:GREGORIAN
BEGIN:VTIMEZONE
TZID:America/New_York
BEGIN:DAYLIGHT
DTSTART:20260308T030000
TZOFFSETFROM:-0500
TZOFFSETTO:-0400
RRULE:FREQ=YEARLY;BYDAY=2SU;BYMONTH=3
TZNAME:EDT
END:DAYLIGHT
BEGIN:STANDARD
DTSTART:20261101T010000
TZOFFSETFROM:-0400
TZOFFSETTO:-0500
RRULE:FREQ=YEARLY;BYDAY=1SU;BYMONTH=11
TZNAME:EST
END:STANDARD
END:VTIMEZONE
BEGIN:VEVENT
DTSTAMP:20260423T101944Z
UID:0a1e47ff-ef30-462b-ab26-042c268e539a
DTSTART:20260424T193000
DTEND:20260424T210000
DESCRIPTION:
LOCATION:
SUMMARY:Legally Blonde Jr.
END:VEVENT
BEGIN:VEVENT
DTSTAMP:20260423T101944Z
UID:1e631451-5579-4112-9080-6d1e8412f25a
DTSTART:20260501T080000
DTEND:20260501T090000
DESCRIPTION:
LOCATION:
SUMMARY:Early Dismissal at 1pm
END:VEVENT
BEGIN:VEVENT
DTSTAMP:20260423T101944Z
UID:f43a176d-0c79-493e-87d3-fee60f85256c
DTSTART:20260504T080000
DTEND:20260508T090000
DESCRIPTION:
LOCATION:
SUMMARY:Teacher Appreciation Week
END:VEVENT
BEGIN:VEVENT
DTSTAMP:20260423T101944Z
UID:7272a67b-b013-451b-8517-3566ed25b501
DTSTART:20260512T080000
DTEND:20260512T090000
DESCRIPTION:
LOCATION:
SUMMARY:8th Grade Science EOG
END:VEVENT
BEGIN:VEVENT
DTSTAMP:20260423T101944Z
UID:bad01e08-55d0-42bc-bdf6-8744fbfb46f7
DTSTART:20260513T080000
DTEND:20260513T090000
DESCRIPTION:
LOCATION:
SUMMARY:Math EOG
END:VEVENT
BEGIN:VEVENT
DTSTAMP:20260423T101944Z
UID:634f72f5-3ce6-4e5e-808a-3f0e98bf16f9
DTSTART:20260514T080000
DTEND:20260514T090000
DESCRIPTION:
LOCATION:
SUMMARY:ELA EOG
END:VEVENT
BEGIN:VEVENT
DTSTAMP:20260423T101944Z
UID:105c1673-c76e-4f94-9d93-4e79fdc33476
DTSTART:20260521T081500
DTEND:20260521T090000
DESCRIPTION:
LOCATION:
SUMMARY:Spring Sports Awards
END:VEVENT
BEGIN:VEVENT
DTSTAMP:20260423T101944Z
UID:4a0431c4-0b40-4ac2-98d6-88daa74f5bcd
DTSTART:20260522T080000
DTEND:20260522T090000
DESCRIPTION:
LOCATION:
SUMMARY:End of the 4th 9 Weeks
END:VEVENT
BEGIN:VEVENT
DTSTAMP:20260423T101944Z
UID:ff49c996-273f-4c2d-9df7-c80059f10980
DTSTART:20260522T080000
DTEND:20260522T090000
DESCRIPTION:
LOCATION:
SUMMARY:Last Day of School
END:VEVENT
END:VCALENDAR
