BEGIN:VCALENDAR
VERSION:2.0
PRODID:icalendar-ruby
CALSCALE:GREGORIAN
BEGIN:VTIMEZONE
TZID:America/New_York
BEGIN:DAYLIGHT
DTSTART:20260308T030000
TZOFFSETFROM:-0500
TZOFFSETTO:-0400
RRULE:FREQ=YEARLY;BYDAY=2SU;BYMONTH=3
TZNAME:EDT
END:DAYLIGHT
BEGIN:STANDARD
DTSTART:20261101T010000
TZOFFSETFROM:-0400
TZOFFSETTO:-0500
RRULE:FREQ=YEARLY;BYDAY=1SU;BYMONTH=11
TZNAME:EST
END:STANDARD
END:VTIMEZONE
BEGIN:VEVENT
DTSTAMP:20260423T120934Z
UID:02ada5f6-55a6-4036-a7c2-664e8bc83dae
DTSTART:20260423T160000
DTEND:20260423T170000
DESCRIPTION:
LOCATION:
SUMMARY:Volunteer of the Year Reception Rockford Elementary School
END:VEVENT
BEGIN:VEVENT
DTSTAMP:20260423T120934Z
UID:c7bc04de-f0ba-4b74-a7ca-c6d361013e91
DTSTART;VALUE=DATE:20260424
DTEND;VALUE=DATE:20260425
DESCRIPTION:
LOCATION:
SUMMARY:2nd Grade Field Trip to the Farm
END:VEVENT
BEGIN:VEVENT
DTSTAMP:20260423T120934Z
UID:1c9ac023-c77a-427d-a10f-50f474949fb0
DTSTART:20260424T080000
DTEND:20260424T153000
DESCRIPTION:
LOCATION:
SUMMARY:Last Day to Pay for  or return Spring Pictures
END:VEVENT
BEGIN:VEVENT
DTSTAMP:20260423T120934Z
UID:c21fffed-5589-4696-9c98-297f3725b2d9
DTSTART;VALUE=DATE:20260425
DTEND;VALUE=DATE:20260426
DESCRIPTION:
LOCATION:251 County Home Rd\, Dobson\, NC 27017\, USA
SUMMARY:Grow Strong Spring Race 
END:VEVENT
BEGIN:VEVENT
DTSTAMP:20260423T120934Z
UID:304e1f03-da01-4841-bbb3-cd956d4cac85
DTSTART:20260428T170000
DTEND:20260428T200000
DESCRIPTION:<p>Please let them know you are there in support of Franklin El
 ementary School.  A small percentage will be donated to the school.  Thank
  you!</p>
LOCATION:705 W Independence Blvd\, Mt Airy\, NC 27030\, USA
SUMMARY:El Agrevero Spirit Night
END:VEVENT
BEGIN:VEVENT
DTSTAMP:20260423T120934Z
UID:f5ac8131-1ea9-477b-a0dd-025fb770c99d
DTSTART;VALUE=DATE:20260430
DTEND;VALUE=DATE:20260501
DESCRIPTION:
LOCATION:
SUMMARY:Progress Reports Go Home
END:VEVENT
BEGIN:VEVENT
DTSTAMP:20260423T120934Z
UID:fb8e221b-1cba-4325-ac46-11e4ea8c44d5
DTSTART;VALUE=DATE:20260501
DTEND;VALUE=DATE:20260502
DESCRIPTION:
LOCATION:
SUMMARY:DEADLINE for all Reading Logs
END:VEVENT
BEGIN:VEVENT
DTSTAMP:20260423T120934Z
UID:1931f24e-61cf-405a-8905-f85ab1374ede
DTSTART;VALUE=DATE:20260501
DTEND;VALUE=DATE:20260502
DESCRIPTION:
LOCATION:
SUMMARY:Early Release Day 1:00PM
END:VEVENT
BEGIN:VEVENT
DTSTAMP:20260423T120934Z
UID:9850b234-1c48-4f9f-ab68-e102882427a0
DTSTART:20260501T090000
DTEND:20260501T110000
DESCRIPTION:
LOCATION:
SUMMARY:PTO Playground Field Trip
END:VEVENT
BEGIN:VEVENT
DTSTAMP:20260423T120934Z
UID:c0c08a85-ce5b-4ad6-8773-8f3a7e227885
DTSTART:20260504T073000
DTEND:20260508T153000
DESCRIPTION:
LOCATION:
SUMMARY:Staff Appreciation Week 
END:VEVENT
BEGIN:VEVENT
DTSTAMP:20260423T120934Z
UID:bda8759a-d7ff-4339-a8da-4c87f85d7444
DTSTART:20260504T173000
DTEND:20260504T190000
DESCRIPTION:
LOCATION:
SUMMARY:Board of Education Meeting
END:VEVENT
BEGIN:VEVENT
DTSTAMP:20260423T120934Z
UID:2ea98dcd-d072-4d22-ac90-ac184a7ae652
DTSTART:20260505T073000
DTEND:20260509T153000
DESCRIPTION:
LOCATION:
SUMMARY:Staff Appreciation Week 
END:VEVENT
BEGIN:VEVENT
DTSTAMP:20260423T120934Z
UID:3384c8d5-04a0-4a85-a39b-9c81a54acf2f
DTSTART:20260505T180000
DTEND:20260505T193000
DESCRIPTION:
LOCATION:
SUMMARY:Middle School Transition Night
END:VEVENT
BEGIN:VEVENT
DTSTAMP:20260423T120934Z
UID:b9bcf538-30e8-46e8-9d02-c9c678260856
DTSTART:20260506T073000
DTEND:20260510T153000
DESCRIPTION:
LOCATION:
SUMMARY:Staff Appreciation Week 
END:VEVENT
BEGIN:VEVENT
DTSTAMP:20260423T120934Z
UID:91278010-d6b2-4f1b-9baa-c80b093e581b
DTSTART:20260506T080000
DTEND:20260506T090000
DESCRIPTION:
LOCATION:
SUMMARY:2nd Grade Summative Math Benchmark Assessment
END:VEVENT
BEGIN:VEVENT
DTSTAMP:20260423T120934Z
UID:fda653d8-70e3-4aea-9b49-f5a5e66c2e9d
DTSTART:20260507T073000
DTEND:20260511T153000
DESCRIPTION:
LOCATION:
SUMMARY:Staff Appreciation Week 
END:VEVENT
BEGIN:VEVENT
DTSTAMP:20260423T120934Z
UID:92a0a933-85fe-4094-bc82-807237aa23dc
DTSTART;VALUE=DATE:20260508
DTEND;VALUE=DATE:20260509
DESCRIPTION:<p>3rd - 5th Grade in the morning.</p><p>K-2nd Grade in the aft
 ernoon</p>
LOCATION:
SUMMARY:Reading Incentive Field Trip
END:VEVENT
BEGIN:VEVENT
DTSTAMP:20260423T120934Z
UID:8579d131-3fc5-4b95-9074-96daae9090b2
DTSTART:20260508T073000
DTEND:20260512T153000
DESCRIPTION:
LOCATION:
SUMMARY:Staff Appreciation Week 
END:VEVENT
BEGIN:VEVENT
DTSTAMP:20260423T120934Z
UID:9187a4c8-a45c-4bc0-8f9c-3383e70237a4
DTSTART:20260508T080000
DTEND:20260508T090000
DESCRIPTION:
LOCATION:
SUMMARY:EOG Pep Rally
END:VEVENT
BEGIN:VEVENT
DTSTAMP:20260423T120934Z
UID:88539049-ef52-4182-b0d2-186f6be1d422
DTSTART;VALUE=DATE:20260511
DTEND;VALUE=DATE:20260512
DESCRIPTION:
LOCATION:
SUMMARY:Science EOG
END:VEVENT
BEGIN:VEVENT
DTSTAMP:20260423T120934Z
UID:ef0166f9-7a90-4f2b-965f-7ab9c9447cf7
DTSTART;VALUE=DATE:20260512
DTEND;VALUE=DATE:20260513
DESCRIPTION:
LOCATION:
SUMMARY:ELA EOG
END:VEVENT
BEGIN:VEVENT
DTSTAMP:20260423T120934Z
UID:59932df6-6fb1-4886-a872-4530a2098c37
DTSTART;VALUE=DATE:20260513
DTEND;VALUE=DATE:20260514
DESCRIPTION:
LOCATION:
SUMMARY:Math EOG
END:VEVENT
BEGIN:VEVENT
DTSTAMP:20260423T120934Z
UID:47e34dc8-dd0f-4c2e-a434-4fd09ec22d7f
DTSTART;VALUE=DATE:20260514
DTEND;VALUE=DATE:20260515
DESCRIPTION:
LOCATION:
SUMMARY:Reading Retest and Remediate Math
END:VEVENT
BEGIN:VEVENT
DTSTAMP:20260423T120934Z
UID:ce8f4635-72e5-48fa-bf50-19af5022e4a3
DTSTART;VALUE=DATE:20260515
DTEND;VALUE=DATE:20260516
DESCRIPTION:
LOCATION:
SUMMARY:Math Retest/Science Retest
END:VEVENT
BEGIN:VEVENT
DTSTAMP:20260423T120934Z
UID:4848d7e8-a64c-42c8-8712-7897e097d04b
DTSTART;VALUE=DATE:20260518
DTEND;VALUE=DATE:20260519
DESCRIPTION:
LOCATION:
SUMMARY:EOG Make up testing if needed
END:VEVENT
BEGIN:VEVENT
DTSTAMP:20260423T120934Z
UID:c62ab5de-c816-4836-a5e4-59031a9cfbb0
DTSTART;VALUE=DATE:20260518
DTEND;VALUE=DATE:20260519
DESCRIPTION:
LOCATION:
SUMMARY:Bulldog Blowout
END:VEVENT
BEGIN:VEVENT
DTSTAMP:20260423T120934Z
UID:525910e9-794d-450b-8c4c-fe574982e506
DTSTART;VALUE=DATE:20260518
DTEND;VALUE=DATE:20260519
DESCRIPTION:
LOCATION:
SUMMARY:EOG Celebration
END:VEVENT
BEGIN:VEVENT
DTSTAMP:20260423T120934Z
UID:399d62a2-6e26-4440-ae97-a7b3792f7ced
DTSTART:20260518T080000
DTEND:20260518T083000
DESCRIPTION:
LOCATION:
SUMMARY:Student Leader and Bus Rider of the Month to be reconized.
END:VEVENT
BEGIN:VEVENT
DTSTAMP:20260423T120934Z
UID:858a4792-9420-430e-a888-825c28971a0d
DTSTART;VALUE=DATE:20260519
DTEND;VALUE=DATE:20260520
DESCRIPTION:
LOCATION:
SUMMARY:K-4th Grade Awards Programs
END:VEVENT
BEGIN:VEVENT
DTSTAMP:20260423T120934Z
UID:859fe1b0-8e88-4b6d-90c9-27904c178469
DTSTART:20260520T083000
DTEND:20260520T093000
DESCRIPTION:
LOCATION:
SUMMARY:5th Grade Promotion and Awards Program
END:VEVENT
BEGIN:VEVENT
DTSTAMP:20260423T120934Z
UID:b7cfa185-c7d6-42f9-ad67-f3d10abcbd2e
DTSTART:20260520T123000
DTEND:20260520T133000
DESCRIPTION:
LOCATION:
SUMMARY:Pre-K End of Year Celebration
END:VEVENT
BEGIN:VEVENT
DTSTAMP:20260423T120934Z
UID:c22cbcdb-b6ef-4151-8644-2a86235dc38f
DTSTART:20260521T113000
DTEND:20260521T120000
DESCRIPTION:
LOCATION:
SUMMARY:Pre-K Water and Bubbles Celebration
END:VEVENT
BEGIN:VEVENT
DTSTAMP:20260423T120934Z
UID:ea7062e9-843a-4626-8b1a-6cafec95c7fd
DTSTART:20260522T110000
DTEND:20260522T110000
DESCRIPTION:
LOCATION:
SUMMARY:Last Day of School    Early Dismissal 11:00am 
END:VEVENT
BEGIN:VEVENT
DTSTAMP:20260423T120934Z
UID:fa4b8f6f-d65f-4409-87a3-4c9b9ca2522e
DTSTART;VALUE=DATE:20260525
DTEND;VALUE=DATE:20260526
DESCRIPTION:
LOCATION:
SUMMARY:Memorial Day
END:VEVENT
BEGIN:VEVENT
DTSTAMP:20260423T120934Z
UID:a492ced0-ce03-4f79-8636-f22ed9e14c87
DTSTART:20260526T073000
DTEND:20260526T090000
DESCRIPTION:
LOCATION:Music Room
SUMMARY:FES Staff Breakfast
END:VEVENT
BEGIN:VEVENT
DTSTAMP:20260423T120934Z
UID:f5276b1e-b52a-415c-957b-11e01cc06e2f
DTSTART:20260526T100000
DTEND:20260526T110000
DESCRIPTION:
LOCATION:
SUMMARY:School Improvement Team Meeting
END:VEVENT
BEGIN:VEVENT
DTSTAMP:20260423T120934Z
UID:5cd523f7-b011-4a72-aba6-beb20454a340
DTSTART:20260526T170000
DTEND:20260526T200000
DESCRIPTION:<p>Please let them know you are there supporting Franklin Eleme
 ntary School and a percentage will be donated to the school.  Thank you!</
 p>
LOCATION:
SUMMARY:FES El Agrevero Spirit Night
END:VEVENT
BEGIN:VEVENT
DTSTAMP:20260423T120934Z
UID:9b6b06b5-aeed-489c-9baf-90088b8b8ea8
DTSTART:20260601T173000
DTEND:20260601T190000
DESCRIPTION:
LOCATION:
SUMMARY:Board of 
END:VEVENT
END:VCALENDAR
