BEGIN:VCALENDAR
VERSION:2.0
PRODID:icalendar-ruby
CALSCALE:GREGORIAN
BEGIN:VTIMEZONE
TZID:America/New_York
BEGIN:DAYLIGHT
DTSTART:20260308T030000
TZOFFSETFROM:-0500
TZOFFSETTO:-0400
RRULE:FREQ=YEARLY;BYDAY=2SU;BYMONTH=3
TZNAME:EDT
END:DAYLIGHT
BEGIN:STANDARD
DTSTART:20261101T010000
TZOFFSETFROM:-0400
TZOFFSETTO:-0500
RRULE:FREQ=YEARLY;BYDAY=1SU;BYMONTH=11
TZNAME:EST
END:STANDARD
END:VTIMEZONE
BEGIN:VEVENT
DTSTAMP:20260423T171030Z
UID:553c6f74-0378-417e-b150-b2a2e74a8428
DTSTART:20260424T080000
DTEND:20260424T090000
DESCRIPTION:
LOCATION:
SUMMARY:Kindergarten Field Trip
END:VEVENT
BEGIN:VEVENT
DTSTAMP:20260423T171030Z
UID:5e288758-82e7-4327-8bd5-8784c65e2ef9
DTSTART:20260424T080000
DTEND:20260424T090000
DESCRIPTION:
LOCATION:
SUMMARY:Pre-K Field Trip
END:VEVENT
BEGIN:VEVENT
DTSTAMP:20260423T171030Z
UID:b323842f-adb9-4bfb-9a72-be9ea8c358ac
DTSTART:20260425T080000
DTEND:20260425T100000
DESCRIPTION:
LOCATION:
SUMMARY:MAD Dash 5k
END:VEVENT
BEGIN:VEVENT
DTSTAMP:20260423T171030Z
UID:2cc2d3a8-b195-4b0c-8d14-206ae0283df2
DTSTART:20260428T173000
DTEND:20260428T194500
DESCRIPTION:
LOCATION:
SUMMARY:Incredible Years Program
END:VEVENT
BEGIN:VEVENT
DTSTAMP:20260423T171030Z
UID:08c26ee1-aab4-4955-8f70-5d6adb225354
DTSTART:20260430T180000
DTEND:20260430T200000
DESCRIPTION:
LOCATION:
SUMMARY:Sunset Slush Spirit Night
END:VEVENT
BEGIN:VEVENT
DTSTAMP:20260423T171030Z
UID:1d168513-8f30-469d-a387-e4f454bdfe15
DTSTART:20260501T130000
DTEND:20260501T131500
DESCRIPTION:
LOCATION:
SUMMARY:Early Release
END:VEVENT
BEGIN:VEVENT
DTSTAMP:20260423T171030Z
UID:5d381f9d-f50c-4051-9c99-099c3624be96
DTSTART:20260505T170000
DTEND:20260505T210000
DESCRIPTION:
LOCATION:2123 Rockford St\, Mt Airy\, NC 27030\, USA
SUMMARY:Tlaquepaque Spirit Night 
END:VEVENT
BEGIN:VEVENT
DTSTAMP:20260423T171030Z
UID:264569a6-b31d-46f8-a2d9-f943e594ab7e
DTSTART:20260505T180000
DTEND:20260505T200000
DESCRIPTION:
LOCATION:
SUMMARY:5th Grade MMMS Transition Night 
END:VEVENT
BEGIN:VEVENT
DTSTAMP:20260423T171030Z
UID:9b474df7-d75b-4078-9e30-fa0b8f556b36
DTSTART:20260507T123000
DTEND:20260507T140000
DESCRIPTION:
LOCATION:
SUMMARY:2nd & 3rd Grade Field Trip
END:VEVENT
BEGIN:VEVENT
DTSTAMP:20260423T171030Z
UID:1ffcfaeb-7a9c-4942-bcdc-a5864370dd0b
DTSTART:20260508T080000
DTEND:20260508T143000
DESCRIPTION:
LOCATION:
SUMMARY:Field Day
END:VEVENT
BEGIN:VEVENT
DTSTAMP:20260423T171030Z
UID:459cfb58-4f8a-4534-acb1-b5de431300c4
DTSTART:20260512T080000
DTEND:20260512T090000
DESCRIPTION:
LOCATION:
SUMMARY:ELA EOG
END:VEVENT
BEGIN:VEVENT
DTSTAMP:20260423T171030Z
UID:bf97f97a-1554-4876-a986-246b9d958d8c
DTSTART:20260513T080000
DTEND:20260513T090000
DESCRIPTION:
LOCATION:
SUMMARY:Math EOG
END:VEVENT
BEGIN:VEVENT
DTSTAMP:20260423T171030Z
UID:10f48935-1cbc-47a5-8f9f-a6aed7553c61
DTSTART:20260514T080000
DTEND:20260514T090000
DESCRIPTION:
LOCATION:
SUMMARY:2nd Grade Field Trip
END:VEVENT
BEGIN:VEVENT
DTSTAMP:20260423T171030Z
UID:4b6c5a0e-ea54-418c-9507-e6821105e520
DTSTART:20260514T080000
DTEND:20260514T090000
DESCRIPTION:
LOCATION:
SUMMARY:5th Grade Science EOG
END:VEVENT
BEGIN:VEVENT
DTSTAMP:20260423T171030Z
UID:6ffec6ad-12a4-4870-bd30-18b9bb54f22e
DTSTART:20260515T080000
DTEND:20260515T090000
DESCRIPTION:
LOCATION:
SUMMARY:Kindergarten Field Trip
END:VEVENT
BEGIN:VEVENT
DTSTAMP:20260423T171030Z
UID:138d7122-b4bf-41bc-94b3-c9ba2a5fb609
DTSTART:20260519T080000
DTEND:20260519T090000
DESCRIPTION:
LOCATION:
SUMMARY:Pre-K-4th grade Awards Day
END:VEVENT
BEGIN:VEVENT
DTSTAMP:20260423T171030Z
UID:6ce09451-671d-4504-a84f-86b4f3d083bd
DTSTART:20260520T080000
DTEND:20260520T090000
DESCRIPTION:
LOCATION:
SUMMARY:Wet n' Wild Dragon Day
END:VEVENT
BEGIN:VEVENT
DTSTAMP:20260423T171030Z
UID:d2218d91-b0c1-4504-8a8d-e26c4107b892
DTSTART:20260521T080000
DTEND:20260521T090000
DESCRIPTION:
LOCATION:
SUMMARY:5th Grade Graduation
END:VEVENT
BEGIN:VEVENT
DTSTAMP:20260423T171030Z
UID:88213243-8a94-49a3-b6bd-7fb7f8ac0876
DTSTART:20260522T073000
DTEND:20260522T110000
DESCRIPTION:
LOCATION:
SUMMARY:Last Day of School-Dissmiss at 11:00am
END:VEVENT
END:VCALENDAR
