BEGIN:VCALENDAR
VERSION:2.0
PRODID:icalendar-ruby
CALSCALE:GREGORIAN
BEGIN:VTIMEZONE
TZID:America/New_York
BEGIN:DAYLIGHT
DTSTART:20260308T030000
TZOFFSETFROM:-0500
TZOFFSETTO:-0400
RRULE:FREQ=YEARLY;BYDAY=2SU;BYMONTH=3
TZNAME:EDT
END:DAYLIGHT
BEGIN:STANDARD
DTSTART:20261101T010000
TZOFFSETFROM:-0400
TZOFFSETTO:-0500
RRULE:FREQ=YEARLY;BYDAY=1SU;BYMONTH=11
TZNAME:EST
END:STANDARD
END:VTIMEZONE
BEGIN:VEVENT
DTSTAMP:20260423T101547Z
UID:27cdfdb1-bfe6-43f6-8f40-c93d9c7e79e6
DTSTART:20260423T163000
DTEND:20260423T183000
DESCRIPTION:
LOCATION:
SUMMARY:Track @ West Stokes
END:VEVENT
BEGIN:VEVENT
DTSTAMP:20260423T101547Z
UID:2ef6f319-b922-4c2f-8fad-8c2566939933
DTSTART:20260424T080000
DTEND:20260424T100000
DESCRIPTION:
LOCATION:
SUMMARY:Cap & Gown Pictures
END:VEVENT
BEGIN:VEVENT
DTSTAMP:20260423T101547Z
UID:cb7572dc-a645-4755-98cb-aba326364e45
DTSTART:20260424T080000
DTEND:20260424T090000
DESCRIPTION:
LOCATION:
SUMMARY:Report Cards Go Home!!
END:VEVENT
BEGIN:VEVENT
DTSTAMP:20260423T101547Z
UID:2abbc6cf-85d8-408f-a415-d7bb1d994a45
DTSTART:20260424T163000
DTEND:20260424T203000
DESCRIPTION:
LOCATION:
SUMMARY:Baseball @ West Stokes
END:VEVENT
BEGIN:VEVENT
DTSTAMP:20260423T101547Z
UID:992770fa-04bd-44ca-9a2d-047cbc53666c
DTSTART:20260424T180000
DTEND:20260424T200000
DESCRIPTION:
LOCATION:
SUMMARY:Softball vs Mt. Airy (Varsity only)
END:VEVENT
BEGIN:VEVENT
DTSTAMP:20260423T101547Z
UID:4c7d141b-d972-405a-9462-70bd581133bb
DTSTART:20260424T180000
DTEND:20260424T200000
DESCRIPTION:
LOCATION:
SUMMARY:Women's Soccer @ Mt. Airy
END:VEVENT
BEGIN:VEVENT
DTSTAMP:20260423T101547Z
UID:01e238b2-d6ce-41ea-a21b-87e8e04ce670
DTSTART:20260425T090000
DTEND:20260425T110000
DESCRIPTION:
LOCATION:
SUMMARY:Softball/Baseball All-Conference Meeting @ Surry Central
END:VEVENT
BEGIN:VEVENT
DTSTAMP:20260423T101547Z
UID:feba8038-10c7-429c-a1dd-6d09b12651ef
DTSTART;VALUE=DATE:20260501
DTEND;VALUE=DATE:20260502
DESCRIPTION:
LOCATION:
SUMMARY:1:00pm Early Dismissal for Students
END:VEVENT
BEGIN:VEVENT
DTSTAMP:20260423T101547Z
UID:651ce47c-9e21-43f2-896a-76b79a08c6da
DTSTART:20260508T090000
DTEND:20260508T110000
DESCRIPTION:
LOCATION:Robert L. Smith Gymnasium-East Surry High School
SUMMARY:Awards Day
END:VEVENT
BEGIN:VEVENT
DTSTAMP:20260423T101547Z
UID:56ceb436-1742-486f-a6ea-45dc0faac789
DTSTART;VALUE=DATE:20260522
DTEND;VALUE=DATE:20260523
DESCRIPTION:
LOCATION:
SUMMARY:Last Day of School - 11:00am Early Dismissal
END:VEVENT
BEGIN:VEVENT
DTSTAMP:20260423T101547Z
UID:2736cad7-fd85-46da-8525-b46f53ed7ad1
DTSTART:20260522T190000
DTEND:20260522T210000
DESCRIPTION:
LOCATION:
SUMMARY:Graduation
END:VEVENT
END:VCALENDAR
