BEGIN:VCALENDAR
VERSION:2.0
PRODID:icalendar-ruby
CALSCALE:GREGORIAN
BEGIN:VTIMEZONE
TZID:America/New_York
BEGIN:DAYLIGHT
DTSTART:20260308T030000
TZOFFSETFROM:-0500
TZOFFSETTO:-0400
RRULE:FREQ=YEARLY;BYDAY=2SU;BYMONTH=3
TZNAME:EDT
END:DAYLIGHT
BEGIN:STANDARD
DTSTART:20261101T010000
TZOFFSETFROM:-0400
TZOFFSETTO:-0500
RRULE:FREQ=YEARLY;BYDAY=1SU;BYMONTH=11
TZNAME:EST
END:STANDARD
END:VTIMEZONE
BEGIN:VEVENT
DTSTAMP:20260423T120907Z
UID:79e68329-86a9-410f-b313-7737a5cdabeb
DTSTART;VALUE=DATE:20260423
DTEND;VALUE=DATE:20260424
DESCRIPTION:
LOCATION:
SUMMARY:2nd Grade to AGP
END:VEVENT
BEGIN:VEVENT
DTSTAMP:20260423T120907Z
UID:1f227a8d-a16c-487a-bd88-ef5230519541
DTSTART;VALUE=DATE:20260424
DTEND;VALUE=DATE:20260425
DESCRIPTION:
LOCATION:
SUMMARY:Progress Reports
END:VEVENT
BEGIN:VEVENT
DTSTAMP:20260423T120907Z
UID:576e416d-1ea0-4a2c-b9f3-bec294328c29
DTSTART;VALUE=DATE:20260425
DTEND;VALUE=DATE:20260426
DESCRIPTION:
LOCATION:
SUMMARY:SCS Mad Dash 5K
END:VEVENT
BEGIN:VEVENT
DTSTAMP:20260423T120907Z
UID:6a7f16ef-8a0f-4586-94b2-2ea8c2dca02b
DTSTART;VALUE=DATE:20260427
DTEND;VALUE=DATE:20260502
DESCRIPTION:
LOCATION:
SUMMARY:Autism Awareness Week
END:VEVENT
BEGIN:VEVENT
DTSTAMP:20260423T120907Z
UID:1b6eba98-9e2d-4cb7-8e4b-1d2248eccbc0
DTSTART;VALUE=DATE:20260427
DTEND;VALUE=DATE:20260502
DESCRIPTION:
LOCATION:
SUMMARY:Child Abuse Prevention Awareness Week
END:VEVENT
BEGIN:VEVENT
DTSTAMP:20260423T120907Z
UID:568988f0-18c7-4ffe-9738-54a9ba5a52f2
DTSTART;VALUE=DATE:20260501
DTEND;VALUE=DATE:20260502
DESCRIPTION:
LOCATION:
SUMMARY:Early Dismissal at 1:00
END:VEVENT
BEGIN:VEVENT
DTSTAMP:20260423T120907Z
UID:049a3106-d991-4de6-81c5-90ec4f17b670
DTSTART;VALUE=DATE:20260504
DTEND;VALUE=DATE:20260509
DESCRIPTION:
LOCATION:
SUMMARY:Staff Appreciation Week
END:VEVENT
BEGIN:VEVENT
DTSTAMP:20260423T120907Z
UID:dc1e76db-8716-4b6d-8af8-85fe17df9795
DTSTART;VALUE=DATE:20260505
DTEND;VALUE=DATE:20260506
DESCRIPTION:
LOCATION:
SUMMARY:Cinco de Mayo
END:VEVENT
BEGIN:VEVENT
DTSTAMP:20260423T120907Z
UID:3f017cf0-6581-4129-8ae9-df12b4802f27
DTSTART;VALUE=DATE:20260506
DTEND;VALUE=DATE:20260507
DESCRIPTION:
LOCATION:
SUMMARY:Chorus to AGP
END:VEVENT
BEGIN:VEVENT
DTSTAMP:20260423T120907Z
UID:34c6e02a-fd6c-47a3-a10f-2a97c3163b93
DTSTART;VALUE=DATE:20260506
DTEND;VALUE=DATE:20260507
DESCRIPTION:
LOCATION:
SUMMARY:School Nurse Day
END:VEVENT
BEGIN:VEVENT
DTSTAMP:20260423T120907Z
UID:603d42a2-9196-4509-ac30-0b04777a77ac
DTSTART:20260507T150000
DTEND:20260507T160000
DESCRIPTION:
LOCATION:
SUMMARY:Student Council
END:VEVENT
BEGIN:VEVENT
DTSTAMP:20260423T120907Z
UID:c59bee54-f8e7-4e36-a468-8e4cd479c568
DTSTART;VALUE=DATE:20260510
DTEND;VALUE=DATE:20260511
DESCRIPTION:
LOCATION:
SUMMARY:Mother's Day
END:VEVENT
BEGIN:VEVENT
DTSTAMP:20260423T120907Z
UID:ee1c913d-22d7-4949-b187-69fbd54554e0
DTSTART;VALUE=DATE:20260512
DTEND;VALUE=DATE:20260513
DESCRIPTION:
LOCATION:
SUMMARY:ELA EOG
END:VEVENT
BEGIN:VEVENT
DTSTAMP:20260423T120907Z
UID:65e1ad8f-8ef8-4208-9b18-e8f11a3cce05
DTSTART;VALUE=DATE:20260513
DTEND;VALUE=DATE:20260514
DESCRIPTION:
LOCATION:
SUMMARY:Math EOG
END:VEVENT
BEGIN:VEVENT
DTSTAMP:20260423T120907Z
UID:ca7edee1-2831-4f3e-abbe-5b3f88d2d445
DTSTART;VALUE=DATE:20260514
DTEND;VALUE=DATE:20260515
DESCRIPTION:
LOCATION:
SUMMARY:Science EOG
END:VEVENT
BEGIN:VEVENT
DTSTAMP:20260423T120907Z
UID:a8052844-1c54-423b-9fc0-579ba5788f40
DTSTART;VALUE=DATE:20260518
DTEND;VALUE=DATE:20260519
DESCRIPTION:
LOCATION:
SUMMARY:ROAR at Splash Pad
END:VEVENT
BEGIN:VEVENT
DTSTAMP:20260423T120907Z
UID:18fa755e-8f5a-4977-98b2-2f2ffaa8f46a
DTSTART;VALUE=DATE:20260519
DTEND;VALUE=DATE:20260520
DESCRIPTION:
LOCATION:
SUMMARY:PreK-2nd to The Farm
END:VEVENT
BEGIN:VEVENT
DTSTAMP:20260423T120907Z
UID:6053a9c6-8f22-4395-bfe1-9295322f913a
DTSTART;VALUE=DATE:20260520
DTEND;VALUE=DATE:20260521
DESCRIPTION:
LOCATION:
SUMMARY:3-5 to The Farm
END:VEVENT
BEGIN:VEVENT
DTSTAMP:20260423T120907Z
UID:e4e57370-c49f-4a1f-8caf-3c5eefdb6f66
DTSTART;VALUE=DATE:20260521
DTEND;VALUE=DATE:20260522
DESCRIPTION:
LOCATION:
SUMMARY:K-4th Grade Awards
END:VEVENT
BEGIN:VEVENT
DTSTAMP:20260423T120907Z
UID:99c51060-2899-4f7f-995a-608735f8b3d6
DTSTART;VALUE=DATE:20260521
DTEND;VALUE=DATE:20260522
DESCRIPTION:
LOCATION:
SUMMARY:K-4th Grade Awards
END:VEVENT
BEGIN:VEVENT
DTSTAMP:20260423T120907Z
UID:3116b1ba-3d39-4151-9030-0da6866bf073
DTSTART;VALUE=DATE:20260522
DTEND;VALUE=DATE:20260523
DESCRIPTION:
LOCATION:
SUMMARY:Early Dismissal at 1:00
END:VEVENT
BEGIN:VEVENT
DTSTAMP:20260423T120907Z
UID:768771e5-c115-48e9-a3df-e627ffbae5dd
DTSTART;VALUE=DATE:20260522
DTEND;VALUE=DATE:20260523
DESCRIPTION:
LOCATION:
SUMMARY:Last Day of School!
END:VEVENT
BEGIN:VEVENT
DTSTAMP:20260423T120907Z
UID:f4fa5d8f-6a74-46d9-955e-5664e0b4b569
DTSTART:20260522T083000
DTEND:20260522T093000
DESCRIPTION:
LOCATION:
SUMMARY:5th Grade Graduation
END:VEVENT
BEGIN:VEVENT
DTSTAMP:20260423T120907Z
UID:a927bbe1-82eb-4adb-a17b-e55342dbb859
DTSTART;VALUE=DATE:20260525
DTEND;VALUE=DATE:20260526
DESCRIPTION:
LOCATION:
SUMMARY:Memorial Day
END:VEVENT
END:VCALENDAR
