BEGIN:VCALENDAR
VERSION:2.0
PRODID:icalendar-ruby
CALSCALE:GREGORIAN
BEGIN:VTIMEZONE
TZID:America/New_York
BEGIN:DAYLIGHT
DTSTART:20260308T030000
TZOFFSETFROM:-0500
TZOFFSETTO:-0400
RRULE:FREQ=YEARLY;BYDAY=2SU;BYMONTH=3
TZNAME:EDT
END:DAYLIGHT
BEGIN:STANDARD
DTSTART:20261101T010000
TZOFFSETFROM:-0400
TZOFFSETTO:-0500
RRULE:FREQ=YEARLY;BYDAY=1SU;BYMONTH=11
TZNAME:EST
END:STANDARD
END:VTIMEZONE
BEGIN:VEVENT
DTSTAMP:20260423T101506Z
UID:b5621bfd-3c62-45c1-b0ff-bed2e829dcfc
DTSTART;VALUE=DATE:20260401
DTEND;VALUE=DATE:20260501
DESCRIPTION:
LOCATION:
SUMMARY:Child Abuse Prevention Month
END:VEVENT
BEGIN:VEVENT
DTSTAMP:20260423T101506Z
UID:9b1c35c3-84d1-4ce2-b0a2-4417c8309db7
DTSTART;VALUE=DATE:20260428
DTEND;VALUE=DATE:20260429
DESCRIPTION:
LOCATION:
SUMMARY:School Bus Driver Day
END:VEVENT
END:VCALENDAR
