BEGIN:VCALENDAR
VERSION:2.0
PRODID:icalendar-ruby
CALSCALE:GREGORIAN
BEGIN:VTIMEZONE
TZID:America/New_York
BEGIN:DAYLIGHT
DTSTART:20260308T030000
TZOFFSETFROM:-0500
TZOFFSETTO:-0400
RRULE:FREQ=YEARLY;BYDAY=2SU;BYMONTH=3
TZNAME:EDT
END:DAYLIGHT
BEGIN:STANDARD
DTSTART:20261101T010000
TZOFFSETFROM:-0400
TZOFFSETTO:-0500
RRULE:FREQ=YEARLY;BYDAY=1SU;BYMONTH=11
TZNAME:EST
END:STANDARD
END:VTIMEZONE
BEGIN:VEVENT
DTSTAMP:20260423T101640Z
UID:452dc60c-24fb-4b74-814b-84f7ba24ae46
DTSTART;VALUE=DATE:20260423
DTEND;VALUE=DATE:20260424
DESCRIPTION:
LOCATION:
SUMMARY:Progress Reports go Home
END:VEVENT
BEGIN:VEVENT
DTSTAMP:20260423T101640Z
UID:6390eba3-0685-45ff-81ae-7b3a5eef6437
DTSTART:20260423T160000
DTEND:20260423T170000
DESCRIPTION:
LOCATION:
SUMMARY:Tennis vs Mt. Airy
END:VEVENT
BEGIN:VEVENT
DTSTAMP:20260423T101640Z
UID:05460d98-38bf-4c8b-adcb-a93c84e51af5
DTSTART:20260425T080000
DTEND:20260425T120000
DESCRIPTION:
LOCATION:Surry Community College\, 630 S Main St\, Dobson\, NC 27017\, USA
SUMMARY:MADD Dash 5K
END:VEVENT
BEGIN:VEVENT
DTSTAMP:20260423T101640Z
UID:1e8bbd0b-62d1-4900-887c-7aa7f77eb871
DTSTART;VALUE=DATE:20260428
DTEND;VALUE=DATE:20260429
DESCRIPTION:
LOCATION:
SUMMARY:BB/SB- Conference Tournament Semis
END:VEVENT
BEGIN:VEVENT
DTSTAMP:20260423T101640Z
UID:a3d30093-c6d7-4bb8-ad6c-b2758b1d136a
DTSTART:20260501T130000
DTEND:20260501T140000
DESCRIPTION:
LOCATION:
SUMMARY:Early Dismissal-
END:VEVENT
BEGIN:VEVENT
DTSTAMP:20260423T101640Z
UID:60b028de-0cc9-4b08-afec-43484f513cf6
DTSTART:20260504T173000
DTEND:20260504T193000
DESCRIPTION:
LOCATION:Surry County Service Center - Training Center\, 915 E Atkins St\, 
 Dobson\, NC 27017\, USA
SUMMARY:BOE Meeting
END:VEVENT
BEGIN:VEVENT
DTSTAMP:20260423T101640Z
UID:624ba2c3-6afc-4211-a842-e5e2e083b875
DTSTART:20260505T180000
DTEND:20260505T190000
DESCRIPTION:
LOCATION:Central Middle School\, 883 Zephyr Rd\, Dobson\, NC 27017\, USA
SUMMARY:Middle School Transition Night
END:VEVENT
BEGIN:VEVENT
DTSTAMP:20260423T101640Z
UID:3480952c-8c80-4e33-8b8a-560f1ad531f5
DTSTART:20260519T110000
DTEND:20260519T150000
DESCRIPTION:
LOCATION:
SUMMARY:EOG Reward Day- 1 hr/grade
END:VEVENT
BEGIN:VEVENT
DTSTAMP:20260423T101640Z
UID:c6304ad7-6136-4af8-95cd-f8c0ed19a2b3
DTSTART:20260520T090000
DTEND:20260520T120000
DESCRIPTION:
LOCATION:
SUMMARY:8th Grade Celebration
END:VEVENT
BEGIN:VEVENT
DTSTAMP:20260423T101640Z
UID:fcc484a2-96b9-4499-8e77-36c15cf0a466
DTSTART:20260520T120000
DTEND:20260520T150000
DESCRIPTION:
LOCATION:
SUMMARY:Dodgeball Tournament
END:VEVENT
BEGIN:VEVENT
DTSTAMP:20260423T101640Z
UID:3d80a82c-2fef-4656-8747-f1d30e204f6e
DTSTART:20260521T083000
DTEND:20260521T103000
DESCRIPTION:
LOCATION:
SUMMARY:Academic Awards
END:VEVENT
BEGIN:VEVENT
DTSTAMP:20260423T101640Z
UID:b842c927-c01c-4a6c-a7d7-4b1a18ccd98f
DTSTART:20260521T130000
DTEND:20260521T143000
DESCRIPTION:
LOCATION:
SUMMARY:Athletic Awards
END:VEVENT
BEGIN:VEVENT
DTSTAMP:20260423T101640Z
UID:8370371f-02f0-4de5-a9f3-0c822c9ba078
DTSTART:20260522T110000
DTEND:20260522T120000
DESCRIPTION:
LOCATION:
SUMMARY:Last Day of School- Dismiss
END:VEVENT
BEGIN:VEVENT
DTSTAMP:20260423T101640Z
UID:654b1bf9-708e-4623-9a8a-83ad77298e7c
DTSTART:20260601T173000
DTEND:20260601T193000
DESCRIPTION:
LOCATION:Administrative Office Boardroom\, 209 N Crutchfield St\, Dobson\, 
 NC 27017\, USA
SUMMARY:BOE Meeting
END:VEVENT
BEGIN:VEVENT
DTSTAMP:20260423T101640Z
UID:1a312ada-8dbf-4608-9e10-9aa5202eca79
DTSTART;VALUE=DATE:20260609
DTEND;VALUE=DATE:20260610
DESCRIPTION:
LOCATION:
SUMMARY:Tentative Report Card Distribution Date
END:VEVENT
END:VCALENDAR
