BEGIN:VCALENDAR
VERSION:2.0
PRODID:icalendar-ruby
CALSCALE:GREGORIAN
BEGIN:VTIMEZONE
TZID:America/New_York
BEGIN:DAYLIGHT
DTSTART:20260308T030000
TZOFFSETFROM:-0500
TZOFFSETTO:-0400
RRULE:FREQ=YEARLY;BYDAY=2SU;BYMONTH=3
TZNAME:EDT
END:DAYLIGHT
BEGIN:STANDARD
DTSTART:20261101T010000
TZOFFSETFROM:-0400
TZOFFSETTO:-0500
RRULE:FREQ=YEARLY;BYDAY=1SU;BYMONTH=11
TZNAME:EST
END:STANDARD
END:VTIMEZONE
BEGIN:VEVENT
DTSTAMP:20260423T101815Z
UID:1a722395-0fad-46f0-b72b-20f69badb804
DTSTART;VALUE=DATE:20260420
DTEND;VALUE=DATE:20260425
DESCRIPTION:
LOCATION:
SUMMARY:Week B(Media\, Computer\, Music\, PE)
END:VEVENT
BEGIN:VEVENT
DTSTAMP:20260423T101815Z
UID:0404a5ee-5120-4859-a0ca-665329b15951
DTSTART;VALUE=DATE:20260423
DTEND;VALUE=DATE:20260424
DESCRIPTION:
LOCATION:
SUMMARY:Day 4 Specials
END:VEVENT
BEGIN:VEVENT
DTSTAMP:20260423T101815Z
UID:bb520cf3-f5be-4851-a992-50d055e69dcb
DTSTART;VALUE=DATE:20260423
DTEND;VALUE=DATE:20260424
DESCRIPTION:
LOCATION:
SUMMARY:Progress Reports Go Home
END:VEVENT
BEGIN:VEVENT
DTSTAMP:20260423T101815Z
UID:d008554c-27a5-48fd-b3ec-9154c87cfb8d
DTSTART;VALUE=DATE:20260424
DTEND;VALUE=DATE:20260425
DESCRIPTION:
LOCATION:
SUMMARY:Leaders For Life Club Day
END:VEVENT
BEGIN:VEVENT
DTSTAMP:20260423T101815Z
UID:91d59846-3f8b-4ca1-b0e5-1b3b440da820
DTSTART;VALUE=DATE:20260425
DTEND;VALUE=DATE:20260426
DESCRIPTION:
LOCATION:
SUMMARY:Mad Dash 5K Race
END:VEVENT
BEGIN:VEVENT
DTSTAMP:20260423T101815Z
UID:8a564090-6a9a-4bcb-8118-1dcc344cd9f7
DTSTART;VALUE=DATE:20260427
DTEND;VALUE=DATE:20260428
DESCRIPTION:
LOCATION:
SUMMARY:Day 1 Specials
END:VEVENT
BEGIN:VEVENT
DTSTAMP:20260423T101815Z
UID:000dc3d4-f731-49cc-829a-455133147ee9
DTSTART;VALUE=DATE:20260427
DTEND;VALUE=DATE:20260502
DESCRIPTION:
LOCATION:
SUMMARY:Week A(Guidance\, Art\, PE\, Computer)
END:VEVENT
BEGIN:VEVENT
DTSTAMP:20260423T101815Z
UID:e08dce51-f451-412d-87b5-f8bbc8c3428d
DTSTART:20260427T150000
DTEND:20260427T160000
DESCRIPTION:
LOCATION:
SUMMARY:Student Council Meeting
END:VEVENT
BEGIN:VEVENT
DTSTAMP:20260423T101815Z
UID:6f1fcb1d-5af9-413f-9a74-c7f33667dee0
DTSTART;VALUE=DATE:20260428
DTEND;VALUE=DATE:20260429
DESCRIPTION:
LOCATION:
SUMMARY:Day 2 Specials
END:VEVENT
BEGIN:VEVENT
DTSTAMP:20260423T101815Z
UID:5fcec311-56bf-4c43-8fa2-89efce3dcbd8
DTSTART:20260428T090000
DTEND:20260428T120000
DESCRIPTION:
LOCATION:
SUMMARY:SCS Board Visit
END:VEVENT
BEGIN:VEVENT
DTSTAMP:20260423T101815Z
UID:96a26afd-2620-4512-9562-f71c525fdd81
DTSTART;VALUE=DATE:20260429
DTEND;VALUE=DATE:20260430
DESCRIPTION:
LOCATION:
SUMMARY:Day 3 Specials
END:VEVENT
BEGIN:VEVENT
DTSTAMP:20260423T101815Z
UID:a8c52c79-a97e-4a3d-b13d-1f604bb44931
DTSTART;VALUE=DATE:20260430
DTEND;VALUE=DATE:20260501
DESCRIPTION:
LOCATION:
SUMMARY:Bus Rider/Class of the Month Recognition
END:VEVENT
BEGIN:VEVENT
DTSTAMP:20260423T101815Z
UID:cc6ffbfd-92a4-4e1c-aec9-48833e2cfb19
DTSTART;VALUE=DATE:20260430
DTEND;VALUE=DATE:20260501
DESCRIPTION:
LOCATION:
SUMMARY:Day 4 Specials
END:VEVENT
BEGIN:VEVENT
DTSTAMP:20260423T101815Z
UID:07cad921-53da-4e3d-a3ca-c49cd3c10527
DTSTART:20260430T141500
DTEND:20260430T144500
DESCRIPTION:
LOCATION:
SUMMARY:Student Leader of the Month Celebration
END:VEVENT
BEGIN:VEVENT
DTSTAMP:20260423T101815Z
UID:33eb9017-3a67-4832-9e9f-8592b55850c6
DTSTART;VALUE=DATE:20260501
DTEND;VALUE=DATE:20260502
DESCRIPTION:
LOCATION:
SUMMARY:Student Council EOY Breakfast 
END:VEVENT
BEGIN:VEVENT
DTSTAMP:20260423T101815Z
UID:54891c4c-aebe-48a5-868f-f361f52289c3
DTSTART:20260501T130000
DTEND:20260501T130000
DESCRIPTION:
LOCATION:
SUMMARY:Early Dismissal @ 1:00
END:VEVENT
BEGIN:VEVENT
DTSTAMP:20260423T101815Z
UID:347431c5-d808-4967-9338-f3ed1ec4b9f5
DTSTART;VALUE=DATE:20260504
DTEND;VALUE=DATE:20260505
DESCRIPTION:
LOCATION:
SUMMARY:Day 1 Specials
END:VEVENT
BEGIN:VEVENT
DTSTAMP:20260423T101815Z
UID:f5cd00ee-bbae-48e1-9e97-9b9c47bd6b91
DTSTART;VALUE=DATE:20260504
DTEND;VALUE=DATE:20260509
DESCRIPTION:
LOCATION:
SUMMARY:Week B(Media\, Computer\, Music\, PE)
END:VEVENT
BEGIN:VEVENT
DTSTAMP:20260423T101815Z
UID:36011271-6811-40a4-92d8-b273f83e3d74
DTSTART;VALUE=DATE:20260505
DTEND;VALUE=DATE:20260506
DESCRIPTION:
LOCATION:
SUMMARY:Day 2 Specials
END:VEVENT
BEGIN:VEVENT
DTSTAMP:20260423T101815Z
UID:686abeb9-c26e-4ed0-8d7c-0d770e8f7ca3
DTSTART;VALUE=DATE:20260505
DTEND;VALUE=DATE:20260506
DESCRIPTION:
LOCATION:
SUMMARY:Field Day
END:VEVENT
BEGIN:VEVENT
DTSTAMP:20260423T101815Z
UID:c971361f-e21a-461c-92ba-4f427417266e
DTSTART;VALUE=DATE:20260505
DTEND;VALUE=DATE:20260506
DESCRIPTION:
LOCATION:
SUMMARY:Middle School Transition Night
END:VEVENT
BEGIN:VEVENT
DTSTAMP:20260423T101815Z
UID:5f527e12-fd6b-4fb5-a7fc-729db2fa9cbd
DTSTART;VALUE=DATE:20260506
DTEND;VALUE=DATE:20260507
DESCRIPTION:
LOCATION:
SUMMARY:Day 3 Specials
END:VEVENT
BEGIN:VEVENT
DTSTAMP:20260423T101815Z
UID:8e468ff5-7f63-47aa-8f5d-5e812440cc60
DTSTART;VALUE=DATE:20260507
DTEND;VALUE=DATE:20260508
DESCRIPTION:
LOCATION:
SUMMARY:Day 4 Specials
END:VEVENT
BEGIN:VEVENT
DTSTAMP:20260423T101815Z
UID:5cf53aad-c291-4061-8217-d6792a9fe87e
DTSTART:20260507T130000
DTEND:20260507T134500
DESCRIPTION:
LOCATION:
SUMMARY:3-5 Pep Rally
END:VEVENT
BEGIN:VEVENT
DTSTAMP:20260423T101815Z
UID:2c008086-35e2-4c91-80f4-e0a7ca0b15c5
DTSTART;VALUE=DATE:20260508
DTEND;VALUE=DATE:20260509
DESCRIPTION:
LOCATION:
SUMMARY:All Library Books Are Due
END:VEVENT
BEGIN:VEVENT
DTSTAMP:20260423T101815Z
UID:72cf30a5-f152-4e0f-87cf-dd0ee65f8b9e
DTSTART;VALUE=DATE:20260511
DTEND;VALUE=DATE:20260512
DESCRIPTION:
LOCATION:
SUMMARY:5th Grade Science EOG
END:VEVENT
BEGIN:VEVENT
DTSTAMP:20260423T101815Z
UID:cdb8b8d8-bd39-4794-aa56-368b32007e22
DTSTART;VALUE=DATE:20260511
DTEND;VALUE=DATE:20260512
DESCRIPTION:
LOCATION:
SUMMARY:Day 1 Specials
END:VEVENT
BEGIN:VEVENT
DTSTAMP:20260423T101815Z
UID:e96cef4f-5f1f-47a7-a46b-e95d9de3b725
DTSTART;VALUE=DATE:20260511
DTEND;VALUE=DATE:20260516
DESCRIPTION:
LOCATION:
SUMMARY:Week A(Guidance\, Art\, PE\, Computer)
END:VEVENT
BEGIN:VEVENT
DTSTAMP:20260423T101815Z
UID:4fcf3bcd-b9a2-4470-a27c-2665f1fc3414
DTSTART:20260511T151500
DTEND:20260511T161500
DESCRIPTION:
LOCATION:
SUMMARY:SIT Meeting
END:VEVENT
BEGIN:VEVENT
DTSTAMP:20260423T101815Z
UID:5be4ee35-88fd-438e-8bab-9327b9495423
DTSTART;VALUE=DATE:20260512
DTEND;VALUE=DATE:20260513
DESCRIPTION:
LOCATION:
SUMMARY:3rd-5th ELA EOG
END:VEVENT
BEGIN:VEVENT
DTSTAMP:20260423T101815Z
UID:afee89f4-fcbf-4f08-a012-eeb30519da66
DTSTART;VALUE=DATE:20260512
DTEND;VALUE=DATE:20260513
DESCRIPTION:
LOCATION:
SUMMARY:Day 2 Specials
END:VEVENT
BEGIN:VEVENT
DTSTAMP:20260423T101815Z
UID:a534cc52-cbca-4e1b-a034-19dde8b08534
DTSTART;VALUE=DATE:20260513
DTEND;VALUE=DATE:20260514
DESCRIPTION:
LOCATION:
SUMMARY:3rd-5th Math EOG
END:VEVENT
BEGIN:VEVENT
DTSTAMP:20260423T101815Z
UID:968840ea-2613-465c-bd85-31c5e3dad970
DTSTART;VALUE=DATE:20260513
DTEND;VALUE=DATE:20260514
DESCRIPTION:
LOCATION:
SUMMARY:Day 3 Specials
END:VEVENT
BEGIN:VEVENT
DTSTAMP:20260423T101815Z
UID:6a89daa3-da58-4e57-a244-9dddcec4b349
DTSTART:20260513T151500
DTEND:20260513T161500
DESCRIPTION:
LOCATION:
SUMMARY:Faculty Meeting
END:VEVENT
BEGIN:VEVENT
DTSTAMP:20260423T101815Z
UID:2b86fdc2-822e-4eea-9126-a3e08fcbafb3
DTSTART;VALUE=DATE:20260514
DTEND;VALUE=DATE:20260515
DESCRIPTION:
LOCATION:
SUMMARY:Day 4 Specials
END:VEVENT
BEGIN:VEVENT
DTSTAMP:20260423T101815Z
UID:3b7a40d8-938a-4344-bc4b-0d0680b38c74
DTSTART;VALUE=DATE:20260514
DTEND;VALUE=DATE:20260515
DESCRIPTION:
LOCATION:
SUMMARY:EOG Retests/Makeups
END:VEVENT
BEGIN:VEVENT
DTSTAMP:20260423T101815Z
UID:fbbae39b-f4e2-4cc9-82c7-23335b31ee72
DTSTART:20260515T141500
DTEND:20260515T144500
DESCRIPTION:
LOCATION:
SUMMARY:Student Leader of the Month Celebration
END:VEVENT
BEGIN:VEVENT
DTSTAMP:20260423T101815Z
UID:ac319951-bb1e-4427-b646-6cba7c349543
DTSTART;VALUE=DATE:20260518
DTEND;VALUE=DATE:20260519
DESCRIPTION:
LOCATION:
SUMMARY:Day 1 Specials
END:VEVENT
BEGIN:VEVENT
DTSTAMP:20260423T101815Z
UID:07ba8845-90e1-4b16-94a0-9022a73fbaea
DTSTART;VALUE=DATE:20260518
DTEND;VALUE=DATE:20260522
DESCRIPTION:
LOCATION:
SUMMARY:Week B(Media\, Computer\, Music\, PE)
END:VEVENT
BEGIN:VEVENT
DTSTAMP:20260423T101815Z
UID:854a9d7b-60fb-46d7-849a-87b4aeae5335
DTSTART:20260518T130000
DTEND:20260518T140000
DESCRIPTION:
LOCATION:
SUMMARY:PreK Graduation
END:VEVENT
BEGIN:VEVENT
DTSTAMP:20260423T101815Z
UID:df5ded4b-fa3b-40f1-9f3c-7aff7fb391c3
DTSTART;VALUE=DATE:20260519
DTEND;VALUE=DATE:20260520
DESCRIPTION:
LOCATION:
SUMMARY:Day 2 Specials
END:VEVENT
BEGIN:VEVENT
DTSTAMP:20260423T101815Z
UID:5f14de9e-4a96-4766-ac83-0e0dd9daf84f
DTSTART;VALUE=DATE:20260519
DTEND;VALUE=DATE:20260520
DESCRIPTION:
LOCATION:
SUMMARY:K-4 Awards
END:VEVENT
BEGIN:VEVENT
DTSTAMP:20260423T101815Z
UID:334a6204-af65-435b-a909-7860d3172b67
DTSTART:20260519T083000
DTEND:20260519T093000
DESCRIPTION:
LOCATION:
SUMMARY:4th Grade EOY Awards
END:VEVENT
BEGIN:VEVENT
DTSTAMP:20260423T101815Z
UID:b8a49b97-1bc2-485b-8fac-3bcc03524453
DTSTART:20260519T103000
DTEND:20260519T113000
DESCRIPTION:
LOCATION:
SUMMARY:2nd & 3rd Grade EOY Awards
END:VEVENT
BEGIN:VEVENT
DTSTAMP:20260423T101815Z
UID:c4fad290-1d2e-44a2-8453-84dc419be7c0
DTSTART:20260519T133000
DTEND:20260519T143000
DESCRIPTION:
LOCATION:
SUMMARY:K & 1 EOY Awards
END:VEVENT
BEGIN:VEVENT
DTSTAMP:20260423T101815Z
UID:194a1109-c244-4ac7-a1a9-f4c53acdecdf
DTSTART;VALUE=DATE:20260520
DTEND;VALUE=DATE:20260521
DESCRIPTION:
LOCATION:
SUMMARY:Day 3 Specials
END:VEVENT
BEGIN:VEVENT
DTSTAMP:20260423T101815Z
UID:f56ccd4f-ab5c-46e2-ab08-43538cf8096e
DTSTART;VALUE=DATE:20260520
DTEND;VALUE=DATE:20260521
DESCRIPTION:
LOCATION:
SUMMARY:Leaders For Life Celebration: Water Day
END:VEVENT
BEGIN:VEVENT
DTSTAMP:20260423T101815Z
UID:8a2218f0-5097-46b2-8936-c576e48b4ef6
DTSTART;VALUE=DATE:20260520
DTEND;VALUE=DATE:20260521
DESCRIPTION:
LOCATION:
SUMMARY:Yearbook Signing
END:VEVENT
BEGIN:VEVENT
DTSTAMP:20260423T101815Z
UID:540dc7cf-9174-4ae9-9295-eaaa9a7a3d09
DTSTART:20260520T130000
DTEND:20260520T140000
DESCRIPTION:
LOCATION:
SUMMARY:5th Grade Graduation
END:VEVENT
BEGIN:VEVENT
DTSTAMP:20260423T101815Z
UID:be944ea4-a5c3-4699-b384-a674e4bc220f
DTSTART;VALUE=DATE:20260521
DTEND;VALUE=DATE:20260522
DESCRIPTION:
LOCATION:
SUMMARY:Day 4 Specials
END:VEVENT
BEGIN:VEVENT
DTSTAMP:20260423T101815Z
UID:04281c78-de2d-4fc8-b64c-5e6ba101aa15
DTSTART;VALUE=DATE:20260521
DTEND;VALUE=DATE:20260522
DESCRIPTION:
LOCATION:
SUMMARY:Leaders For Life Celebration: Wet & Wild Day
END:VEVENT
BEGIN:VEVENT
DTSTAMP:20260423T101815Z
UID:80cbf206-9ffc-4fa7-b058-d29afc1888e3
DTSTART:20260522T110000
DTEND:20260522T110000
DESCRIPTION:
LOCATION:
SUMMARY:Last Day of School: 11:00 Dismissal
END:VEVENT
BEGIN:VEVENT
DTSTAMP:20260423T101815Z
UID:4ade2c2f-d206-42eb-8b6d-9168a2b3a80a
DTSTART;VALUE=DATE:20260525
DTEND;VALUE=DATE:20260526
DESCRIPTION:
LOCATION:
SUMMARY:Memorial Day: No School For Staff
END:VEVENT
BEGIN:VEVENT
DTSTAMP:20260423T101815Z
UID:c3e0debf-d6ee-4fd0-b1f2-fe30cbcf568d
DTSTART;VALUE=DATE:20260526
DTEND;VALUE=DATE:20260527
DESCRIPTION:
LOCATION:
SUMMARY:Required Staff Development Day
END:VEVENT
BEGIN:VEVENT
DTSTAMP:20260423T101815Z
UID:4a2fc21c-d564-4bdc-996e-009cbf9a3dc6
DTSTART;VALUE=DATE:20260527
DTEND;VALUE=DATE:20260530
DESCRIPTION:
LOCATION:
SUMMARY:Optional Staff Development Day
END:VEVENT
END:VCALENDAR
