BEGIN:VCALENDAR
VERSION:2.0
PRODID:icalendar-ruby
CALSCALE:GREGORIAN
BEGIN:VTIMEZONE
TZID:America/New_York
BEGIN:DAYLIGHT
DTSTART:20260308T030000
TZOFFSETFROM:-0500
TZOFFSETTO:-0400
RRULE:FREQ=YEARLY;BYDAY=2SU;BYMONTH=3
TZNAME:EDT
END:DAYLIGHT
BEGIN:STANDARD
DTSTART:20261101T010000
TZOFFSETFROM:-0400
TZOFFSETTO:-0500
RRULE:FREQ=YEARLY;BYDAY=1SU;BYMONTH=11
TZNAME:EST
END:STANDARD
END:VTIMEZONE
BEGIN:VEVENT
DTSTAMP:20260423T145017Z
UID:41aec475-e498-410d-b51e-37c7d88ff3ee
DTSTART;VALUE=DATE:20260423
DTEND;VALUE=DATE:20260424
DESCRIPTION:
LOCATION:
SUMMARY:Progress Reports 
END:VEVENT
BEGIN:VEVENT
DTSTAMP:20260423T145017Z
UID:f3d9d954-a887-400d-a90e-9048239fb7db
DTSTART;VALUE=DATE:20260428
DTEND;VALUE=DATE:20260429
DESCRIPTION:
LOCATION:
SUMMARY:ELA Section 1 Milestones
END:VEVENT
BEGIN:VEVENT
DTSTAMP:20260423T145017Z
UID:8abaec53-e62c-411c-b36b-d2b922980f9f
DTSTART;VALUE=DATE:20260429
DTEND;VALUE=DATE:20260430
DESCRIPTION:
LOCATION:
SUMMARY:ELA Section 2 Milestones
END:VEVENT
BEGIN:VEVENT
DTSTAMP:20260423T145017Z
UID:1e18c875-f78a-4b1b-83fa-17d407370fd2
DTSTART;VALUE=DATE:20260430
DTEND;VALUE=DATE:20260501
DESCRIPTION:
LOCATION:
SUMMARY:ELA Section 3 Milestones
END:VEVENT
BEGIN:VEVENT
DTSTAMP:20260423T145017Z
UID:396f3f2f-a125-49ac-88f7-f606e47f7fcb
DTSTART;VALUE=DATE:20260505
DTEND;VALUE=DATE:20260506
DESCRIPTION:
LOCATION:
SUMMARY:Math Section 1 Milestones
END:VEVENT
BEGIN:VEVENT
DTSTAMP:20260423T145017Z
UID:bd2c9c63-112f-48a3-8d50-6d79521fadb5
DTSTART;VALUE=DATE:20260506
DTEND;VALUE=DATE:20260507
DESCRIPTION:
LOCATION:
SUMMARY:Math Section 2  Milestones
END:VEVENT
BEGIN:VEVENT
DTSTAMP:20260423T145017Z
UID:53f63375-590b-4d54-b66b-4c95cb2710b4
DTSTART;VALUE=DATE:20260507
DTEND;VALUE=DATE:20260508
DESCRIPTION:
LOCATION:
SUMMARY:Science Milestones (8th Grade only)
END:VEVENT
BEGIN:VEVENT
DTSTAMP:20260423T145017Z
UID:682ce7bf-523e-4de5-8d40-605467d558ab
DTSTART;VALUE=DATE:20260508
DTEND;VALUE=DATE:20260509
DESCRIPTION:
LOCATION:
SUMMARY:Social Studies Milestones (8th Grade only)
END:VEVENT
BEGIN:VEVENT
DTSTAMP:20260423T145017Z
UID:41a4557c-9c2b-47e4-ab24-ad0f027bbb36
DTSTART:20260516T180000
DTEND:20260516T203000
DESCRIPTION:
LOCATION:
SUMMARY:Semi Formal Dance
END:VEVENT
BEGIN:VEVENT
DTSTAMP:20260423T145017Z
UID:a412682d-c157-425f-9a3c-12ecbff63cc8
DTSTART;VALUE=DATE:20260521
DTEND;VALUE=DATE:20260522
DESCRIPTION:
LOCATION:
SUMMARY:Last Day of School
END:VEVENT
BEGIN:VEVENT
DTSTAMP:20260423T145017Z
UID:756f668b-4ec6-41ff-a1e5-7118356e641a
DTSTART;VALUE=DATE:20260525
DTEND;VALUE=DATE:20260526
DESCRIPTION:
LOCATION:
SUMMARY:Memorial Day Holiday 
END:VEVENT
END:VCALENDAR
