BEGIN:VCALENDAR
VERSION:2.0
PRODID:icalendar-ruby
CALSCALE:GREGORIAN
BEGIN:VTIMEZONE
TZID:America/New_York
BEGIN:DAYLIGHT
DTSTART:20260308T030000
TZOFFSETFROM:-0500
TZOFFSETTO:-0400
RRULE:FREQ=YEARLY;BYDAY=2SU;BYMONTH=3
TZNAME:EDT
END:DAYLIGHT
BEGIN:STANDARD
DTSTART:20261101T010000
TZOFFSETFROM:-0400
TZOFFSETTO:-0500
RRULE:FREQ=YEARLY;BYDAY=1SU;BYMONTH=11
TZNAME:EST
END:STANDARD
END:VTIMEZONE
BEGIN:VEVENT
DTSTAMP:20260423T135327Z
UID:0baecdbc-12c2-41d3-9782-82b444ae3726
DTSTART;VALUE=DATE:20260417
DTEND;VALUE=DATE:20260425
DESCRIPTION:<p>Cedartown Middle School Media Center<br>7:00am-4:00pm</p>
LOCATION:
SUMMARY:CMS Spring Book Fair
END:VEVENT
BEGIN:VEVENT
DTSTAMP:20260423T135327Z
UID:ced3e0ef-152c-4663-b7ea-eddeccf7e5b0
DTSTART;VALUE=DATE:20260422
DTEND;VALUE=DATE:20260426
DESCRIPTION:
LOCATION:Macon\, GA\, USA
SUMMARY:CMS FFA | State Convention 
END:VEVENT
BEGIN:VEVENT
DTSTAMP:20260423T135327Z
UID:cf74199a-891d-4a49-8e64-881b7902e341
DTSTART:20260423T071500
DTEND:20260423T074500
DESCRIPTION:
LOCATION:CMS Library
SUMMARY:CMS FCA Meeting 
END:VEVENT
BEGIN:VEVENT
DTSTAMP:20260423T135327Z
UID:40ef779b-584b-47b0-a164-838875d1ec0e
DTSTART:20260423T153000
DTEND:20260423T163000
DESCRIPTION:
LOCATION:CMS Library
SUMMARY:CMS Game Club Meeting
END:VEVENT
BEGIN:VEVENT
DTSTAMP:20260423T135327Z
UID:86468377-bb46-4775-83e3-0f339cac463a
DTSTART;VALUE=DATE:20260424
DTEND;VALUE=DATE:20260426
DESCRIPTION:<p><em>Times to TBD later<br>Only students who qualify will att
 end<br></em></p><p>*Contact Coaches for specifics:<br>joe.colquitt@polk.k1
 2.ga.us<br>zachary.valentine@polk.k12.ga.us</p>
LOCATION:Parkview High School 
SUMMARY:Middle School Track Championship
END:VEVENT
BEGIN:VEVENT
DTSTAMP:20260423T135327Z
UID:0a85496a-84b8-41e7-b4d4-31a10c2a15ac
DTSTART;VALUE=DATE:20260427
DTEND;VALUE=DATE:20260428
DESCRIPTION:
LOCATION:
SUMMARY:Teacher Work Day
END:VEVENT
BEGIN:VEVENT
DTSTAMP:20260423T135327Z
UID:7cec55b7-be65-4ee2-8f4d-9445e138b709
DTSTART;VALUE=DATE:20260428
DTEND;VALUE=DATE:20260429
DESCRIPTION:
LOCATION:
SUMMARY:EOG Milestones Testing | ELA 1
END:VEVENT
BEGIN:VEVENT
DTSTAMP:20260423T135327Z
UID:d03485ff-a75d-46f1-bdfa-ece04758afbc
DTSTART;VALUE=DATE:20260429
DTEND;VALUE=DATE:20260430
DESCRIPTION:
LOCATION:
SUMMARY:EOG Milestones Testing | ELA 2
END:VEVENT
BEGIN:VEVENT
DTSTAMP:20260423T135327Z
UID:7e176691-1435-4f0c-823a-6184bdc53c59
DTSTART;VALUE=DATE:20260430
DTEND;VALUE=DATE:20260501
DESCRIPTION:
LOCATION:
SUMMARY:EOG Milestones Testing | ELA 3
END:VEVENT
BEGIN:VEVENT
DTSTAMP:20260423T135327Z
UID:06ea5028-af11-4867-8497-f7287e16277b
DTSTART;VALUE=DATE:20260501
DTEND;VALUE=DATE:20260502
DESCRIPTION:
LOCATION:
SUMMARY:EOG Milestones Testing | MakeUps
END:VEVENT
BEGIN:VEVENT
DTSTAMP:20260423T135327Z
UID:197a2710-a0e8-457f-9bcf-d865ac885ef5
DTSTART:20260501T071500
DTEND:20260501T073000
DESCRIPTION:
LOCATION:front parking lot - weather permitting
SUMMARY:FCA Prayer@Pole
END:VEVENT
BEGIN:VEVENT
DTSTAMP:20260423T135327Z
UID:e5948f93-1d6a-4de8-a906-ddb3fe7123c1
DTSTART;VALUE=DATE:20260504
DTEND;VALUE=DATE:20260505
DESCRIPTION:
LOCATION:
SUMMARY:Teacher Work Day
END:VEVENT
BEGIN:VEVENT
DTSTAMP:20260423T135327Z
UID:2487991a-46f3-415f-9c3b-b010d900c3c1
DTSTART;VALUE=DATE:20260505
DTEND;VALUE=DATE:20260506
DESCRIPTION:
LOCATION:
SUMMARY:EOG Milestones Test | Math 1
END:VEVENT
BEGIN:VEVENT
DTSTAMP:20260423T135327Z
UID:641654e7-4b6e-4283-9888-3069a30b4a44
DTSTART;VALUE=DATE:20260506
DTEND;VALUE=DATE:20260507
DESCRIPTION:
LOCATION:
SUMMARY:EOG Milestones Test | Math 2
END:VEVENT
BEGIN:VEVENT
DTSTAMP:20260423T135327Z
UID:d849a9bd-ce8f-4f3a-90d2-54356e7dba52
DTSTART;VALUE=DATE:20260507
DTEND;VALUE=DATE:20260508
DESCRIPTION:
LOCATION:
SUMMARY:EOG Milestones Testing | Science | 8th Grade Only
END:VEVENT
BEGIN:VEVENT
DTSTAMP:20260423T135327Z
UID:2fdb042e-c255-4690-a4ff-b713f6943368
DTSTART:20260507T071500
DTEND:20260507T074500
DESCRIPTION:
LOCATION:CMS Library 
SUMMARY:CMS FCA Meeting 
END:VEVENT
BEGIN:VEVENT
DTSTAMP:20260423T135327Z
UID:55081c49-ab3b-422c-b7d9-1507980a7760
DTSTART;VALUE=DATE:20260508
DTEND;VALUE=DATE:20260509
DESCRIPTION:
LOCATION:
SUMMARY:EOG Milestones Testing | Social Studies | 8th Grade Only
END:VEVENT
BEGIN:VEVENT
DTSTAMP:20260423T135327Z
UID:783fd265-176a-4a5f-b4dd-a49a9de7feac
DTSTART;VALUE=DATE:20260511
DTEND;VALUE=DATE:20260512
DESCRIPTION:
LOCATION:
SUMMARY:Teacher Work Day
END:VEVENT
BEGIN:VEVENT
DTSTAMP:20260423T135327Z
UID:3bffa5f5-95ee-42b9-99fa-0e6e3d320144
DTSTART:20260512T140000
DTEND:20260512T150000
DESCRIPTION:
LOCATION:CMS Gym
SUMMARY:CMS Talent Show
END:VEVENT
BEGIN:VEVENT
DTSTAMP:20260423T135327Z
UID:0a3b4398-dc8d-44e5-8ef2-fc86f19d11fb
DTSTART:20260513T110000
DTEND:20260513T150000
DESCRIPTION:
LOCATION:
SUMMARY:6th Grade Cookout
END:VEVENT
BEGIN:VEVENT
DTSTAMP:20260423T135327Z
UID:89200716-34d4-47c7-9360-2a628984be62
DTSTART:20260513T153000
DTEND:20260513T163000
DESCRIPTION:
LOCATION:Room 104 (Ag Room)
SUMMARY:CMS FFA Meeting
END:VEVENT
BEGIN:VEVENT
DTSTAMP:20260423T135327Z
UID:9bb7c86d-70d3-40e8-9d7f-431040240885
DTSTART;VALUE=DATE:20260514
DTEND;VALUE=DATE:20260515
DESCRIPTION:
LOCATION:
SUMMARY:CMS 7th Grade Cookout
END:VEVENT
BEGIN:VEVENT
DTSTAMP:20260423T135327Z
UID:6f73d902-6971-476d-b57a-5e7dcfd2e283
DTSTART:20260514T073000
DTEND:20260514T074500
DESCRIPTION:
LOCATION:CMS Library
SUMMARY:CMS Student Council Meeting 
END:VEVENT
BEGIN:VEVENT
DTSTAMP:20260423T135327Z
UID:52c2294e-6686-4b56-b889-b12e662cb42e
DTSTART;VALUE=DATE:20260515
DTEND;VALUE=DATE:20260516
DESCRIPTION:
LOCATION:
SUMMARY:8th Grade Cookout
END:VEVENT
BEGIN:VEVENT
DTSTAMP:20260423T135327Z
UID:cfe1121b-8d15-4ad3-a852-017e74b9dfdd
DTSTART;VALUE=DATE:20260515
DTEND;VALUE=DATE:20260516
DESCRIPTION:
LOCATION:
SUMMARY:CHS Senior Memory Walk
END:VEVENT
BEGIN:VEVENT
DTSTAMP:20260423T135327Z
UID:47dbbc1b-d7b6-41dd-bd79-3d741288eb17
DTSTART:20260515T073000
DTEND:20260515T074500
DESCRIPTION:
LOCATION:front flag pole - weather permitting
SUMMARY:FCA Prayer @Pole
END:VEVENT
BEGIN:VEVENT
DTSTAMP:20260423T135327Z
UID:0c49ef65-a212-4126-8e47-950c55ee9a12
DTSTART;VALUE=DATE:20260518
DTEND;VALUE=DATE:20260519
DESCRIPTION:
LOCATION:
SUMMARY:Teacher Work Day
END:VEVENT
BEGIN:VEVENT
DTSTAMP:20260423T135327Z
UID:cbe64dc4-0bef-4cc5-b397-bbc1f21d66c8
DTSTART;VALUE=DATE:20260519
DTEND;VALUE=DATE:20260520
DESCRIPTION:
LOCATION:
SUMMARY:Renaissance Trip to West Cinema
END:VEVENT
BEGIN:VEVENT
DTSTAMP:20260423T135327Z
UID:e3c51278-c5f7-4ff0-80d0-83d26815b720
DTSTART;VALUE=DATE:20260520
DTEND;VALUE=DATE:20260521
DESCRIPTION:<p>Cedartown Middle School Gym<br>8th Grade @8:30am<br>7th Grad
 e @10:00am<br>6th Grade @1:30pm</p><p><em>Photo IDs required/please arrive
  early/be patient w/security measures<br></em>*Sign-out Stations will be a
 vailable for early check-outs</p>
LOCATION:
SUMMARY:CMS Renaissance Awards 
END:VEVENT
BEGIN:VEVENT
DTSTAMP:20260423T135327Z
UID:4e1f4028-1638-4a04-a52b-deb0430412a7
DTSTART:20260520T073000
DTEND:20260520T074500
DESCRIPTION:
LOCATION:CMS Library
SUMMARY:CMS NJHS Meeting 
END:VEVENT
BEGIN:VEVENT
DTSTAMP:20260423T135327Z
UID:4b3541ab-f588-4a81-99e6-f9b6e03fb98e
DTSTART;VALUE=DATE:20260521
DTEND;VALUE=DATE:20260522
DESCRIPTION:
LOCATION:
SUMMARY:Last Day of School 
END:VEVENT
BEGIN:VEVENT
DTSTAMP:20260423T135327Z
UID:2b01a61f-ab42-4484-b52a-cda337ee43ba
DTSTART;VALUE=DATE:20260521
DTEND;VALUE=DATE:20260522
DESCRIPTION:
LOCATION:
SUMMARY:Q4 Report Cards
END:VEVENT
BEGIN:VEVENT
DTSTAMP:20260423T135327Z
UID:c4a2e026-752e-41e2-9c9a-15ffc8d68cbd
DTSTART:20260521T200000
DTEND:20260521T220000
DESCRIPTION:
LOCATION:CHS Football Field
SUMMARY:CHS Graduation
END:VEVENT
BEGIN:VEVENT
DTSTAMP:20260423T135327Z
UID:3e41dfaa-e9e7-4cc0-963b-c44e21d25dd5
DTSTART;VALUE=DATE:20260522
DTEND;VALUE=DATE:20260523
DESCRIPTION:
LOCATION:
SUMMARY:Teacher Work Day | Post Planning
END:VEVENT
BEGIN:VEVENT
DTSTAMP:20260423T135327Z
UID:5af4c10c-4541-4b58-b6fc-981d2f547f3a
DTSTART:20260522T200000
DTEND:20260522T210000
DESCRIPTION:
LOCATION:RHS Football Field
SUMMARY:RHS Graduation
END:VEVENT
BEGIN:VEVENT
DTSTAMP:20260423T135327Z
UID:65469623-243c-4959-a4cd-aa248553cebc
DTSTART;VALUE=DATE:20260525
DTEND;VALUE=DATE:20260527
DESCRIPTION:<p>No School</p>
LOCATION:
SUMMARY:Memorial Day Holiday
END:VEVENT
BEGIN:VEVENT
DTSTAMP:20260423T135327Z
UID:ea8bfdbd-eb53-4eeb-ae70-ddc59e47a6d3
DTSTART;VALUE=DATE:20260525
DTEND;VALUE=DATE:20260530
DESCRIPTION:<p>Jennifer Smith\, FFA Sponsor</p>
LOCATION:Covington\, GA\, USA
SUMMARY:CMS FFA Camp
END:VEVENT
BEGIN:VEVENT
DTSTAMP:20260423T135327Z
UID:36074148-5448-4b21-a62d-b03819573fc3
DTSTART;VALUE=DATE:20260526
DTEND;VALUE=DATE:20260527
DESCRIPTION:
LOCATION:
SUMMARY:Teacher Work Day | Post Planning
END:VEVENT
BEGIN:VEVENT
DTSTAMP:20260423T135327Z
UID:6ece0024-ffd9-4576-ba2f-d78b477d8329
DTSTART;VALUE=DATE:20260527
DTEND;VALUE=DATE:20260528
DESCRIPTION:
LOCATION:
SUMMARY:Teacher Work Day | Post Planning
END:VEVENT
BEGIN:VEVENT
DTSTAMP:20260423T135327Z
UID:edd877ce-3815-4e87-8c4a-4f6d2731bbd3
DTSTART;VALUE=DATE:20260527
DTEND;VALUE=DATE:20260531
DESCRIPTION:<p>Washington\, GA &amp\; Williamsburg\, VA</p>
LOCATION:
SUMMARY:CMS NJHS Trip 
END:VEVENT
END:VCALENDAR
