BEGIN:VCALENDAR
VERSION:2.0
PRODID:icalendar-ruby
CALSCALE:GREGORIAN
BEGIN:VTIMEZONE
TZID:America/Chicago
BEGIN:DAYLIGHT
DTSTART:20260308T030000
TZOFFSETFROM:-0600
TZOFFSETTO:-0500
RRULE:FREQ=YEARLY;BYDAY=2SU;BYMONTH=3
TZNAME:CDT
END:DAYLIGHT
BEGIN:STANDARD
DTSTART:20261101T010000
TZOFFSETFROM:-0500
TZOFFSETTO:-0600
RRULE:FREQ=YEARLY;BYDAY=1SU;BYMONTH=11
TZNAME:CST
END:STANDARD
END:VTIMEZONE
BEGIN:VEVENT
DTSTAMP:20260421T165109Z
UID:b296a987-50d5-4e95-9cd5-0046f0a28e22
DTSTART:20260422T103000
DTEND:20260422T113000
DESCRIPTION:In the Arena
LOCATION:Pea Ridge High School\, 1925 W Pickens Rd\, Pea Ridge\, AR 72751\,
  USA
SUMMARY:Final Signing Day
END:VEVENT
BEGIN:VEVENT
DTSTAMP:20260421T165109Z
UID:9db4df05-e2c8-49af-9d63-3975c0813000
DTSTART;VALUE=DATE:20260427
DTEND;VALUE=DATE:20260428
DESCRIPTION:
LOCATION:
SUMMARY:PRHS Writing ATLAS Test
END:VEVENT
BEGIN:VEVENT
DTSTAMP:20260421T165109Z
UID:2c3aa1be-066b-44bf-acbb-ebc2c0799c60
DTSTART;VALUE=DATE:20260428
DTEND;VALUE=DATE:20260429
DESCRIPTION:
LOCATION:
SUMMARY:PRHS Geometry ATLAS Test
END:VEVENT
BEGIN:VEVENT
DTSTAMP:20260421T165109Z
UID:128d7022-5a59-4e00-9886-bcf3c05cd25f
DTSTART;VALUE=DATE:20260429
DTEND;VALUE=DATE:20260430
DESCRIPTION:
LOCATION:
SUMMARY:PRHS ELA ATLAS Test
END:VEVENT
BEGIN:VEVENT
DTSTAMP:20260421T165109Z
UID:ff90f4e4-0a70-49f6-8f97-1e0a4b81e6e2
DTSTART;VALUE=DATE:20260430
DTEND;VALUE=DATE:20260501
DESCRIPTION:
LOCATION:
SUMMARY:PRHS Biology ATLAS Test
END:VEVENT
BEGIN:VEVENT
DTSTAMP:20260421T165109Z
UID:596bcf51-48a5-4696-8db4-337d45c136b2
DTSTART;VALUE=DATE:20260501
DTEND;VALUE=DATE:20260502
DESCRIPTION:
LOCATION:
SUMMARY:PRHS Make-Up ATLAS Test
END:VEVENT
BEGIN:VEVENT
DTSTAMP:20260421T165109Z
UID:d0e3d6f3-c652-49c7-b63f-4ecd3a88e4eb
DTSTART;VALUE=DATE:20260502
DTEND;VALUE=DATE:20260503
DESCRIPTION:
LOCATION:
SUMMARY:PROM
END:VEVENT
BEGIN:VEVENT
DTSTAMP:20260421T165109Z
UID:cf497873-ef35-4102-b766-16dd45b85097
DTSTART;VALUE=DATE:20260516
DTEND;VALUE=DATE:20260517
DESCRIPTION:
LOCATION:
SUMMARY:High School Graduation
END:VEVENT
BEGIN:VEVENT
DTSTAMP:20260421T165109Z
UID:bbe141be-93eb-4085-bb52-874b2fdff562
DTSTART;VALUE=DATE:20260518
DTEND;VALUE=DATE:20260519
DESCRIPTION:
LOCATION:
SUMMARY:Spring Semester Final Exams
END:VEVENT
BEGIN:VEVENT
DTSTAMP:20260421T165109Z
UID:c7d59d20-0c83-4e3a-aa87-880a9bfa2706
DTSTART;VALUE=DATE:20260519
DTEND;VALUE=DATE:20260520
DESCRIPTION:
LOCATION:
SUMMARY:Spring Semester Final Exams
END:VEVENT
BEGIN:VEVENT
DTSTAMP:20260421T165109Z
UID:1cd9c4d2-66ba-429e-b732-23ebd9ed5aab
DTSTART;VALUE=DATE:20260520
DTEND;VALUE=DATE:20260521
DESCRIPTION:
LOCATION:
SUMMARY:Spring Semester Final Exams
END:VEVENT
BEGIN:VEVENT
DTSTAMP:20260421T165109Z
UID:fe1cd83b-56c4-4027-a107-9a1fac215699
DTSTART;VALUE=DATE:20260521
DTEND;VALUE=DATE:20260522
DESCRIPTION:
LOCATION:
SUMMARY:Spring Semester Final Exams
END:VEVENT
BEGIN:VEVENT
DTSTAMP:20260421T165109Z
UID:9a60e03b-2971-46ce-88d9-394b26c96b7b
DTSTART;VALUE=DATE:20260522
DTEND;VALUE=DATE:20260523
DESCRIPTION:
LOCATION:
SUMMARY:Last Day of School (End of 4th Qtr)
END:VEVENT
BEGIN:VEVENT
DTSTAMP:20260421T165109Z
UID:25c30df8-82f8-4a3f-bf31-72f50c1e5b22
DTSTART;VALUE=DATE:20260522
DTEND;VALUE=DATE:20260523
DESCRIPTION:
LOCATION:
SUMMARY:Spring Semester Final Exams
END:VEVENT
BEGIN:VEVENT
DTSTAMP:20260421T165109Z
UID:ed6d7cf2-0d21-4aea-aadf-028b4fa8ab07
DTSTART;VALUE=DATE:20260525
DTEND;VALUE=DATE:20260526
DESCRIPTION:
LOCATION:
SUMMARY:Memorial Day (No School)
END:VEVENT
END:VCALENDAR
