BEGIN:VCALENDAR
VERSION:2.0
PRODID:icalendar-ruby
CALSCALE:GREGORIAN
BEGIN:VTIMEZONE
TZID:America/Chicago
BEGIN:DAYLIGHT
DTSTART:20260308T030000
TZOFFSETFROM:-0600
TZOFFSETTO:-0500
RRULE:FREQ=YEARLY;BYDAY=2SU;BYMONTH=3
TZNAME:CDT
END:DAYLIGHT
BEGIN:STANDARD
DTSTART:20261101T010000
TZOFFSETFROM:-0500
TZOFFSETTO:-0600
RRULE:FREQ=YEARLY;BYDAY=1SU;BYMONTH=11
TZNAME:CST
END:STANDARD
END:VTIMEZONE
BEGIN:VEVENT
DTSTAMP:20260420T041616Z
UID:b79f8a5d-d106-4695-b187-10b991f59960
DTSTART:20260430T131500
DTEND:20260430T143000
DESCRIPTION:
LOCATION:Congerville Elementary School
SUMMARY:Grandparent's Day
END:VEVENT
BEGIN:VEVENT
DTSTAMP:20260420T041616Z
UID:972ca51d-d3db-4455-8221-0b04b0126296
DTSTART:20260430T183000
DTEND:20260430T191500
DESCRIPTION:
LOCATION:Congerville Elementary School
SUMMARY:Maypole Presentation
END:VEVENT
BEGIN:VEVENT
DTSTAMP:20260420T041616Z
UID:268219e7-26d6-4c8c-a77e-6d308d98c008
DTSTART;VALUE=DATE:20260504
DTEND;VALUE=DATE:20260508
DESCRIPTION:
LOCATION:Goodfield and Congerville Elementary Schools
SUMMARY:Staff Appreciation Week
END:VEVENT
BEGIN:VEVENT
DTSTAMP:20260420T041616Z
UID:b14466bb-0be9-43de-8927-bc17ce3ad0de
DTSTART:20260507T190000
DTEND:20260507T200000
DESCRIPTION:
LOCATION:Congerville Elementary School
SUMMARY:PTO Meeting
END:VEVENT
BEGIN:VEVENT
DTSTAMP:20260420T041616Z
UID:23d994a8-3aa6-45ae-81f2-815151c036fd
DTSTART:20260812T173000
DTEND:20260812T183000
DESCRIPTION:
LOCATION:Congerville Elementary School
SUMMARY:Meet the Teacher Night
END:VEVENT
BEGIN:VEVENT
DTSTAMP:20260420T041616Z
UID:6cc5db9b-b1e6-4e0c-8307-8d9fd930aaa2
DTSTART:20260813T180000
DTEND:20260813T184500
DESCRIPTION:
LOCATION:Congerville Elementary School
SUMMARY:Kindergarten Meet the Teacher Night - Congerville
END:VEVENT
BEGIN:VEVENT
DTSTAMP:20260420T041616Z
UID:383a4b91-8384-4e2a-bc64-cadc83a79012
DTSTART:20260918T183000
DTEND:20260918T210000
DESCRIPTION:
LOCATION:Congerville Elementary School
SUMMARY:Parent's Night Out
END:VEVENT
BEGIN:VEVENT
DTSTAMP:20260420T041616Z
UID:7f8cc883-40e8-424c-929a-a71170a48a1d
DTSTART:20260922T180000
DTEND:20260922T193000
DESCRIPTION:
LOCATION:
SUMMARY:Congerville Open House
END:VEVENT
BEGIN:VEVENT
DTSTAMP:20260420T041616Z
UID:c8bd81cc-1117-4fc9-8f7d-3d3ee5667b85
DTSTART;VALUE=DATE:20260930
DTEND;VALUE=DATE:20261001
DESCRIPTION:
LOCATION:Congerville Elementary School
SUMMARY:Picture Retakes
END:VEVENT
BEGIN:VEVENT
DTSTAMP:20260420T041616Z
UID:100c5d6f-f01b-4ea7-8b88-8bdb4b2cd4ab
DTSTART;VALUE=DATE:20261019
DTEND;VALUE=DATE:20261023
DESCRIPTION:
LOCATION:Congerville Elementary School
SUMMARY:Red Ribbon Week
END:VEVENT
BEGIN:VEVENT
DTSTAMP:20260420T041616Z
UID:fa0d3b54-27bc-4ea0-a717-f1cab2e02ee9
DTSTART:20261116T180000
DTEND:20261116T190000
DESCRIPTION:
LOCATION:Congerville Elementary School
SUMMARY:PTO Meeting - Congerville
END:VEVENT
BEGIN:VEVENT
DTSTAMP:20260420T041616Z
UID:9a6d6935-bf28-4fd4-8fb1-4bd79216a5b7
DTSTART:20261204T180000
DTEND:20261204T184500
DESCRIPTION:
LOCATION:Eureka High School
SUMMARY:Christmas Program
END:VEVENT
BEGIN:VEVENT
DTSTAMP:20260420T041616Z
UID:1781c2b4-a57f-4344-a260-03dd05a84d8e
DTSTART;VALUE=DATE:20270204
DTEND;VALUE=DATE:20270205
DESCRIPTION:
LOCATION:Goodfield and Congerville Elementary Schools
SUMMARY:Jump Rope for Heart
END:VEVENT
BEGIN:VEVENT
DTSTAMP:20260420T041616Z
UID:e17239ba-359d-4234-b752-743af06e3815
DTSTART:20270211T190000
DTEND:20270211T200000
DESCRIPTION:
LOCATION:Congerville Elementary School
SUMMARY:Talent Show
END:VEVENT
BEGIN:VEVENT
DTSTAMP:20260420T041616Z
UID:2fd0c93b-ab6b-420a-863a-cf9b60f45ba3
DTSTART:20270223T190000
DTEND:20270223T200000
DESCRIPTION:
LOCATION:Congerville Elementary School
SUMMARY:PTO Meeting
END:VEVENT
BEGIN:VEVENT
DTSTAMP:20260420T041616Z
UID:70cb49c4-e354-4efe-bc2a-7b8d7b2eea55
DTSTART:20270417T160000
DTEND:20270417T190000
DESCRIPTION:
LOCATION:Congerville Elementary School
SUMMARY:Congerville Community Club Pork Chop Supper
END:VEVENT
BEGIN:VEVENT
DTSTAMP:20260420T041616Z
UID:fc092cb1-9e29-497a-8164-398aa9f11f57
DTSTART:20270429T131500
DTEND:20270429T143000
DESCRIPTION:
LOCATION:Congerville Elementary School
SUMMARY:Grandparent's Day
END:VEVENT
BEGIN:VEVENT
DTSTAMP:20260420T041616Z
UID:7555d737-b93b-4246-b465-bd072b7d7d1a
DTSTART:20270429T183000
DTEND:20270429T191500
DESCRIPTION:
LOCATION:Congerville Elementary School
SUMMARY:Maypole Presentation
END:VEVENT
BEGIN:VEVENT
DTSTAMP:20260420T041616Z
UID:397f583c-ad89-4832-a818-e1057d726770
DTSTART;VALUE=DATE:20270503
DTEND;VALUE=DATE:20270507
DESCRIPTION:
LOCATION:Goodfield and Congerville Elementary Schools
SUMMARY:Staff Appreciation Week
END:VEVENT
BEGIN:VEVENT
DTSTAMP:20260420T041616Z
UID:4f5e21b5-9cfd-450a-8703-20f0a96cd787
DTSTART:20270506T190000
DTEND:20270506T200000
DESCRIPTION:
LOCATION:Congerville Elementary School
SUMMARY:PTO Meeting
END:VEVENT
END:VCALENDAR
