BEGIN:VCALENDAR
VERSION:2.0
PRODID:icalendar-ruby
CALSCALE:GREGORIAN
BEGIN:VTIMEZONE
TZID:America/Chicago
BEGIN:DAYLIGHT
DTSTART:20260308T030000
TZOFFSETFROM:-0600
TZOFFSETTO:-0500
RRULE:FREQ=YEARLY;BYDAY=2SU;BYMONTH=3
TZNAME:CDT
END:DAYLIGHT
BEGIN:STANDARD
DTSTART:20261101T010000
TZOFFSETFROM:-0500
TZOFFSETTO:-0600
RRULE:FREQ=YEARLY;BYDAY=1SU;BYMONTH=11
TZNAME:CST
END:STANDARD
END:VTIMEZONE
BEGIN:VEVENT
DTSTAMP:20260419T125925Z
UID:1686891d-1943-4cfc-a92f-c847fa5a22b7
DTSTART;VALUE=DATE:20260420
DTEND;VALUE=DATE:20260421
DESCRIPTION:
LOCATION:
SUMMARY:Girls Who Code Club
END:VEVENT
BEGIN:VEVENT
DTSTAMP:20260419T125925Z
UID:0f5b780d-a20f-4f1d-b4c7-dbc4a9a2c41d
DTSTART;VALUE=DATE:20260421
DTEND;VALUE=DATE:20260422
DESCRIPTION:
LOCATION:
SUMMARY:Garden Club  2:15-3:45
END:VEVENT
BEGIN:VEVENT
DTSTAMP:20260419T125925Z
UID:9440dc4d-1dbc-4620-864e-2213b5c257e5
DTSTART;VALUE=DATE:20260422
DTEND;VALUE=DATE:20260423
DESCRIPTION:
LOCATION:
SUMMARY:Mid Term Reports
END:VEVENT
BEGIN:VEVENT
DTSTAMP:20260419T125925Z
UID:1123c504-0987-41f7-94d7-91a0493583aa
DTSTART;VALUE=DATE:20260427
DTEND;VALUE=DATE:20260428
DESCRIPTION:
LOCATION:
SUMMARY:Girls Who Code Club
END:VEVENT
BEGIN:VEVENT
DTSTAMP:20260419T125925Z
UID:f34b7483-fe30-40f2-aff0-a1e3ce92ad2e
DTSTART;VALUE=DATE:20260428
DTEND;VALUE=DATE:20260429
DESCRIPTION:
LOCATION:
SUMMARY:Garden Club  2:15-3:45
END:VEVENT
BEGIN:VEVENT
DTSTAMP:20260419T125925Z
UID:2e0cf46a-d8ee-4f3c-a0ba-e1c71a6e0e31
DTSTART:20260430T180000
DTEND:20260430T190000
DESCRIPTION:
LOCATION:
SUMMARY:Spring Musical
END:VEVENT
BEGIN:VEVENT
DTSTAMP:20260419T125925Z
UID:3f68b9e9-7173-4b12-a656-59b88a5be0e1
DTSTART:20260501T180000
DTEND:20260501T190000
DESCRIPTION:
LOCATION:
SUMMARY:Spring Musical
END:VEVENT
BEGIN:VEVENT
DTSTAMP:20260419T125925Z
UID:7fe9b7dc-27c4-44e6-9265-24059c52cf92
DTSTART;VALUE=DATE:20260504
DTEND;VALUE=DATE:20260505
DESCRIPTION:
LOCATION:
SUMMARY:Girls Who Code Club
END:VEVENT
BEGIN:VEVENT
DTSTAMP:20260419T125925Z
UID:0db6764a-e7a1-445e-9eed-11ee46b71d28
DTSTART;VALUE=DATE:20260504
DTEND;VALUE=DATE:20260509
DESCRIPTION:
LOCATION:
SUMMARY:Teacher Appreciation Week
END:VEVENT
BEGIN:VEVENT
DTSTAMP:20260419T125925Z
UID:763149c6-f697-46e0-8f31-22198139849d
DTSTART;VALUE=DATE:20260505
DTEND;VALUE=DATE:20260506
DESCRIPTION:
LOCATION:
SUMMARY:Garden Club  2:15-3:45
END:VEVENT
BEGIN:VEVENT
DTSTAMP:20260419T125925Z
UID:2bdf2986-3f2b-40a8-819c-4cd7c9fe45c9
DTSTART;VALUE=DATE:20260511
DTEND;VALUE=DATE:20260512
DESCRIPTION:
LOCATION:
SUMMARY:Girls Who Code Club
END:VEVENT
BEGIN:VEVENT
DTSTAMP:20260419T125925Z
UID:2b6ce2aa-cec1-4aed-b3cb-373fdd75c02e
DTSTART;VALUE=DATE:20260511
DTEND;VALUE=DATE:20260512
DESCRIPTION:
LOCATION:
SUMMARY:Mother's Day Mingle (Boosters)
END:VEVENT
BEGIN:VEVENT
DTSTAMP:20260419T125925Z
UID:509b5a51-0572-4452-b5af-a30808a23b87
DTSTART;VALUE=DATE:20260512
DTEND;VALUE=DATE:20260513
DESCRIPTION:
LOCATION:
SUMMARY:Garden Club  2:15-3:45
END:VEVENT
BEGIN:VEVENT
DTSTAMP:20260419T125925Z
UID:b94c323b-9c05-49c6-a45c-2637b542f532
DTSTART:20260514T144500
DTEND:20260514T154500
DESCRIPTION:
LOCATION:
SUMMARY:School Advisory Council Meeting (SAC) Open to Public
END:VEVENT
BEGIN:VEVENT
DTSTAMP:20260419T125925Z
UID:60760685-a319-4e9b-ab7f-9ccfa53d05b5
DTSTART;VALUE=DATE:20260518
DTEND;VALUE=DATE:20260519
DESCRIPTION:
LOCATION:
SUMMARY:Girls Who Code Club
END:VEVENT
BEGIN:VEVENT
DTSTAMP:20260419T125925Z
UID:115f110d-9525-4285-bfac-db5d91fd72a7
DTSTART;VALUE=DATE:20260519
DTEND;VALUE=DATE:20260520
DESCRIPTION:
LOCATION:
SUMMARY:Garden Club  2:15-3:45
END:VEVENT
BEGIN:VEVENT
DTSTAMP:20260419T125925Z
UID:da9c35e3-0578-4712-bacd-daad7224bb57
DTSTART:20260521T080000
DTEND:20260521T090000
DESCRIPTION:
LOCATION:
SUMMARY:Kindergarten Celebration
END:VEVENT
BEGIN:VEVENT
DTSTAMP:20260419T125925Z
UID:21941943-ddad-4814-af75-9b1a1daa7508
DTSTART;VALUE=DATE:20260525
DTEND;VALUE=DATE:20260526
DESCRIPTION:
LOCATION:
SUMMARY:Memorial Day (No School)
END:VEVENT
BEGIN:VEVENT
DTSTAMP:20260419T125925Z
UID:80e9c756-4b75-4a16-9fe0-b02ef75f0d81
DTSTART:20260527T080000
DTEND:20260527T090000
DESCRIPTION:
LOCATION:
SUMMARY:Recognition Ceremony 3rd Grade
END:VEVENT
BEGIN:VEVENT
DTSTAMP:20260419T125925Z
UID:3d64afa1-9f15-41ae-b8b7-da2460091757
DTSTART:20260527T090000
DTEND:20260527T100000
DESCRIPTION:
LOCATION:
SUMMARY:Recognition Ceremony 4th Grade
END:VEVENT
BEGIN:VEVENT
DTSTAMP:20260419T125925Z
UID:d2411b99-1755-49df-b5f9-b88ff915fe83
DTSTART;VALUE=DATE:20260529
DTEND;VALUE=DATE:20260530
DESCRIPTION:
LOCATION:
SUMMARY:End of 4th Nine Weeks/2nd Semester
END:VEVENT
BEGIN:VEVENT
DTSTAMP:20260419T125925Z
UID:ec52eb77-c033-4dad-bd56-7b4a010163db
DTSTART;VALUE=DATE:20260529
DTEND;VALUE=DATE:20260530
DESCRIPTION:
LOCATION:
SUMMARY:Last Day for Students/Report Card Distribution
END:VEVENT
BEGIN:VEVENT
DTSTAMP:20260419T125925Z
UID:512d83fe-a18a-4a65-b6a4-b40a78714dc6
DTSTART;VALUE=DATE:20260529
DTEND;VALUE=DATE:20260530
DESCRIPTION:
LOCATION:
SUMMARY:Report Card Distribution
END:VEVENT
BEGIN:VEVENT
DTSTAMP:20260419T125925Z
UID:27dae924-328c-4fe1-a141-1f7dd6c663d0
DTSTART:20260624T080000
DTEND:20260624T140000
DESCRIPTION:
LOCATION:
SUMMARY:Kindergarten Screenings 
END:VEVENT
BEGIN:VEVENT
DTSTAMP:20260419T125925Z
UID:3809a7d0-adb1-4d1f-b0fb-014472062ece
DTSTART:20260625T080000
DTEND:20260625T140000
DESCRIPTION:
LOCATION:
SUMMARY:Kindergarten Screening
END:VEVENT
BEGIN:VEVENT
DTSTAMP:20260419T125925Z
UID:a4ab3e5d-fa70-4234-807a-eb80dbf7b429
DTSTART:20260722T080000
DTEND:20260722T140000
DESCRIPTION:
LOCATION:
SUMMARY:Kindergarten Screenings
END:VEVENT
BEGIN:VEVENT
DTSTAMP:20260419T125925Z
UID:06cd3644-46ff-42fb-946a-ce600b78bc0b
DTSTART:20260723T080000
DTEND:20260723T140000
DESCRIPTION:
LOCATION:
SUMMARY:Kindergarten Screenings
END:VEVENT
BEGIN:VEVENT
DTSTAMP:20260419T125925Z
UID:423222ad-f9b6-4e33-8abc-b905942476ff
DTSTART;VALUE=DATE:20260811
DTEND;VALUE=DATE:20260812
DESCRIPTION:
LOCATION:
SUMMARY:Students return
END:VEVENT
BEGIN:VEVENT
DTSTAMP:20260419T125925Z
UID:144479db-ab59-4bbe-a0a1-52dc479a016c
DTSTART;VALUE=DATE:20260904
DTEND;VALUE=DATE:20260905
DESCRIPTION:
LOCATION:
SUMMARY:Early Release/Professional Development for Staff
END:VEVENT
BEGIN:VEVENT
DTSTAMP:20260419T125925Z
UID:9894022b-fe76-435e-9484-ec2592ccf955
DTSTART;VALUE=DATE:20260907
DTEND;VALUE=DATE:20260908
DESCRIPTION:
LOCATION:
SUMMARY:Labor Day/No School
END:VEVENT
BEGIN:VEVENT
DTSTAMP:20260419T125925Z
UID:f3dbcd2c-8e87-40ca-bf7f-5fa199104537
DTSTART;VALUE=DATE:20261009
DTEND;VALUE=DATE:20261010
DESCRIPTION:
LOCATION:
SUMMARY:Early Release/Professional Development for Staff
END:VEVENT
BEGIN:VEVENT
DTSTAMP:20260419T125925Z
UID:8eebc1cd-5038-4935-b5d5-df8e8fe1d1d5
DTSTART;VALUE=DATE:20261009
DTEND;VALUE=DATE:20261010
DESCRIPTION:
LOCATION:
SUMMARY:End of 1st 9 weeks
END:VEVENT
BEGIN:VEVENT
DTSTAMP:20260419T125925Z
UID:86e5200f-f031-47e1-9501-e46a924242aa
DTSTART;VALUE=DATE:20261012
DTEND;VALUE=DATE:20261013
DESCRIPTION:
LOCATION:
SUMMARY:No School
END:VEVENT
BEGIN:VEVENT
DTSTAMP:20260419T125925Z
UID:3c479b1f-cb8c-4687-808b-9a567b750897
DTSTART;VALUE=DATE:20261013
DTEND;VALUE=DATE:20261014
DESCRIPTION:
LOCATION:
SUMMARY:Teacher Work Day/Students out
END:VEVENT
BEGIN:VEVENT
DTSTAMP:20260419T125925Z
UID:960e12b0-7980-465c-a4c2-bc277a9f8114
DTSTART;VALUE=DATE:20261111
DTEND;VALUE=DATE:20261112
DESCRIPTION:
LOCATION:
SUMMARY:No School Veterans Day
END:VEVENT
BEGIN:VEVENT
DTSTAMP:20260419T125925Z
UID:a13cbe97-d6ee-4db5-96c8-1b6ccca4538e
DTSTART;VALUE=DATE:20261123
DTEND;VALUE=DATE:20261128
DESCRIPTION:
LOCATION:
SUMMARY:Thanksgiving Break/No School
END:VEVENT
BEGIN:VEVENT
DTSTAMP:20260419T125925Z
UID:80c1ca1a-7d92-42e9-bc7f-a9047ce27b39
DTSTART;VALUE=DATE:20261218
DTEND;VALUE=DATE:20261219
DESCRIPTION:
LOCATION:
SUMMARY:End of 2nd  9 weeks/End of Semester
END:VEVENT
BEGIN:VEVENT
DTSTAMP:20260419T125925Z
UID:f68ac985-a123-4ef8-9006-cf614f88a188
DTSTART;VALUE=DATE:20261221
DTEND;VALUE=DATE:20270102
DESCRIPTION:
LOCATION:
SUMMARY:Christmas and New Year Holiday
END:VEVENT
BEGIN:VEVENT
DTSTAMP:20260419T125925Z
UID:d34327a3-c999-413c-915b-3b8d3d97517a
DTSTART;VALUE=DATE:20270104
DTEND;VALUE=DATE:20270105
DESCRIPTION:
LOCATION:
SUMMARY:Teacher Work Day/Students out
END:VEVENT
BEGIN:VEVENT
DTSTAMP:20260419T125925Z
UID:905408ac-a148-4853-b0ea-c00955f2e723
DTSTART;VALUE=DATE:20270105
DTEND;VALUE=DATE:20270106
DESCRIPTION:
LOCATION:
SUMMARY:Professional Development Day for Teachers/students out
END:VEVENT
BEGIN:VEVENT
DTSTAMP:20260419T125925Z
UID:4acd6f15-48f8-41b7-b362-7cf770396c3c
DTSTART;VALUE=DATE:20270106
DTEND;VALUE=DATE:20270107
DESCRIPTION:
LOCATION:
SUMMARY:Students Return
END:VEVENT
BEGIN:VEVENT
DTSTAMP:20260419T125925Z
UID:3599e9ac-b62e-4c11-b86a-92c6fa8088c3
DTSTART;VALUE=DATE:20270118
DTEND;VALUE=DATE:20270119
DESCRIPTION:
LOCATION:
SUMMARY:Martin Luther King Day (NO SCHOOL)
END:VEVENT
BEGIN:VEVENT
DTSTAMP:20260419T125925Z
UID:6dfde877-cb4d-4f3f-9e1a-7975cb934211
DTSTART;VALUE=DATE:20270215
DTEND;VALUE=DATE:20270216
DESCRIPTION:
LOCATION:
SUMMARY:President's Day/NO SCHOOL
END:VEVENT
BEGIN:VEVENT
DTSTAMP:20260419T125925Z
UID:6261e2bd-2fba-455c-a95d-0d72b1eb4a3d
DTSTART;VALUE=DATE:20270318
DTEND;VALUE=DATE:20270319
DESCRIPTION:
LOCATION:
SUMMARY:End of 3rd 9 weeks
END:VEVENT
BEGIN:VEVENT
DTSTAMP:20260419T125925Z
UID:994e6b3a-54ff-43d2-9256-29fc370dbe2f
DTSTART;VALUE=DATE:20270318
DTEND;VALUE=DATE:20270319
DESCRIPTION:
LOCATION:
SUMMARY:Professional Development Day for Teachers/students out
END:VEVENT
BEGIN:VEVENT
DTSTAMP:20260419T125925Z
UID:fac2f264-9859-43f5-82bc-860f6fe93019
DTSTART;VALUE=DATE:20270319
DTEND;VALUE=DATE:20270320
DESCRIPTION:
LOCATION:
SUMMARY:Teacher Work Day/Students out
END:VEVENT
BEGIN:VEVENT
DTSTAMP:20260419T125925Z
UID:dbdf2f89-84ab-4cea-a019-d86df2e209b9
DTSTART;VALUE=DATE:20270322
DTEND;VALUE=DATE:20270327
DESCRIPTION:
LOCATION:
SUMMARY:Spring Break/NO SCHOOL
END:VEVENT
BEGIN:VEVENT
DTSTAMP:20260419T125925Z
UID:b739bf58-6cb0-4fc7-8532-d8f0e972a1bb
DTSTART;VALUE=DATE:20270528
DTEND;VALUE=DATE:20270529
DESCRIPTION:
LOCATION:
SUMMARY:Last Day For Students/End of 4th 9 weeks/End of 2nd Semester
END:VEVENT
END:VCALENDAR
